From mboxrd@z Thu Jan  1 00:00:00 1970
Return-Path: <test-report-bounces@dpdk.org>
Received: from mails.dpdk.org (mails.dpdk.org [217.70.189.124])
	by inbox.dpdk.org (Postfix) with ESMTP id C5769461BA
	for <public@inbox.dpdk.org>; Fri,  7 Feb 2025 13:25:35 +0100 (CET)
Received: from mails.dpdk.org (localhost [127.0.0.1])
	by mails.dpdk.org (Postfix) with ESMTP id B641842798;
	Fri,  7 Feb 2025 13:25:35 +0100 (CET)
Received: from mail-pl1-f225.google.com (mail-pl1-f225.google.com
 [209.85.214.225])
 by mails.dpdk.org (Postfix) with ESMTP id 3615540DFD
 for <test-report@dpdk.org>; Fri,  7 Feb 2025 13:25:34 +0100 (CET)
Received: by mail-pl1-f225.google.com with SMTP id
 d9443c01a7336-21f0444b478so29213795ad.0
 for <test-report@dpdk.org>; Fri, 07 Feb 2025 04:25:34 -0800 (PST)
DKIM-Signature: v=1; a=rsa-sha256; c=relaxed/relaxed;
 d=iol.unh.edu; s=unh-iol; t=1738931133; x=1739535933; darn=dpdk.org;
 h=references:in-reply-to:cc:to:from:subject:message-id:date:from:to
 :cc:subject:date:message-id:reply-to;
 bh=O5xfyI7XpYSgtq48yKITOfqoKmcD1xDV3yLUQT5bVCg=;
 b=LPDRfu61zbjDfEWGeOz5A/pV5UI1BC8382bFQx4fY65RncanSz+o4htWlnwvHSrYFY
 1PA0XgFAROTB00QZ2u5O2NkmH93OUh65BENWX9ITNr0gm9umBBA7iYQ3kxDmr+mE68N6
 HEAoHH5ykwv7mO1rkzUaqZ+Eoln6e3ekBaopg=
X-Google-DKIM-Signature: v=1; a=rsa-sha256; c=relaxed/relaxed;
 d=1e100.net; s=20230601; t=1738931133; x=1739535933;
 h=references:in-reply-to:cc:to:from:subject:message-id:date
 :x-gm-message-state:from:to:cc:subject:date:message-id:reply-to;
 bh=O5xfyI7XpYSgtq48yKITOfqoKmcD1xDV3yLUQT5bVCg=;
 b=TAb0fFcVj+EEaHC8mYZi2TMj6FjO3qxIbWNU2QNOU77uM9jlSqG9BtgBc77q9FL/oJ
 skMEZfCd6lisdbIECJSZIEEd6YkzhbCcHeVV+qO9R47rXAfEzxrF5GjFXqY2q53nAOkG
 /yFg5NR946TS7TEVPV7kqtjQFwv/WLnD869r2KN//YMsl4B4+hMNXXjId7GlyeJr9Lxv
 Zp5Xy8T7ga3opkZnf6zPIGfxq0W0coxjspK5XkeUYjWueKULtJObPkEVr/cWQrkCPpAO
 dHb7kN7E1C5s226iF2ePmqXvZ2SaEGODDXIBwR+FL33P12P8MLJhxDQbMHDtqtT+4tbC
 N3Xg==
X-Gm-Message-State: AOJu0YwkdF+2LYgMHcP0tuZLEgHBixSAjz/88gtURMijKfiNxB5O8Hxw
 CE9h9tmcXrVHFPHaXlyfqDYLKRnEHQqHpQWSttu5WHwvMVvQT+hzwwwtcYbKUA3AAFiiByCIZv3
 uQZVy8/1x721b1JUx224OSodagvSz1OPBg4gVsqGS1eOotvX7c9muQqF0
X-Gm-Gg: ASbGncvY5s/EsRumhmuH5z5p2QJR9GrwQmBojte36yNm8WMHz76vakB5IiwtYNBioAh
 YfTDD7Bnw+7toE1t8wykfQKkENlRHM8D+ZhvFpsM3TftOulU0Zk7qwYhw0ermv+KdfBZHv8LwPJ
 nh+SOywBgqdgJe4RE2gfV+LRY1iRfzH1BrfKagJY+Q4EpOP3CYQqN7ccrOKA8MnKi9ETDVx2ALX
 kIqzDoIaEsEBdPmfnBuCyb/LbWQ+segk07C4tA6WeQZUmP4tEz1rd64r5If+PikJt7jeUknuYaV
 hYJIg5MFWneLCM6+JmErSjZV3JKTSPwXWtd0A5jbiA==
X-Google-Smtp-Source: AGHT+IFai7wLw7EqJiU29wfURXciGHsfw/J6dQ+ZZC5E/sNZ3VVSx3TswLPTTf32gPeqU7AfnsB/Rzzm0T7g
X-Received: by 2002:a17:902:ea05:b0:21f:3abc:b9fc with SMTP id
 d9443c01a7336-21f4e6a0397mr40354525ad.6.1738931133222; 
 Fri, 07 Feb 2025 04:25:33 -0800 (PST)
Received: from postal.iol.unh.edu (postal.iol.unh.edu.
 [2606:4100:3880:1234::84]) by smtp-relay.gmail.com with ESMTPS id
 d9443c01a7336-21f3656b252sm1745545ad.53.2025.02.07.04.25.33
 (version=TLS1_2 cipher=ECDHE-ECDSA-AES128-GCM-SHA256 bits=128/128);
 Fri, 07 Feb 2025 04:25:33 -0800 (PST)
X-Relaying-Domain: iol.unh.edu
Date: Fri, 07 Feb 2025 04:25:33 -0800 (PST)
Message-ID: <67a5fbbd.170a0220.807af.8db2SMTPIN_ADDED_MISSING@mx.google.com>
Received: from [172.21.0.5] (unknown [172.18.0.240])
 by postal.iol.unh.edu (Postfix) with ESMTP id 5837E6052471;
 Fri,  7 Feb 2025 07:25:32 -0500 (EST)
Subject: |SUCCESS| pw151079-151088 [PATCH] [RFC,10/10] eal: deprecate weak sy
From: dpdklab@iol.unh.edu
To: Test Report <test-report@dpdk.org>
Cc: dpdk-test-reports@iol.unh.edu
In-Reply-To: <20250207083252.3131588-11-david.marchand@redhat.com>
References: <20250207083252.3131588-11-david.marchand@redhat.com>
Content-Type: text/plain
X-BeenThere: test-report@dpdk.org
X-Mailman-Version: 2.1.29
Precedence: list
List-Id: automatic DPDK test reports <test-report.dpdk.org>
List-Unsubscribe: <https://mails.dpdk.org/options/test-report>,
 <mailto:test-report-request@dpdk.org?subject=unsubscribe>
List-Archive: <http://mails.dpdk.org/archives/test-report/>
List-Post: <mailto:test-report@dpdk.org>
List-Help: <mailto:test-report-request@dpdk.org?subject=help>
List-Subscribe: <https://mails.dpdk.org/listinfo/test-report>,
 <mailto:test-report-request@dpdk.org?subject=subscribe>
Errors-To: test-report-bounces@dpdk.org

Test-Label: iol-compile-amd64-testing
Test-Status: SUCCESS
http://dpdk.org/patch/151088

_Testing PASS_

Submitter: David Marchand <david.marchand@redhat.com>
Date: Friday, February 07 2025 08:32:50 
DPDK git baseline: Repo:dpdk
  Branch: master
  CommitID:1bf86800f7daf8d5c71a08a0776ff3b754ee6570

151079-151088 --> testing pass

Upstream job id: Generic-VM-DPDK-Compile-Meson#33128

Test environment and result as below:

+---------------------+-------------------------+--------------------+-------------------+
|     Environment     | dpdk_llvm_clang_compile | dpdk_meson_compile | dpdk_msvc_compile |
+=====================+=========================+====================+===================+
| Windows Server 2022 | PASS                    | SKIPPED            | PASS              |
+---------------------+-------------------------+--------------------+-------------------+
| FreeBSD 13.4        | SKIPPED                 | PASS               | SKIPPED           |
+---------------------+-------------------------+--------------------+-------------------+
| FreeBSD 14.2        | SKIPPED                 | PASS               | SKIPPED           |
+---------------------+-------------------------+--------------------+-------------------+


Windows Server 2022
	Kernel: 10.0.20348.2031
	Compiler: clang 15.0.7, gcc 14.1.0 (MinGW), and MSVC VS 19.39.33521

FreeBSD 13.4
	Kernel: 13.4-RELEASE-p1
	Compiler: clang 18.1.6

FreeBSD 14.2
	Kernel: 14.2-RELEASE
	Compiler: clang 18.1.6

To view detailed results, visit:
https://lab.dpdk.org/results/dashboard/patchsets/32520/

UNH-IOL DPDK Community Lab

To manage your email subscriptions, visit: 
https://lab.dpdk.org/results/dashboard/preferences/subscriptions/