From mboxrd@z Thu Jan 1 00:00:00 1970 Return-Path: Received: from mails.dpdk.org (mails.dpdk.org [217.70.189.124]) by inbox.dpdk.org (Postfix) with ESMTP id 72C91461BC for ; Fri, 7 Feb 2025 14:21:38 +0100 (CET) Received: from mails.dpdk.org (localhost [127.0.0.1]) by mails.dpdk.org (Postfix) with ESMTP id 3E936410F2; Fri, 7 Feb 2025 14:21:38 +0100 (CET) Received: from mail-pl1-f228.google.com (mail-pl1-f228.google.com [209.85.214.228]) by mails.dpdk.org (Postfix) with ESMTP id A98AE40E45 for ; Fri, 7 Feb 2025 14:21:36 +0100 (CET) Received: by mail-pl1-f228.google.com with SMTP id d9443c01a7336-21c2f1b610dso50210015ad.0 for ; Fri, 07 Feb 2025 05:21:36 -0800 (PST) DKIM-Signature: v=1; a=rsa-sha256; c=relaxed/relaxed; d=iol.unh.edu; s=unh-iol; t=1738934496; x=1739539296; darn=dpdk.org; h=references:in-reply-to:cc:to:from:subject:message-id:date:from:to :cc:subject:date:message-id:reply-to; bh=SCXosU7clpPs0DMN2afeK15HEWJWUb8qyfhArACGC6w=; b=OzWNpC3Ns7Ropr4hjau2lnCXLUAnVqH7R8STX2JnlyinmGvat45qD+VtEAamSasV3p /JfNWzHXxeHJR/5/UxeeFemnTMfhv0CVD3CP4/gmmAcAAXAOvSbF8y7YUcupnimp/Tp4 d5dMMqjg6+tX5tIU87RN0eY8Q62JwCrDpzwq0= X-Google-DKIM-Signature: v=1; a=rsa-sha256; c=relaxed/relaxed; d=1e100.net; s=20230601; t=1738934496; x=1739539296; h=references:in-reply-to:cc:to:from:subject:message-id:date :x-gm-message-state:from:to:cc:subject:date:message-id:reply-to; bh=SCXosU7clpPs0DMN2afeK15HEWJWUb8qyfhArACGC6w=; b=jxLSlIF7qTGeemwfJxKG88ov8QLKJHfGiqwdxYLhoOofkabd5bQyG1fnNwmD/VdbgG 0ESe7asqlMPvC3qbaMsgcxpWhaiEH0cfgvzaSyHvLAS5eAkbViJjp+bLKM45ggIYQTl2 BZAJV1RnTQwMw6u2geJIS8RNqZj4EfOnG+l8KqSCZ2zRlTpjeP5kUxkzz6LnNeI/RzWj zH273b+6AWmT3gq0GbRSOjxBOk2WnvgW1zl1+WjEbx6rCtDF4Ovqn1NSYVtvvVOXwRSj OYCjRSk8OMMpVbLkDWCGqESIhzFnimkllWZRDhx9Us6w+lLfMzXEPJNShUxGoLGsXD+9 XZgA== X-Gm-Message-State: AOJu0YyjJsE4SgbFDgD6bz1LNCYgrqTZ76yQLQUsuwSNm740O9rsTTsG UurmFjksBuDMr3Pe94sqHNwKr5XKQ4Y5glNt/gby6BETcC5KNqc/tHaV2XdSBCvN0VBPNpWtoSp +JBeWyKSCcNxS4lIXRk4FX9ci0lmkHZRJTAbgYzFH7GpZrTI7oQyWaFH4 X-Gm-Gg: ASbGncuWtD/x/I7Mvjsr8wNrHfHaMU2apywaMZOj5TTMZFayPNkJVaSaJwRhkXfMwZ7 sm88S+Fk5VaEJsrIcM+21A7818Q/7WGHKNoWaTaI4mUE0O8HuGNCMTtO5myDwwxYJsCAfHUChCd 1RNdmBuyGA9DKoSqxp1Ca5Uq0n1haKoUV1i4ysOMgSi+8W+owtVhBAWGOqcD+4pa+5XVE+iSbf0 YelZOzit0mAV2WkNNXWnzgD9ndGp7V+VeYy0K5EaAUlJIwRFaFPwF/iXy1JeTWaLXuO4S39tz/Q jvTHb+T2E5D6Pb2Yr0HvBgsoKj7WRRJW+1m8QCp/kw== X-Google-Smtp-Source: AGHT+IGXfQLnx7Mm0IGs58N8w/7GXBf2CCgMmusTFNx3ZuQLTYT7PU8QHhRZEETxa3SXgGrAZusednChqGWx X-Received: by 2002:a17:903:1c9:b0:21d:3bee:990c with SMTP id d9443c01a7336-21f4e7c5f99mr47056875ad.42.1738934495773; Fri, 07 Feb 2025 05:21:35 -0800 (PST) Received: from postal.iol.unh.edu (postal.iol.unh.edu. [2606:4100:3880:1234::84]) by smtp-relay.gmail.com with ESMTPS id d9443c01a7336-21f36877caesm1685665ad.108.2025.02.07.05.21.35 (version=TLS1_2 cipher=ECDHE-ECDSA-AES128-GCM-SHA256 bits=128/128); Fri, 07 Feb 2025 05:21:35 -0800 (PST) X-Relaying-Domain: iol.unh.edu Date: Fri, 07 Feb 2025 05:21:35 -0800 (PST) Message-ID: <67a608df.170a0220.1eb914.9027SMTPIN_ADDED_MISSING@mx.google.com> Received: from [172.21.0.5] (unknown [172.18.0.240]) by postal.iol.unh.edu (Postfix) with ESMTP id 34BC86052471; Fri, 7 Feb 2025 08:21:35 -0500 (EST) Subject: |SUCCESS| pw151072-151073 [PATCH] [v8,2/2] net/af_xdp: Refactor af_x From: dpdklab@iol.unh.edu To: Test Report Cc: dpdk-test-reports@iol.unh.edu In-Reply-To: <20250206204645.1564535-3-ariel.otilibili@6wind.com> References: <20250206204645.1564535-3-ariel.otilibili@6wind.com> Content-Type: text/plain X-BeenThere: test-report@dpdk.org X-Mailman-Version: 2.1.29 Precedence: list List-Id: automatic DPDK test reports List-Unsubscribe: , List-Archive: List-Post: List-Help: List-Subscribe: , Errors-To: test-report-bounces@dpdk.org Test-Label: iol-compile-arm64-testing Test-Status: SUCCESS http://dpdk.org/patch/151073 _Testing PASS_ Submitter: Ariel Otilibili Date: Thursday, February 06 2025 20:46:45 DPDK git baseline: Repo:dpdk Branch: master CommitID:e5ece9ae686535f29ae72c03fec26dc16ff7a925 151072-151073 --> testing pass Upstream job id: Generic-DPDK-Compile-Meson#358896 Test environment and result as below: +----------------------------------------+--------------------+ | Environment | dpdk_meson_compile | +========================================+====================+ | RHEL9 (ARM) | PASS | +----------------------------------------+--------------------+ | Ubuntu 20.04 ARM GCC Cross Compile | PASS | +----------------------------------------+--------------------+ | Ubuntu 20.04 ARM SVE | PASS | +----------------------------------------+--------------------+ | Debian 12 with MUSDK | PASS | +----------------------------------------+--------------------+ | Fedora 40 (ARM) | PASS | +----------------------------------------+--------------------+ | Fedora 40 (ARM Clang) | PASS | +----------------------------------------+--------------------+ | Fedora 41 (ARM) | PASS | +----------------------------------------+--------------------+ | Fedora 41 (ARM Clang) | PASS | +----------------------------------------+--------------------+ | Ubuntu 20.04 (ARM) | PASS | +----------------------------------------+--------------------+ | Ubuntu 22.04 (ARM) | PASS | +----------------------------------------+--------------------+ | Ubuntu 24.04 (ARM) | PASS | +----------------------------------------+--------------------+ | Debian 11 (Buster) (ARM) | PASS | +----------------------------------------+--------------------+ | Debian 12 (arm) | PASS | +----------------------------------------+--------------------+ | Ubuntu 20.04 ARM Clang Cross Compile | PASS | +----------------------------------------+--------------------+ | Ubuntu 20.04 aarch32 GCC Cross Compile | PASS | +----------------------------------------+--------------------+ | CentOS Stream 9 (ARM) | PASS | +----------------------------------------+--------------------+ RHEL9 (ARM) Kernel: Depends on container host Compiler: gcc 11.5.0 20240719 (Red Hat 11.5.0-2) Ubuntu 20.04 ARM GCC Cross Compile Kernel: Depends on container host Compiler: aarch64-linux-gnu-gcc (Ubuntu 9.4.0-1ubuntu1~20.04.2) 9.4.0 Ubuntu 20.04 ARM SVE Kernel: Depends on container host Compiler: gcc (Ubuntu 10.5.0-1ubuntu1~20.04) 10.5.0 Debian 12 with MUSDK Kernel: Depends on container host Compiler: gcc (Debian 12.2.0-14) 12.2.0 Fedora 40 (ARM) Kernel: Depends on container host Compiler: gcc 14.2.1 20240912 (Red Hat 14.2.1-3) Fedora 40 (ARM Clang) Kernel: Depends on container host Compiler: clang 18.1.8 (Fedora 18.1.8-1.fc40) Fedora 41 (ARM) Kernel: Depends on container host Compiler: gcc 14.2.1 20240912 (Red Hat 14.2.1-3) Fedora 41 (ARM Clang) Kernel: Depends on container host Compiler: clang 19.1.5 (Fedora 19.1.5-1.fc41) Ubuntu 20.04 (ARM) Kernel: Depends on container host Compiler: gcc (Ubuntu 9.4.0-1ubuntu1~20.04.2) 9.4.0 Ubuntu 22.04 (ARM) Kernel: Depends on container host Compiler: gcc (Ubuntu 11.4.0-1ubuntu1~22.04) 11.4.0 Ubuntu 24.04 (ARM) Kernel: Depends on container host Compiler: gcc (Ubuntu 13.3.0-6ubuntu2~24.04) 13.3.0 Debian 11 (Buster) (ARM) Kernel: Depends on container host Compiler: gcc (Debian 10.2.1-6) 10.2.1 20210110 Debian 12 (arm) Kernel: Depends on container host Compiler: gcc (Debian 12.2.0-14) 12.2.0 Ubuntu 20.04 ARM Clang Cross Compile Kernel: Depends on container host Compiler: clang 10.0.0-4ubuntu1 Ubuntu 20.04 aarch32 GCC Cross Compile Kernel: Depends on container host Compiler: gcc 9.4.0 CentOS Stream 9 (ARM) Kernel: Depends on container host Compiler: gcc 11.5.0 20240719 (Red Hat 11.5.0-2) To view detailed results, visit: https://lab.dpdk.org/results/dashboard/patchsets/32515/ UNH-IOL DPDK Community Lab To manage your email subscriptions, visit: https://lab.dpdk.org/results/dashboard/preferences/subscriptions/