From mboxrd@z Thu Jan 1 00:00:00 1970 Return-Path: Received: from mails.dpdk.org (mails.dpdk.org [217.70.189.124]) by inbox.dpdk.org (Postfix) with ESMTP id 6BA43461BC for ; Fri, 7 Feb 2025 14:29:42 +0100 (CET) Received: from mails.dpdk.org (localhost [127.0.0.1]) by mails.dpdk.org (Postfix) with ESMTP id 5EA1442DBE; Fri, 7 Feb 2025 14:29:42 +0100 (CET) Received: from mail-pl1-f227.google.com (mail-pl1-f227.google.com [209.85.214.227]) by mails.dpdk.org (Postfix) with ESMTP id 97730410F2 for ; Fri, 7 Feb 2025 14:29:40 +0100 (CET) Received: by mail-pl1-f227.google.com with SMTP id d9443c01a7336-21f464b9a27so26884645ad.1 for ; Fri, 07 Feb 2025 05:29:40 -0800 (PST) DKIM-Signature: v=1; a=rsa-sha256; c=relaxed/relaxed; d=iol.unh.edu; s=unh-iol; t=1738934980; x=1739539780; darn=dpdk.org; h=references:in-reply-to:cc:to:from:subject:message-id:date:from:to :cc:subject:date:message-id:reply-to; bh=m5SvAHuv+0gUUWuhSzBQsM+rSADfYPMrG5yWX2uRIe4=; b=ibIUAqeAaHFenHlMgIFH2WcoUXEqhQj42t4F8L5QrhJx3/RZUt8WN/kxftg6Yhox4m 0+3KzUim9nWCH7cIj81JQh3ZcOt847q8OYJGl3zxGSnpn+KmpUPtv2Id6gZQfF3Pe7ni LYsVWd1lXUShUDOeQpSWh+Dyk9MSzhuVeIHRs= X-Google-DKIM-Signature: v=1; a=rsa-sha256; c=relaxed/relaxed; d=1e100.net; s=20230601; t=1738934980; x=1739539780; h=references:in-reply-to:cc:to:from:subject:message-id:date :x-gm-message-state:from:to:cc:subject:date:message-id:reply-to; bh=m5SvAHuv+0gUUWuhSzBQsM+rSADfYPMrG5yWX2uRIe4=; b=A/aoK9R457EbJoQaQEWb75/SA0wHLGGMz/s2Ob/sZCkARqVHRKuC+FZFJIlcElwtKi R2rP6tNeNPCHUuW5HBijTeIk4AGzosF+sQa0Gr86v1qzOhBzvCwVtv+3Gbw/voFO0+zU snzIT9Fta/R48K0OMntmtKhekHNmKjSFmhLl+g/QYru50dbVpW4y4m3+e++lRQABHeSr drRbQy90Rhcp9yJO34b5KLSaJhPmebtZaoEUo66pXlF8dSaiGH8AqQzuobMtIA4N9Ssv sidlVgZ6zXrEp8k0Ueg81T48Rq3Q0TxL8XUSaC0QOKCLNIa2HnjDhtaB9gcEsrBbHsY7 +JnA== X-Gm-Message-State: AOJu0YzhDXXbAWuF5ETLj83gqaM8A6gO8G5qy5QIl+VJoje4BIoGgF3F UuLEm5rz91DT2P0Spu7k3HcU4HOgbECxxRymOpPopu3mqSOAehZirdW+QFN0G+X4eQHOvouroit DDnxqQ6qL2c9DW2sqk28kZqfEMGGdKSXILhlpmWAp772zPEGX1hAHya7F X-Gm-Gg: ASbGncu/VpRFrERpL/Kvkv1jtTgSd/Z00GFBdgJ1ZHpsUUvjcHcNUu4KA8vFkumnT4s 2V8vrIraK24cFe4Da/CTzeiy0JY9jpRhZfrtemNg7wYrAudHJ0QbxWV00kQ6vCG3LGWoNyPD0JU M9GdCqyqRGFwUhY/TwUMm/6417mn+9pILQjuCkednZYTgSiqBK2I6NMifmgbNx/uKZ2Vl7ZVgM3 3nBA7R9/W9Uqsz3PWj3y5AmaACtVVo761B/Rm2tuKqLMn5R6GRJCuwA6LSHxzer+fTcGQAKGkhW uN9txd7oo5OGck2V/Kje1D223NMH+6po/B3c1ZsAuA== X-Google-Smtp-Source: AGHT+IEV4a5yC8pAQUQkcLAhCG/vTbZcoapdeMHoRoFaLfDBrFAHVHUo86Ql7MOu9wtRZN4aK3aAXNBgzRDj X-Received: by 2002:a17:903:2f8f:b0:216:4165:c05e with SMTP id d9443c01a7336-21f4e6cdf94mr60180965ad.24.1738934979708; Fri, 07 Feb 2025 05:29:39 -0800 (PST) Received: from postal.iol.unh.edu (postal.iol.unh.edu. [2606:4100:3880:1234::84]) by smtp-relay.gmail.com with ESMTPS id d9443c01a7336-21f3658d28bsm1830885ad.63.2025.02.07.05.29.39 (version=TLS1_2 cipher=ECDHE-ECDSA-AES128-GCM-SHA256 bits=128/128); Fri, 07 Feb 2025 05:29:39 -0800 (PST) X-Relaying-Domain: iol.unh.edu Date: Fri, 07 Feb 2025 05:29:39 -0800 (PST) Message-ID: <67a60ac3.170a0220.12578a.95dbSMTPIN_ADDED_MISSING@mx.google.com> Received: from [172.21.0.6] (unknown [172.18.0.240]) by postal.iol.unh.edu (Postfix) with ESMTP id 1D8996052471; Fri, 7 Feb 2025 08:29:39 -0500 (EST) Subject: |SUCCESS| pw151076-151077 [PATCH] [v1,2/2] net/r8169: add support fo From: dpdklab@iol.unh.edu To: Test Report Cc: dpdk-test-reports@iol.unh.edu In-Reply-To: <20250207031845.22168-3-howard_wang@realsil.com.cn> References: <20250207031845.22168-3-howard_wang@realsil.com.cn> Content-Type: text/plain X-BeenThere: test-report@dpdk.org X-Mailman-Version: 2.1.29 Precedence: list List-Id: automatic DPDK test reports List-Unsubscribe: , List-Archive: List-Post: List-Help: List-Subscribe: , Errors-To: test-report-bounces@dpdk.org Test-Label: iol-compile-arm64-testing Test-Status: SUCCESS http://dpdk.org/patch/151077 _Testing PASS_ Submitter: Howard Wang Date: Friday, February 07 2025 03:18:45 DPDK git baseline: Repo:dpdk Branch: master CommitID:e5ece9ae686535f29ae72c03fec26dc16ff7a925 151076-151077 --> testing pass Upstream job id: Generic-DPDK-Compile-Meson#358917 Test environment and result as below: +----------------------------------------+--------------------+ | Environment | dpdk_meson_compile | +========================================+====================+ | RHEL9 (ARM) | PASS | +----------------------------------------+--------------------+ | Ubuntu 20.04 ARM GCC Cross Compile | PASS | +----------------------------------------+--------------------+ | Ubuntu 20.04 ARM SVE | PASS | +----------------------------------------+--------------------+ | Debian 12 with MUSDK | PASS | +----------------------------------------+--------------------+ | Fedora 40 (ARM) | PASS | +----------------------------------------+--------------------+ | Fedora 40 (ARM Clang) | PASS | +----------------------------------------+--------------------+ | Fedora 41 (ARM) | PASS | +----------------------------------------+--------------------+ | Fedora 41 (ARM Clang) | PASS | +----------------------------------------+--------------------+ | Ubuntu 20.04 (ARM) | PASS | +----------------------------------------+--------------------+ | Ubuntu 22.04 (ARM) | PASS | +----------------------------------------+--------------------+ | Ubuntu 24.04 (ARM) | PASS | +----------------------------------------+--------------------+ | CentOS Stream 9 (ARM) | PASS | +----------------------------------------+--------------------+ | Debian 11 (Buster) (ARM) | PASS | +----------------------------------------+--------------------+ | Debian 12 (arm) | PASS | +----------------------------------------+--------------------+ | Ubuntu 20.04 ARM Clang Cross Compile | PASS | +----------------------------------------+--------------------+ | Ubuntu 20.04 aarch32 GCC Cross Compile | PASS | +----------------------------------------+--------------------+ RHEL9 (ARM) Kernel: Depends on container host Compiler: gcc 11.5.0 20240719 (Red Hat 11.5.0-2) Ubuntu 20.04 ARM GCC Cross Compile Kernel: Depends on container host Compiler: aarch64-linux-gnu-gcc (Ubuntu 9.4.0-1ubuntu1~20.04.2) 9.4.0 Ubuntu 20.04 ARM SVE Kernel: Depends on container host Compiler: gcc (Ubuntu 10.5.0-1ubuntu1~20.04) 10.5.0 Debian 12 with MUSDK Kernel: Depends on container host Compiler: gcc (Debian 12.2.0-14) 12.2.0 Fedora 40 (ARM) Kernel: Depends on container host Compiler: gcc 14.2.1 20240912 (Red Hat 14.2.1-3) Fedora 40 (ARM Clang) Kernel: Depends on container host Compiler: clang 18.1.8 (Fedora 18.1.8-1.fc40) Fedora 41 (ARM) Kernel: Depends on container host Compiler: gcc 14.2.1 20240912 (Red Hat 14.2.1-3) Fedora 41 (ARM Clang) Kernel: Depends on container host Compiler: clang 19.1.5 (Fedora 19.1.5-1.fc41) Ubuntu 20.04 (ARM) Kernel: Depends on container host Compiler: gcc (Ubuntu 9.4.0-1ubuntu1~20.04.2) 9.4.0 Ubuntu 22.04 (ARM) Kernel: Depends on container host Compiler: gcc (Ubuntu 11.4.0-1ubuntu1~22.04) 11.4.0 Ubuntu 24.04 (ARM) Kernel: Depends on container host Compiler: gcc (Ubuntu 13.3.0-6ubuntu2~24.04) 13.3.0 CentOS Stream 9 (ARM) Kernel: Depends on container host Compiler: gcc 11.5.0 20240719 (Red Hat 11.5.0-2) Debian 11 (Buster) (ARM) Kernel: Depends on container host Compiler: gcc (Debian 10.2.1-6) 10.2.1 20210110 Debian 12 (arm) Kernel: Depends on container host Compiler: gcc (Debian 12.2.0-14) 12.2.0 Ubuntu 20.04 ARM Clang Cross Compile Kernel: Depends on container host Compiler: clang 10.0.0-4ubuntu1 Ubuntu 20.04 aarch32 GCC Cross Compile Kernel: Depends on container host Compiler: gcc 9.4.0 To view detailed results, visit: https://lab.dpdk.org/results/dashboard/patchsets/32518/ UNH-IOL DPDK Community Lab To manage your email subscriptions, visit: https://lab.dpdk.org/results/dashboard/preferences/subscriptions/