From mboxrd@z Thu Jan 1 00:00:00 1970 Return-Path: Received: from mails.dpdk.org (mails.dpdk.org [217.70.189.124]) by inbox.dpdk.org (Postfix) with ESMTP id 28E8B461BC for ; Fri, 7 Feb 2025 14:40:45 +0100 (CET) Received: from mails.dpdk.org (localhost [127.0.0.1]) by mails.dpdk.org (Postfix) with ESMTP id 2FE5842DC1; Fri, 7 Feb 2025 14:40:44 +0100 (CET) Received: from mail-qt1-f225.google.com (mail-qt1-f225.google.com [209.85.160.225]) by mails.dpdk.org (Postfix) with ESMTP id B87D442DBE for ; Fri, 7 Feb 2025 14:40:42 +0100 (CET) Received: by mail-qt1-f225.google.com with SMTP id d75a77b69052e-467a3c85e11so13154161cf.2 for ; Fri, 07 Feb 2025 05:40:42 -0800 (PST) DKIM-Signature: v=1; a=rsa-sha256; c=relaxed/relaxed; d=iol.unh.edu; s=unh-iol; t=1738935642; x=1739540442; darn=dpdk.org; h=references:in-reply-to:cc:to:from:subject:message-id:date:from:to :cc:subject:date:message-id:reply-to; bh=HiA+suuYtx7bC4IP9SOSS58hUo69wuvaRLoVrEbUPE8=; b=OtkUFBNAk7ozrp2O/Ez0tlyuhA1CzwVFWtLDg7jFW14smbNe0ie4XC22BY7qGojdvW IrITeZmbQYumEDhg6iIQ3fEPZpJalNEio+5qJWeBZ4hbwiATv3cLN3nKuxNNY9ycAMUk vK9K7eJmiDQSuYzw494XR4EXCgixAS5Psjph0= X-Google-DKIM-Signature: v=1; a=rsa-sha256; c=relaxed/relaxed; d=1e100.net; s=20230601; t=1738935642; x=1739540442; h=references:in-reply-to:cc:to:from:subject:message-id:date :x-gm-message-state:from:to:cc:subject:date:message-id:reply-to; bh=HiA+suuYtx7bC4IP9SOSS58hUo69wuvaRLoVrEbUPE8=; b=oynggMMfANyMfBD5Z2kdbs4h+2mXxLKNRzwZ08oNf/oI0/iTF6Dx+Nhmj+6YwPNHzf Rey2FxE5hffqTtAFOZ/hev/x/xe4BWc1U1n12vXRpoigAlZZcLo4ba0NoNPEIPDMx5SW GfXVNs/pr2aonCBuZJZRFtUNozimmaGWEDnEq2YYtAN+fWwQXa7RSaElWSvlP/ZKstpJ 8wzA+dQP2g8h1rZXavOqlZeyNdajanUfwIPdY6DP4CLGR45mFAowhNvMQ74/KkvbHWUO vXaaWAGgpQ1Gj4RJuu5XiVEHsX/1BM435Npx6P0mTE8F2soM/M0XGja8rhB+b7Jf3+6F T2rQ== X-Gm-Message-State: AOJu0Yy54sFIWMmreYpUIwUHrWZp1LdjKN1astB24lOWDU2Rek5aj6Iq UHXDwg2n8fPgNb46tEE6ILEdOXMbJ3uLwFTU87xz2E6YlX3EmvoDU+gmc0z05xzNm2d5mLLCGpj jH36Bs9GNISGNHYiezls5KTZlIO2YNoiZIh3fDbZruo4X5LUxTwdf25hJ X-Gm-Gg: ASbGncua35Qwz9w89g1rXYOxDMJ+Mywql7j8CF+KSVkiKkQ1JKWH2bq2J5bGeNGkdyr eCAjYXv0/1O1XdwMHj8rVRxTO+ZLMMSQzTRmHmMFtH/3nPPML0RJ1yeLRscuRoBshy/awZudeFz yFI8BCd5dPG3+gsjVitRv5MnjY5qToCgBc2oooGZTG4+7DHU8Gu+zHCgjIUKCUDN/ZOc3k5m/U9 BUQKwWRRTc9xv7jIYeVWpHsvS9MRUJIptz0KxnooZRiuPrvrngppfCfxTdoSsfRztWRK1QjBcRw 9YxNEA6R5TOzJhovPw0FjVBC2oJjVVTt4dQ3hZxE2w== X-Google-Smtp-Source: AGHT+IG4Strp4DCqU2dkHTFEcYHtpwE/zYpyRcLAIOWvuoTvcIXkJhfTQDszcmQ3ZV52x8SUE2hLbzTzUtoP X-Received: by 2002:a05:622a:6099:b0:458:5716:fbd8 with SMTP id d75a77b69052e-47167b2e357mr45068241cf.32.1738935642078; Fri, 07 Feb 2025 05:40:42 -0800 (PST) Received: from postal.iol.unh.edu (postal.iol.unh.edu. [2606:4100:3880:1234::84]) by smtp-relay.gmail.com with ESMTPS id d75a77b69052e-471492baa09sm1389011cf.13.2025.02.07.05.40.42 (version=TLS1_2 cipher=ECDHE-ECDSA-AES128-GCM-SHA256 bits=128/128); Fri, 07 Feb 2025 05:40:42 -0800 (PST) X-Relaying-Domain: iol.unh.edu Date: Fri, 07 Feb 2025 05:40:42 -0800 (PST) Message-ID: <67a60d5a.c80a0220.120cc4.6fdeSMTPIN_ADDED_MISSING@mx.google.com> Received: from [172.21.0.7] (unknown [172.18.0.240]) by postal.iol.unh.edu (Postfix) with ESMTP id B402D6052471; Fri, 7 Feb 2025 08:40:41 -0500 (EST) Subject: |SUCCESS| pw151089 [PATCH] common/qat: fix incorrect size in the par From: dpdklab@iol.unh.edu To: Test Report Cc: dpdk-test-reports@iol.unh.edu In-Reply-To: <20250207095832.4032332-1-arkadiuszx.kusztal@intel.com> References: <20250207095832.4032332-1-arkadiuszx.kusztal@intel.com> Content-Type: text/plain X-BeenThere: test-report@dpdk.org X-Mailman-Version: 2.1.29 Precedence: list List-Id: automatic DPDK test reports List-Unsubscribe: , List-Archive: List-Post: List-Help: List-Subscribe: , Errors-To: test-report-bounces@dpdk.org Test-Label: iol-compile-amd64-testing Test-Status: SUCCESS http://dpdk.org/patch/151089 _Testing PASS_ Submitter: Arkadiusz Kusztal Date: Friday, February 07 2025 09:58:32 DPDK git baseline: Repo:dpdk Branch: master CommitID:7125636162d67b1c40ba6802a3ff4466d125d243 151089 --> testing pass Upstream job id: Windows-Compile-DPDK-Native#26518 Test environment and result as below: +---------------------+--------------------+-------------------+-------------------------+ | Environment | dpdk_meson_compile | dpdk_msvc_compile | dpdk_llvm_clang_compile | +=====================+====================+===================+=========================+ | FreeBSD 13.4 | PASS | SKIPPED | SKIPPED | +---------------------+--------------------+-------------------+-------------------------+ | FreeBSD 14.2 | PASS | SKIPPED | SKIPPED | +---------------------+--------------------+-------------------+-------------------------+ | Windows Server 2022 | SKIPPED | PASS | PASS | +---------------------+--------------------+-------------------+-------------------------+ FreeBSD 13.4 Kernel: 13.4-RELEASE-p1 Compiler: clang 18.1.6 FreeBSD 14.2 Kernel: 14.2-RELEASE Compiler: clang 18.1.6 Windows Server 2022 Kernel: 10.0.20348.2031 Compiler: clang 15.0.7, gcc 14.1.0 (MinGW), and MSVC VS 19.39.33521 To view detailed results, visit: https://lab.dpdk.org/results/dashboard/patchsets/32521/ UNH-IOL DPDK Community Lab To manage your email subscriptions, visit: https://lab.dpdk.org/results/dashboard/preferences/subscriptions/