From mboxrd@z Thu Jan 1 00:00:00 1970 Return-Path: Received: from mails.dpdk.org (mails.dpdk.org [217.70.189.124]) by inbox.dpdk.org (Postfix) with ESMTP id 9BD4F461BC for ; Fri, 7 Feb 2025 14:43:38 +0100 (CET) Received: from mails.dpdk.org (localhost [127.0.0.1]) by mails.dpdk.org (Postfix) with ESMTP id 7818242DC1; Fri, 7 Feb 2025 14:43:38 +0100 (CET) Received: from mail-ot1-f100.google.com (mail-ot1-f100.google.com [209.85.210.100]) by mails.dpdk.org (Postfix) with ESMTP id 9BCCD42DBE for ; Fri, 7 Feb 2025 14:43:36 +0100 (CET) Received: by mail-ot1-f100.google.com with SMTP id 46e09a7af769-724f4d99bc7so621725a34.1 for ; Fri, 07 Feb 2025 05:43:36 -0800 (PST) DKIM-Signature: v=1; a=rsa-sha256; c=relaxed/relaxed; d=iol.unh.edu; s=unh-iol; t=1738935815; x=1739540615; darn=dpdk.org; h=cc:to:from:subject:message-id:date:from:to:cc:subject:date :message-id:reply-to; bh=xvZgpPZvbBW8FXZmYqDvcK5BZYd2ePY/Y43tnXG80iY=; b=AaOY0OBw3unvwZ6zJr3zsX4+h7zZFBe3N1nSy/VuTTvcew6Hv2iOmsAyt5kZr7yZ+0 +L8AJlEm1+8/JmF+/HD4Sa8IgQdKZr8ZbPh8IBkbzDSbqiQ61t3XGNW8ne+YKr4hHlOn 8CWcjltmsgTH2PIlU/hoxbIu2WHgDX7XWEtCg= X-Google-DKIM-Signature: v=1; a=rsa-sha256; c=relaxed/relaxed; d=1e100.net; s=20230601; t=1738935815; x=1739540615; h=cc:to:from:subject:message-id:date:x-gm-message-state:from:to:cc :subject:date:message-id:reply-to; bh=xvZgpPZvbBW8FXZmYqDvcK5BZYd2ePY/Y43tnXG80iY=; b=SCM7yO6+kHhjqSiZFo9SiPv+3A1TtPBR2FCBAMyOkkSftJFGUBm39ABvUbbyTf02x6 DKH1K728N3lofwPV30Zk9UCyWPDY87s2H0WyNJUwIuxNtxVBBAFm9zHzE2C+3IqzyxSQ ZG6zeLJg/S0mI6ysGDT/W3cjMggTR9uZGfiVUFvci/IjWzEnVabb7MZPwAz9L80oQ5SA kuZ+NOvwoCmz/GezsFyUdKH/NRbrE2tS5n9aTpVIG/OQNwlOPTKyXExAIXOyoTiV5t1W ORSYqrSYXTKiYJuog55woGdyeCP0bSVXkiMq9zRoC0re9N7TIC4rXXvAI+2VEs1QwYd5 guGQ== X-Gm-Message-State: AOJu0Yz+j1TTxJ8940EpLeIJ5iL18eJM7zlQnn5c0hqZcm410ppYHfzF hXMuAImyzKXzs0aNwgiImJjqNHOhHwlCgrEKWoyJMB9aHD9OR4uGThaMa8vQmKI4xc0GrM7uuaU jvw6m0VJ1k/+x+BgW3NSCA4bSP4aZ1EiSDdZ7uSLLV9SQuf6FWWYf+VPj X-Gm-Gg: ASbGncugWiR5zWdZUBCKfUIfbl7HYW6tXnZFCwTw+XAYuAcWSn0ccWklXRlYHijqkRi WFAFOQgByhazC7AKl8PtXYFvbVNZSeEGv9pj2UH5ahLEygZ9g5ygYZSTnB+SebSuT4MuRSD1seZ vkHMtklBwO37B1YQo7W+2nQMdEK9wOAhxBnupklg6T26Km9WBvcmqp7dMNL732mBrc4GaHZzGQY qLFEu7JmO8P1M5dsAZOL1SVSGh7siJLzyKSR5lH9roHv/2hDeQ9aF6jcImeKCK5s50C+6C1qQy2 NruDDwXz5iG9bobR8lioHk1vQTtdR03QhkLZgjHhIA== X-Google-Smtp-Source: AGHT+IE0alhDDUhI/IuhJHIaWNyCbeGdELRSJO8ODGMWA4oXPKRUSClTQRpSmuYmMQfEzr/dvHGVv7K4Bl50 X-Received: by 2002:a05:6830:4991:b0:718:a1b:b2dc with SMTP id 46e09a7af769-726b87b1841mr2341650a34.4.1738935815481; Fri, 07 Feb 2025 05:43:35 -0800 (PST) Received: from postal.iol.unh.edu (postal.iol.unh.edu. [2606:4100:3880:1234::84]) by smtp-relay.gmail.com with ESMTPS id 586e51a60fabf-2b826012976sm172761fac.18.2025.02.07.05.43.35 (version=TLS1_2 cipher=ECDHE-ECDSA-AES128-GCM-SHA256 bits=128/128); Fri, 07 Feb 2025 05:43:35 -0800 (PST) X-Relaying-Domain: iol.unh.edu Date: Fri, 07 Feb 2025 05:43:35 -0800 (PST) Message-ID: <67a60e07.050a0220.327df0.917fSMTPIN_ADDED_MISSING@mx.google.com> Received: from [172.21.0.7] (unknown [172.18.0.240]) by postal.iol.unh.edu (Postfix) with ESMTP id E98E96052471; Fri, 7 Feb 2025 08:43:34 -0500 (EST) Subject: |SUCCESS| [GIT MASTER] e145d919d60b440c649abe6fd0d55c42357330f1 From: dpdklab@iol.unh.edu To: Test Report Cc: dpdk-test-reports@iol.unh.edu, Bruce Richardson Content-Type: text/plain X-BeenThere: test-report@dpdk.org X-Mailman-Version: 2.1.29 Precedence: list List-Id: automatic DPDK test reports List-Unsubscribe: , List-Archive: List-Post: List-Help: List-Subscribe: , Errors-To: test-report-bounces@dpdk.org _Testing PASS_ Branch: dpdk-next-net-intel e145d919d60b440c649abe6fd0d55c42357330f1 --> testing pass Upstream job id: Windows-Compile-DPDK-VS#4855 Test environment and result as below: +---------------------+--------------------+-------------------+ | Environment | dpdk_meson_compile | dpdk_msvc_compile | +=====================+====================+===================+ | FreeBSD 13.4 | PASS | SKIPPED | +---------------------+--------------------+-------------------+ | FreeBSD 14.2 | PASS | SKIPPED | +---------------------+--------------------+-------------------+ | Windows Server 2022 | SKIPPED | PASS | +---------------------+--------------------+-------------------+ FreeBSD 13.4 Kernel: 13.4-RELEASE-p1 Compiler: clang 18.1.6 FreeBSD 14.2 Kernel: 14.2-RELEASE Compiler: clang 18.1.6 Windows Server 2022 Kernel: 10.0.20348.2031 Compiler: clang 15.0.7, gcc 14.1.0 (MinGW), and MSVC VS 19.39.33521 To view detailed results, visit: https://lab.dpdk.org/results/dashboard/tarballs/32489/ UNH-IOL DPDK Community Lab To manage your email subscriptions, visit: https://lab.dpdk.org/results/dashboard/preferences/subscriptions/