From mboxrd@z Thu Jan 1 00:00:00 1970 Return-Path: Received: from mails.dpdk.org (mails.dpdk.org [217.70.189.124]) by inbox.dpdk.org (Postfix) with ESMTP id 93786461BC for ; Fri, 7 Feb 2025 14:45:48 +0100 (CET) Received: from mails.dpdk.org (localhost [127.0.0.1]) by mails.dpdk.org (Postfix) with ESMTP id 8D07A42DC1; Fri, 7 Feb 2025 14:45:48 +0100 (CET) Received: from mail-qv1-f99.google.com (mail-qv1-f99.google.com [209.85.219.99]) by mails.dpdk.org (Postfix) with ESMTP id E619C42DBE for ; Fri, 7 Feb 2025 14:45:46 +0100 (CET) Received: by mail-qv1-f99.google.com with SMTP id 6a1803df08f44-6d92e457230so20892346d6.1 for ; Fri, 07 Feb 2025 05:45:46 -0800 (PST) DKIM-Signature: v=1; a=rsa-sha256; c=relaxed/relaxed; d=iol.unh.edu; s=unh-iol; t=1738935946; x=1739540746; darn=dpdk.org; h=cc:to:from:subject:message-id:date:from:to:cc:subject:date :message-id:reply-to; bh=BEbzBHPpeCl7cDH8NXOrpHGebJ2gsbaxyJYIJjl/5q0=; b=OX8htuiF/QnRmk+lOEJuo2//I62ckdshiN5t0Yg2mq9X3J/lO8lBmORjtk7NYxK407 j1E0h3/GQ2/W9ouJUE974dO9tKkX6r10zkwmn9Q6tB5N5UZh5hH07gbsKChvVwqyP3xM Uh0E5homo2l7WI22gciNYZJFq8tgh8h+agxXQ= X-Google-DKIM-Signature: v=1; a=rsa-sha256; c=relaxed/relaxed; d=1e100.net; s=20230601; t=1738935946; x=1739540746; h=cc:to:from:subject:message-id:date:x-gm-message-state:from:to:cc :subject:date:message-id:reply-to; bh=BEbzBHPpeCl7cDH8NXOrpHGebJ2gsbaxyJYIJjl/5q0=; b=Odez3rHM/FBKnhXgk6OoH16CIfa9jkTNs+Ir5vZkUlboVkhvkU3rt8d7yTiZU5prUU HNOamj9tonIpLaV+wx9ni7z4Liodz4udvCyrC4tXk6TQdUh9PnoIeibSAAd7/ySnN/3D OrlgYs3xE7ft6teOOxjqtkmQmN6kVkryt2a3XIrhQgly0M+BWM70kYDPQNkiMEBTvGb3 Xix6jS5heMCNXi3eqrMIFDHh4/GgbpN4eeAM0LzhtsNE5aCMlgAxMy6k0QmkytMZIRy+ P/zVPwY46zQoFvFTO1wr8qNE/NVNQBGlR5f/IlDGy9kyjz+ngHqshEB8LG9xdxhubV18 XU5g== X-Gm-Message-State: AOJu0YyX76Y62wgYXEpCaXP4YPxpErPblE/j76Yj4euwfXdJWgQHZb35 eYAC1KDFyAzbxqd97VS52Acgpx1TW56eGDRqt3hcsxWEO1K3w62EoFjU5EVQk5Mw5pCRFh1I19V BIPNW8MjpN6PxuVtM5Ch9zMKcLJKCYPqHMu3AH5fyhjcjSQMkb8R74AFD X-Gm-Gg: ASbGncuAU4ZHDfs8pniiGjD24keGxcyt+xXseeMnjEi0A2wwVdBJ2sJBhpEHjFnYjqH ot2guGunFP+RzGVLGy+QkgllvS8+7KLCWrZ4BGWkOkIjFbZZYv/2F3M1+vrPZTK+NJqrk/bfY9S wRDZkzqU5MiOLZ6AQp2DrlnJH3B6VeBQDS84l5JsA7uv1r1oZiTothYf1qfxsamvvDWz1hTA6ND fEnYRRenXJRQeXII4oj5Z3sVb1E/dyoKt5bTRnDGTXGN0hkEy9BqXB2/TUGjGvQQkeblUtmGZKT taiwkxJgtY3j6TwaZxpq1RW1cWs3R15e3YWur4pxlA== X-Google-Smtp-Source: AGHT+IHk52jPGj9ZJXyF9Kq6sPqmCQeUFDFeKy2MI4SLz4KkC+qcdilEWRw1LKAFJWOZR/4+9TMlw8/Yz5pO X-Received: by 2002:a05:6214:4108:b0:6dd:c593:d999 with SMTP id 6a1803df08f44-6e4456fe942mr29386066d6.41.1738935946291; Fri, 07 Feb 2025 05:45:46 -0800 (PST) Received: from postal.iol.unh.edu (postal.iol.unh.edu. [2606:4100:3880:1234::84]) by smtp-relay.gmail.com with ESMTPS id 6a1803df08f44-6e43ba33f8csm2041196d6.5.2025.02.07.05.45.46 (version=TLS1_2 cipher=ECDHE-ECDSA-AES128-GCM-SHA256 bits=128/128); Fri, 07 Feb 2025 05:45:46 -0800 (PST) X-Relaying-Domain: iol.unh.edu Date: Fri, 07 Feb 2025 05:45:46 -0800 (PST) Message-ID: <67a60e8a.050a0220.30b5b.a663SMTPIN_ADDED_MISSING@mx.google.com> Received: from [172.21.0.7] (unknown [172.18.0.240]) by postal.iol.unh.edu (Postfix) with ESMTP id EB5836052471; Fri, 7 Feb 2025 08:45:45 -0500 (EST) Subject: |SUCCESS| [GIT MASTER] e145d919d60b440c649abe6fd0d55c42357330f1 From: dpdklab@iol.unh.edu To: Test Report Cc: dpdk-test-reports@iol.unh.edu, Bruce Richardson Content-Type: text/plain X-BeenThere: test-report@dpdk.org X-Mailman-Version: 2.1.29 Precedence: list List-Id: automatic DPDK test reports List-Unsubscribe: , List-Archive: List-Post: List-Help: List-Subscribe: , Errors-To: test-report-bounces@dpdk.org _Testing PASS_ Branch: dpdk-next-net-intel e145d919d60b440c649abe6fd0d55c42357330f1 --> testing pass Upstream job id: Generic-VM-DPDK-Compile-Meson#33132 Test environment and result as below: +---------------------+--------------------+-------------------+ | Environment | dpdk_meson_compile | dpdk_msvc_compile | +=====================+====================+===================+ | FreeBSD 13.4 | PASS | SKIPPED | +---------------------+--------------------+-------------------+ | FreeBSD 14.2 | PASS | SKIPPED | +---------------------+--------------------+-------------------+ | Windows Server 2022 | SKIPPED | PASS | +---------------------+--------------------+-------------------+ FreeBSD 13.4 Kernel: 13.4-RELEASE-p1 Compiler: clang 18.1.6 FreeBSD 14.2 Kernel: 14.2-RELEASE Compiler: clang 18.1.6 Windows Server 2022 Kernel: 10.0.20348.2031 Compiler: clang 15.0.7, gcc 14.1.0 (MinGW), and MSVC VS 19.39.33521 To view detailed results, visit: https://lab.dpdk.org/results/dashboard/tarballs/32489/ UNH-IOL DPDK Community Lab To manage your email subscriptions, visit: https://lab.dpdk.org/results/dashboard/preferences/subscriptions/