From mboxrd@z Thu Jan 1 00:00:00 1970 Return-Path: Received: from mails.dpdk.org (mails.dpdk.org [217.70.189.124]) by inbox.dpdk.org (Postfix) with ESMTP id 5E431461BC for ; Fri, 7 Feb 2025 14:49:47 +0100 (CET) Received: from mails.dpdk.org (localhost [127.0.0.1]) by mails.dpdk.org (Postfix) with ESMTP id 55EF742DC1; Fri, 7 Feb 2025 14:49:47 +0100 (CET) Received: from mail-io1-f97.google.com (mail-io1-f97.google.com [209.85.166.97]) by mails.dpdk.org (Postfix) with ESMTP id 9571842DBE for ; Fri, 7 Feb 2025 14:49:45 +0100 (CET) Received: by mail-io1-f97.google.com with SMTP id ca18e2360f4ac-844eb33827eso68578339f.2 for ; Fri, 07 Feb 2025 05:49:45 -0800 (PST) DKIM-Signature: v=1; a=rsa-sha256; c=relaxed/relaxed; d=iol.unh.edu; s=unh-iol; t=1738936185; x=1739540985; darn=dpdk.org; h=references:in-reply-to:cc:to:from:subject:message-id:date:from:to :cc:subject:date:message-id:reply-to; bh=byJOjKXHXUi2L8KDrhzVsY0xFTJmYm6FCJqZts7hxZc=; b=GyireoBwBrSLC2Ky2GBt77C9BbarG+nskfGSWonsTslLru5S1CtiAjLGJZ7FSaODic BIfO5gpZaL8apMYMM4H7uvNo8m8oC95r4R0mqhf0YHGrPl4lSr99yHw6zEhWEqogzNxO cwXqJeNZlsQmD9arertDUoT0Z0SW8MmmvAbz4= X-Google-DKIM-Signature: v=1; a=rsa-sha256; c=relaxed/relaxed; d=1e100.net; s=20230601; t=1738936185; x=1739540985; h=references:in-reply-to:cc:to:from:subject:message-id:date :x-gm-message-state:from:to:cc:subject:date:message-id:reply-to; bh=byJOjKXHXUi2L8KDrhzVsY0xFTJmYm6FCJqZts7hxZc=; b=nTSSbKinFuwoAsC1ldPEBESM+eZWhkHwQB9Xjkky2kJrvSW4vcsYda7c6LjdOgHCvc siWmkH0jtQxCRepoL8xvdKqz3tpenKlpXSHT6/v/cBWjFVwdIIFCK/95E3Qz3qgr0Caa Er9+dp6U2ok7j+sE/hsbhh9kNW4N+ZJvAESibgBL21MRUBdjcIIGwfWiH922TNr+nPNo s5NNYUydOZFGT76tpBGa9VedBOWpa6qN2j0FwsSHRut8Vzo8Tm6HP15k0POrllWA+KS2 q7oaKjnZCkCaHHzdIrVpxlBzQ0xJw/2b/GOg086neV0wtdSSsJJKg1hVzSQ8owNMJAuz Aamw== X-Gm-Message-State: AOJu0YxihjHbsqQd6dCH/Aft64iGiXlw6QW3lXbw2CBhnnuFv6hUiql1 KiijetiWSOwbl7dmxKZZp0BWanW2Sp/cWlHOVYXv/90PHtUwCUnAlqeEioQMk5iwV+z7UeUt7If 3V8K/6DdwoGwqt2SG/86Y4Ndbq/Ccsv2TMsxVYE6keJz5NsEZddbWxdh2 X-Gm-Gg: ASbGncv+0PWiGJTsSltpKmIJU1eQYQzPgr2OryIFxKV2BySuHrMSNImtUnVE8FkS5i/ 4OwRPurNwzsQczvEr7Jff9+4lXHDYD6LbBXOpI2eoUpN1wxbZJ74raDFE0xHsXiy+fqNcBItD3g t7/z2zZiRM/SAFrPYa8wg13WM9T3AAAgYTlLkdGQgivjHUcuchLboF03NU968k4SVodCyKUzzey iZ0OqnZfeI6cQfRNoTIJSlmuO+TYte9t4tGC05/vrE5UjZmj70jAggmrP7+TCFmKpVguKzcWxQL ULA0a4Ehjl0Csd3vYevg8a7Z+Rb5e1x+uheNHiS1dA== X-Google-Smtp-Source: AGHT+IH+QI7rGA0E9XSVVhmE5gRsVD5+XLYFazCx1DLfJQVlyUQ3OlnJZUFPe1vvaqy3sq8V9NCmJWXVDGbv X-Received: by 2002:a05:6e02:2181:b0:3cf:b87b:8fd4 with SMTP id e9e14a558f8ab-3d13dee4bb0mr22168495ab.15.1738936184804; Fri, 07 Feb 2025 05:49:44 -0800 (PST) Received: from postal.iol.unh.edu (postal.iol.unh.edu. [2606:4100:3880:1234::84]) by smtp-relay.gmail.com with ESMTPS id e9e14a558f8ab-3d05e8d92d4sm2365725ab.3.2025.02.07.05.49.44 (version=TLS1_2 cipher=ECDHE-ECDSA-AES128-GCM-SHA256 bits=128/128); Fri, 07 Feb 2025 05:49:44 -0800 (PST) X-Relaying-Domain: iol.unh.edu Date: Fri, 07 Feb 2025 05:49:44 -0800 (PST) Message-ID: <67a60f78.050a0220.2972b1.c72eSMTPIN_ADDED_MISSING@mx.google.com> Received: from [172.21.0.5] (unknown [172.18.0.240]) by postal.iol.unh.edu (Postfix) with ESMTP id 488DD6052471; Fri, 7 Feb 2025 08:49:44 -0500 (EST) Subject: |SUCCESS| pw151089 [PATCH] common/qat: fix incorrect size in the par From: dpdklab@iol.unh.edu To: Test Report Cc: dpdk-test-reports@iol.unh.edu In-Reply-To: <20250207095832.4032332-1-arkadiuszx.kusztal@intel.com> References: <20250207095832.4032332-1-arkadiuszx.kusztal@intel.com> Content-Type: text/plain X-BeenThere: test-report@dpdk.org X-Mailman-Version: 2.1.29 Precedence: list List-Id: automatic DPDK test reports List-Unsubscribe: , List-Archive: List-Post: List-Help: List-Subscribe: , Errors-To: test-report-bounces@dpdk.org Test-Label: iol-compile-amd64-testing Test-Status: SUCCESS http://dpdk.org/patch/151089 _Testing PASS_ Submitter: Arkadiusz Kusztal Date: Friday, February 07 2025 09:58:32 DPDK git baseline: Repo:dpdk Branch: master CommitID:7125636162d67b1c40ba6802a3ff4466d125d243 151089 --> testing pass Upstream job id: Windows-Compile-DPDK-Native#26519 Test environment and result as below: +---------------------+--------------------+-------------------+-------------------------+----------------------+ | Environment | dpdk_meson_compile | dpdk_msvc_compile | dpdk_llvm_clang_compile | dpdk_mingw64_compile | +=====================+====================+===================+=========================+======================+ | FreeBSD 13.4 | PASS | SKIPPED | SKIPPED | SKIPPED | +---------------------+--------------------+-------------------+-------------------------+----------------------+ | FreeBSD 14.2 | PASS | SKIPPED | SKIPPED | SKIPPED | +---------------------+--------------------+-------------------+-------------------------+----------------------+ | Windows Server 2022 | SKIPPED | PASS | PASS | PASS | +---------------------+--------------------+-------------------+-------------------------+----------------------+ FreeBSD 13.4 Kernel: 13.4-RELEASE-p1 Compiler: clang 18.1.6 FreeBSD 14.2 Kernel: 14.2-RELEASE Compiler: clang 18.1.6 Windows Server 2022 Kernel: 10.0.20348.2031 Compiler: clang 15.0.7, gcc 14.1.0 (MinGW), and MSVC VS 19.39.33521 To view detailed results, visit: https://lab.dpdk.org/results/dashboard/patchsets/32521/ UNH-IOL DPDK Community Lab To manage your email subscriptions, visit: https://lab.dpdk.org/results/dashboard/preferences/subscriptions/