From mboxrd@z Thu Jan 1 00:00:00 1970 Return-Path: Received: from mails.dpdk.org (mails.dpdk.org [217.70.189.124]) by inbox.dpdk.org (Postfix) with ESMTP id 737C8461BC for ; Fri, 7 Feb 2025 14:50:12 +0100 (CET) Received: from mails.dpdk.org (localhost [127.0.0.1]) by mails.dpdk.org (Postfix) with ESMTP id 716A642DC1; Fri, 7 Feb 2025 14:50:12 +0100 (CET) Received: from mail-io1-f98.google.com (mail-io1-f98.google.com [209.85.166.98]) by mails.dpdk.org (Postfix) with ESMTP id 7131B42DBE for ; Fri, 7 Feb 2025 14:50:10 +0100 (CET) Received: by mail-io1-f98.google.com with SMTP id ca18e2360f4ac-844e39439abso56309639f.1 for ; Fri, 07 Feb 2025 05:50:10 -0800 (PST) DKIM-Signature: v=1; a=rsa-sha256; c=relaxed/relaxed; d=iol.unh.edu; s=unh-iol; t=1738936210; x=1739541010; darn=dpdk.org; h=references:in-reply-to:cc:to:from:subject:message-id:date:from:to :cc:subject:date:message-id:reply-to; bh=yn0lEtsi6pTWZr4JXsTqn0QFEG6t/aVL3AjHY+UOBbo=; b=KqJEq7jahiVWySZ5xtcADweGgkMVfa+sPiXuSDZA1+xfuQzayhm1t3KahVlWv2Mta7 1m+0U/851L7qLEmE7jgacFmrZSGKKytxRtduswH0RXh8A0PvtiJwSxi25KeSCx/BHEh6 a2M6gEPO5RCxuUuFSyWKMw3tqEZirs6D12Fv0= X-Google-DKIM-Signature: v=1; a=rsa-sha256; c=relaxed/relaxed; d=1e100.net; s=20230601; t=1738936210; x=1739541010; h=references:in-reply-to:cc:to:from:subject:message-id:date :x-gm-message-state:from:to:cc:subject:date:message-id:reply-to; bh=yn0lEtsi6pTWZr4JXsTqn0QFEG6t/aVL3AjHY+UOBbo=; b=p68bnnhKdGDWmju6ijvyhUJXOju5ZmvOt1bAbDBtoKOpovgXStKtpmDXPffqYr7i5H sz4FsGRwuiKLKcOdBXOQUO1544LTHkzSEz4VaPYi+/4SrVL58HTHHReYNKPn4I2ad7Qd zjdwS7ZJl4d3MJMJW2xYyFNvwWGi4Ig05cRgJGNilc5sAzW7YMef+KTup/fOmcwRcAOH ZHo4BGNAs4XXIMUzIHZMHrj4UX1//bf/ZH1lScPvZbRWKoLUs2dahBJA7dFwnKnKFQ3G DJ+YjUaD0HsV0kD2N9PCcgo52N/1woOEtvnVJWcNQEo26gsX4bo5OSmO30Lw2ZT58yGZ w35w== X-Gm-Message-State: AOJu0YzN2FsKD3abQCwESCkqbMTIAE+ba/MzYTJGxSiWR2txqltLAQk+ QVqr5UiQ4twQqpd9CJhuG37wWRHOfNJ4WAsM1DZBzViN58oYgCXGqDAUPijJScWnmIcGNDzfetk 3QNL2IF0XF0E26f91s6CMuCK5IVKmtiZDj252LKiN X-Gm-Gg: ASbGncvQxdVnBEOVVrax0ETvy+GvMR3bophwjgVwZCfpY7oLHglR07NPd3kvhKBFzXn tX8izbVQAp2ebc5iMgdnMLU8hkgIAFiPrh4ZfdQuTOpJFMNpsOpjHd1giluYjPbm4NRozABRkr8 ZEWBDutBBOkxVe1pi7xHXV5LKPNyLy2X0liDrPCIgogxNmY4wrtouHrorSxfbuxN0YjprQnuufs yLQ5mZsphx6vl6tBxk23dMH64g6fcNhK6epE0CVX9gtHzI26L7H2l8aZNSgwVw+O1DD5NSJMKv6 sB9cuenE5Da3zN9d0VaWilZtajp5Yg== X-Google-Smtp-Source: AGHT+IFR6+nNxQujEYi0cLUHt1glfcd2SMKX482XTveL8MvpwAfW9TMoGIrpbzogpYw1q6QCCOAePF7Z8qh5 X-Received: by 2002:a05:6602:398f:b0:83a:639b:bc44 with SMTP id ca18e2360f4ac-854fd888fa3mr363559039f.3.1738936209763; Fri, 07 Feb 2025 05:50:09 -0800 (PST) Received: from postal.iol.unh.edu (postal.iol.unh.edu. [132.177.123.84]) by smtp-relay.gmail.com with ESMTPS id ca18e2360f4ac-854f67402c3sm21134939f.20.2025.02.07.05.50.09 (version=TLS1_2 cipher=ECDHE-ECDSA-AES128-GCM-SHA256 bits=128/128); Fri, 07 Feb 2025 05:50:09 -0800 (PST) X-Relaying-Domain: iol.unh.edu Date: Fri, 07 Feb 2025 05:50:09 -0800 (PST) Message-ID: <67a60f91.050a0220.3bd18c.b1a9SMTPIN_ADDED_MISSING@mx.google.com> Received: from [172.21.0.8] (unknown [172.18.0.240]) by postal.iol.unh.edu (Postfix) with ESMTP id 4F7006052471; Fri, 7 Feb 2025 08:50:09 -0500 (EST) Subject: |SUCCESS| pw151078 [PATCH] [v4] net: add thread-safe crc api From: dpdklab@iol.unh.edu To: Test Report Cc: dpdk-test-reports@iol.unh.edu In-Reply-To: <20250207063758.3971992-1-arkadiuszx.kusztal@intel.com> References: <20250207063758.3971992-1-arkadiuszx.kusztal@intel.com> Content-Type: text/plain X-BeenThere: test-report@dpdk.org X-Mailman-Version: 2.1.29 Precedence: list List-Id: automatic DPDK test reports List-Unsubscribe: , List-Archive: List-Post: List-Help: List-Subscribe: , Errors-To: test-report-bounces@dpdk.org Test-Label: iol-unit-amd64-testing Test-Status: SUCCESS http://dpdk.org/patch/151078 _Testing PASS_ Submitter: Arkadiusz Kusztal Date: Friday, February 07 2025 06:37:58 DPDK git baseline: Repo:dpdk Branch: master CommitID:7125636162d67b1c40ba6802a3ff4466d125d243 151078 --> testing pass Upstream job id: Generic-Unit-Test-DPDK#312693 Test environment and result as below: +---------------------+----------------+ | Environment | dpdk_unit_test | +=====================+================+ | CentOS Stream 9 | PASS | +---------------------+----------------+ | Debian Bullseye | PASS | +---------------------+----------------+ | Fedora 40 | PASS | +---------------------+----------------+ | Debian 12 | PASS | +---------------------+----------------+ | Fedora 41 | PASS | +---------------------+----------------+ | Fedora 40 (Clang) | PASS | +---------------------+----------------+ | Fedora 41 (Clang) | PASS | +---------------------+----------------+ | Ubuntu 20.04 | PASS | +---------------------+----------------+ | RHEL9 | PASS | +---------------------+----------------+ | RHEL8 | PASS | +---------------------+----------------+ | Ubuntu 22.04 | PASS | +---------------------+----------------+ | Ubuntu 24.04 | PASS | +---------------------+----------------+ | Windows Server 2022 | PASS | +---------------------+----------------+ CentOS Stream 9 Kernel: Depends on container host Compiler: gcc 11.5.0 20240719 (Red Hat 11.5.0-2) Debian Bullseye Kernel: Depends on container host Compiler: gcc (Debian 10.2.1-6) 10.2.1 20210110 Fedora 40 Kernel: Depends on container host Compiler: gcc 14.2.1 20240912 (Red Hat 14.2.1-3) Debian 12 Kernel: Depends on container host Compiler: gcc (Debian 12.2.0-14) 12.2.0 Fedora 41 Kernel: Depends on container host Compiler: gcc 14.2.1 20240912 (Red Hat 14.2.1-3) Fedora 40 (Clang) Kernel: Depends on container host Compiler: clang 18.1.8 (Fedora 18.1.8-1.fc40) Fedora 41 (Clang) Kernel: Depends on container host Compiler: clang 19.1.5 (Fedora 19.1.5-1.fc41) Ubuntu 20.04 Kernel: Depends on container host Compiler: gcc (Ubuntu 9.4.0-1ubuntu1~20.04.2) 9.4.0 RHEL9 Kernel: Depends on container host Compiler: gcc 11.5.0 20240719 (Red Hat 11.5.0-2) RHEL8 Kernel: Depends on container host Compiler: gcc 8.5.0 20210514 (Red Hat 8.5.0-22) Ubuntu 22.04 Kernel: Depends on container host Compiler: gcc (Ubuntu 11.4.0-1ubuntu1~22.04) 11.4.0 Ubuntu 24.04 Kernel: Depends on container host Compiler: gcc (Ubuntu 13.3.0-6ubuntu2~24.04) 13.3.0 Windows Server 2022 Kernel: 10.0.20348.2031 Compiler: clang 15.0.7, gcc 14.1.0 (MinGW), and MSVC VS 19.39.33521 To view detailed results, visit: https://lab.dpdk.org/results/dashboard/patchsets/32519/ UNH-IOL DPDK Community Lab To manage your email subscriptions, visit: https://lab.dpdk.org/results/dashboard/preferences/subscriptions/