From mboxrd@z Thu Jan 1 00:00:00 1970 Return-Path: Received: from mails.dpdk.org (mails.dpdk.org [217.70.189.124]) by inbox.dpdk.org (Postfix) with ESMTP id C1ECE461BC for ; Fri, 7 Feb 2025 14:59:16 +0100 (CET) Received: from mails.dpdk.org (localhost [127.0.0.1]) by mails.dpdk.org (Postfix) with ESMTP id A439542DE4; Fri, 7 Feb 2025 14:59:16 +0100 (CET) Received: from mail-oi1-f225.google.com (mail-oi1-f225.google.com [209.85.167.225]) by mails.dpdk.org (Postfix) with ESMTP id 1B9B942DBE for ; Fri, 7 Feb 2025 14:59:15 +0100 (CET) Received: by mail-oi1-f225.google.com with SMTP id 5614622812f47-3eba559611aso562054b6e.0 for ; Fri, 07 Feb 2025 05:59:15 -0800 (PST) DKIM-Signature: v=1; a=rsa-sha256; c=relaxed/relaxed; d=iol.unh.edu; s=unh-iol; t=1738936754; x=1739541554; darn=dpdk.org; h=cc:to:from:subject:message-id:date:from:to:cc:subject:date :message-id:reply-to; bh=VQx80bHJczcfb2Fs2eWbmpWhLY0Re4aXA8bS7STcGNk=; b=E+b9CXoPS78Top/lYZloLBWoiDegbWWeWZRqRwHfAz7bkC6kh+HPquRtATpeg2AK+3 WxvAADYBLeF6JDz1/9YIKeqnMKmSYlk0nXnDXu4yIRjy8a9WSA5XEKrAU1NJG2C4Ofje dYxgbayNh7lP8nEvprFjESB+cTDZy9OL/Mmqw= X-Google-DKIM-Signature: v=1; a=rsa-sha256; c=relaxed/relaxed; d=1e100.net; s=20230601; t=1738936754; x=1739541554; h=cc:to:from:subject:message-id:date:x-gm-message-state:from:to:cc :subject:date:message-id:reply-to; bh=VQx80bHJczcfb2Fs2eWbmpWhLY0Re4aXA8bS7STcGNk=; b=uObraWveQmU1FCm8bHbEtoVAGzBDWD6rBNjj7KRvZiMFcLmDf9RGlkNAgUozG2ZzPs 7FjbpGfq8Dp05k8VWr5e+axNckje5L9RjHfm6JX0bfRrFCQkzLZmNN/avwBfFHtaa+3x 9YqDuseZqL6dOUSAZWNZir28oCv/+Eh3Mhc+bcZiLct6kcmhcsVFLNE/SgeGiUsa5v5q M+bpHGUwszs0KDPONt7EV8VZM/rczXBkrLtVaRI+ztgMGV34STC2/3GigAD7trxlQlyh F3oyoYaqz+2TNWs3N2IlkwNvdVzcMAnEudlesaHJVcsuXVghmLE1o7kyh/afvU9LnlpN R7Ww== X-Gm-Message-State: AOJu0YxRDsGa/pBs5XNAK/53ntm8XrxyURwoi9tiPhpBH6yVZ5xZxesL 1GQpWZCVBoq1VTFKqqChqT8pBReJb1xqh9pS9qtRbz5DzFKqQQx0LWyLGXLIX5QpGG7RT6zcswB k8Q3PC9irAFdqiCjqau5A6GEE7WMi8xqb4wv/QrZr X-Gm-Gg: ASbGncsunm+/ptTNRllGX/iKF1lOORCCCiaF+14/mU+ihKZqjlxeCjBNwYpePKmDViY 2DCxggJnOO/C7WY6m3KH13hABy34ZEBNTr9/sO80pZ+tmNgpOXcZr+2OC2Za0m7rOAlUJxg5IMn QZy+0Opb336ImzIKhtLyM5/Ot5J9i9169ob/aahaLPFIpsJ4aiRASXIKDxcTJw2WfK5wqaedMhd 9gUl9z4KwgMR0W4tRGCsMI8/JQoJImaJrMu4mxdsrZtgIUVqGWTpONVR3RqNcMV2p9UNDbAsrcr l0GgIC3QvNBUs+xDUJI6ty7TiXXIRQ== X-Google-Smtp-Source: AGHT+IFaZy/6gkoqF7B+YUzxFXgmlPd52TfrJNN1xvqugv+9AZ3a8JbYbdORwdAnXqaBJPYAoh6ubI1nZoCO X-Received: by 2002:a05:6871:6ac:b0:29e:6096:c271 with SMTP id 586e51a60fabf-2b83ec22d42mr2294325fac.9.1738936754189; Fri, 07 Feb 2025 05:59:14 -0800 (PST) Received: from postal.iol.unh.edu (postal.iol.unh.edu. [132.177.123.84]) by smtp-relay.gmail.com with ESMTPS id 46e09a7af769-726af914faesm178821a34.2.2025.02.07.05.59.14 (version=TLS1_2 cipher=ECDHE-ECDSA-AES128-GCM-SHA256 bits=128/128); Fri, 07 Feb 2025 05:59:14 -0800 (PST) X-Relaying-Domain: iol.unh.edu Date: Fri, 07 Feb 2025 05:59:14 -0800 (PST) Message-ID: <67a611b2.050a0220.105e43.97ceSMTPIN_ADDED_MISSING@mx.google.com> Received: from [172.21.0.6] (unknown [172.18.0.240]) by postal.iol.unh.edu (Postfix) with ESMTP id A0F956052471; Fri, 7 Feb 2025 08:59:13 -0500 (EST) Subject: |SUCCESS| [GIT MASTER] e145d919d60b440c649abe6fd0d55c42357330f1 From: dpdklab@iol.unh.edu To: Test Report Cc: dpdk-test-reports@iol.unh.edu, Bruce Richardson Content-Type: text/plain X-BeenThere: test-report@dpdk.org X-Mailman-Version: 2.1.29 Precedence: list List-Id: automatic DPDK test reports List-Unsubscribe: , List-Archive: List-Post: List-Help: List-Subscribe: , Errors-To: test-report-bounces@dpdk.org _Testing PASS_ Branch: dpdk-next-net-intel e145d919d60b440c649abe6fd0d55c42357330f1 --> testing pass Upstream job id: Windows-Compile-DPDK-Native#26520 Test environment and result as below: +---------------------+--------------------+-------------------+-------------------------+ | Environment | dpdk_meson_compile | dpdk_msvc_compile | dpdk_llvm_clang_compile | +=====================+====================+===================+=========================+ | FreeBSD 13.4 | PASS | SKIPPED | SKIPPED | +---------------------+--------------------+-------------------+-------------------------+ | FreeBSD 14.2 | PASS | SKIPPED | SKIPPED | +---------------------+--------------------+-------------------+-------------------------+ | Windows Server 2022 | SKIPPED | PASS | PASS | +---------------------+--------------------+-------------------+-------------------------+ FreeBSD 13.4 Kernel: 13.4-RELEASE-p1 Compiler: clang 18.1.6 FreeBSD 14.2 Kernel: 14.2-RELEASE Compiler: clang 18.1.6 Windows Server 2022 Kernel: 10.0.20348.2031 Compiler: clang 15.0.7, gcc 14.1.0 (MinGW), and MSVC VS 19.39.33521 To view detailed results, visit: https://lab.dpdk.org/results/dashboard/tarballs/32489/ UNH-IOL DPDK Community Lab To manage your email subscriptions, visit: https://lab.dpdk.org/results/dashboard/preferences/subscriptions/