From mboxrd@z Thu Jan 1 00:00:00 1970 Return-Path: Received: from mails.dpdk.org (mails.dpdk.org [217.70.189.124]) by inbox.dpdk.org (Postfix) with ESMTP id ADAF0461BC for ; Fri, 7 Feb 2025 15:07:00 +0100 (CET) Received: from mails.dpdk.org (localhost [127.0.0.1]) by mails.dpdk.org (Postfix) with ESMTP id 7EB9A42DC1; Fri, 7 Feb 2025 15:07:00 +0100 (CET) Received: from mail-yw1-f225.google.com (mail-yw1-f225.google.com [209.85.128.225]) by mails.dpdk.org (Postfix) with ESMTP id AD95D42DBE for ; Fri, 7 Feb 2025 15:06:59 +0100 (CET) Received: by mail-yw1-f225.google.com with SMTP id 00721157ae682-6f77b9e0a34so16155097b3.2 for ; Fri, 07 Feb 2025 06:06:59 -0800 (PST) DKIM-Signature: v=1; a=rsa-sha256; c=relaxed/relaxed; d=iol.unh.edu; s=unh-iol; t=1738937219; x=1739542019; darn=dpdk.org; h=cc:to:from:subject:message-id:date:from:to:cc:subject:date :message-id:reply-to; bh=yuBZ3bRgGabPIEZDk6m1YgX5meLdvuaPQA2CIa4vdSA=; b=dlTQ1G6jHKvlha/5YSIVf14oIOGfBX7zpxAp46uEbiN721A2RRTY8/D5V9jATwUkq1 WCXC2lRJQAMLjIOtLnNa7Ge7EQ8yGGUgphHK2msLQoui4lahf3Ms3UX1J1AQ5o5+yMjC lVoda0Quzlz7IRMAWmx3bu22CwEpZyFvSPQ/o= X-Google-DKIM-Signature: v=1; a=rsa-sha256; c=relaxed/relaxed; d=1e100.net; s=20230601; t=1738937219; x=1739542019; h=cc:to:from:subject:message-id:date:x-gm-message-state:from:to:cc :subject:date:message-id:reply-to; bh=yuBZ3bRgGabPIEZDk6m1YgX5meLdvuaPQA2CIa4vdSA=; b=GsbOZERnqtYmgGWiIRLSGqJ4tCS6usxzNzTf/IY1u3ss+PQG6sTwSiUezZBm8ARZhj +Tpdx0lPR+sW5Kk/ewbvKisW9EHzGpG2TlYqFmgDS2F83ASUY3BTjyC2a7w2APwWPJgZ 2ar8+iW5XGeRVNf5RnT+ky4oJsLxZBRHkACsO3viXT/OkqDZreIG9oSxFPLSVrruvfRh wxAvwrMUoSr3N/2UmhvyO0wEQ975G3qeoLVjotumrPkw6Op0680YDp6rzWxrBOzwXE9o 8wubmGm2rSUX3fVhejhPpUkUTEZp+FMi/tLbabGxj6X85MCxN8urYXeJNQmonxU+iYlu rU4Q== X-Gm-Message-State: AOJu0YxQCl70LzG3DNWjFm0DmOSmCBcKwX6jnvCxspiPJbwROLMscbiH b6/lf8pvx+X/fj1p7z2ViG8a10XoY/IKgqraLNv6vT9xUGMGpLTjjvYi3lMv1RSQFSttPVzPlfw 70O6AeJKDdcc0/XGE3OvdoPB7GADK2GYxEC09jLVR29oAp5y32ujw75Ml X-Gm-Gg: ASbGncusbntY4GsSPhtw3Prg8IN5pshaVp/Ws4w/Yq+UGy6Dd1g23QW61k0bIOcGYs8 /Z/zW17vguvBizJpDw8kv6nebMl0nWH6x/mknSpQ8NZvwIjnfU6N4YDspEY3mtSKxvIzzwdPor0 2uq+E+r1Gjf7vFvDwLz1p3vXkCevMWwp3pcoOqJv95LetSY9nXDTYbuECRI6AjCAF3FCrdLVcqS jPlAqL/XDpD/HSQDeBNLwyiiRZyCBzlvaTAKlkY0Scj6waFX8u8cTB1kJKzhtbHHbRh3/hJiM/Z bm6yHerUNGzDn8GFMAeG4365qZ26Sa94Tue6mq50IQ== X-Google-Smtp-Source: AGHT+IGmFxExUchMHfaaIWYMkOcVTOn+b343nTR1EKlFKeN/suMfCx7yRCTFVPm9HKL96Fjis1XUBkdjabuH X-Received: by 2002:a05:690c:6283:b0:6f7:406e:48c with SMTP id 00721157ae682-6f9b2a26474mr27910717b3.36.1738937218951; Fri, 07 Feb 2025 06:06:58 -0800 (PST) Received: from postal.iol.unh.edu (postal.iol.unh.edu. [2606:4100:3880:1234::84]) by smtp-relay.gmail.com with ESMTPS id 00721157ae682-6f99ffd7acesm381057b3.62.2025.02.07.06.06.58 (version=TLS1_2 cipher=ECDHE-ECDSA-AES128-GCM-SHA256 bits=128/128); Fri, 07 Feb 2025 06:06:58 -0800 (PST) X-Relaying-Domain: iol.unh.edu Date: Fri, 07 Feb 2025 06:06:58 -0800 (PST) Message-ID: <67a61382.050a0220.2e1206.1be7SMTPIN_ADDED_MISSING@mx.google.com> Received: from [172.21.0.6] (unknown [172.18.0.240]) by postal.iol.unh.edu (Postfix) with ESMTP id 529476052471; Fri, 7 Feb 2025 09:06:58 -0500 (EST) Subject: |SUCCESS| [GIT MASTER] e145d919d60b440c649abe6fd0d55c42357330f1 From: dpdklab@iol.unh.edu To: Test Report Cc: dpdk-test-reports@iol.unh.edu, Bruce Richardson Content-Type: text/plain X-BeenThere: test-report@dpdk.org X-Mailman-Version: 2.1.29 Precedence: list List-Id: automatic DPDK test reports List-Unsubscribe: , List-Archive: List-Post: List-Help: List-Subscribe: , Errors-To: test-report-bounces@dpdk.org _Testing PASS_ Branch: dpdk-next-net-intel e145d919d60b440c649abe6fd0d55c42357330f1 --> testing pass Upstream job id: Windows-Compile-DPDK-Native#26521 Test environment and result as below: +---------------------+--------------------+-------------------+-------------------------+----------------------+ | Environment | dpdk_meson_compile | dpdk_msvc_compile | dpdk_llvm_clang_compile | dpdk_mingw64_compile | +=====================+====================+===================+=========================+======================+ | FreeBSD 13.4 | PASS | SKIPPED | SKIPPED | SKIPPED | +---------------------+--------------------+-------------------+-------------------------+----------------------+ | FreeBSD 14.2 | PASS | SKIPPED | SKIPPED | SKIPPED | +---------------------+--------------------+-------------------+-------------------------+----------------------+ | Windows Server 2022 | SKIPPED | PASS | PASS | PASS | +---------------------+--------------------+-------------------+-------------------------+----------------------+ FreeBSD 13.4 Kernel: 13.4-RELEASE-p1 Compiler: clang 18.1.6 FreeBSD 14.2 Kernel: 14.2-RELEASE Compiler: clang 18.1.6 Windows Server 2022 Kernel: 10.0.20348.2031 Compiler: clang 15.0.7, gcc 14.1.0 (MinGW), and MSVC VS 19.39.33521 To view detailed results, visit: https://lab.dpdk.org/results/dashboard/tarballs/32489/ UNH-IOL DPDK Community Lab To manage your email subscriptions, visit: https://lab.dpdk.org/results/dashboard/preferences/subscriptions/