From mboxrd@z Thu Jan 1 00:00:00 1970 Return-Path: Received: from mails.dpdk.org (mails.dpdk.org [217.70.189.124]) by inbox.dpdk.org (Postfix) with ESMTP id CAD5D461BC for ; Fri, 7 Feb 2025 15:34:19 +0100 (CET) Received: from mails.dpdk.org (localhost [127.0.0.1]) by mails.dpdk.org (Postfix) with ESMTP id C752642DC1; Fri, 7 Feb 2025 15:34:19 +0100 (CET) Received: from mail-pl1-f228.google.com (mail-pl1-f228.google.com [209.85.214.228]) by mails.dpdk.org (Postfix) with ESMTP id 2BD6A410E3 for ; Fri, 7 Feb 2025 15:34:18 +0100 (CET) Received: by mail-pl1-f228.google.com with SMTP id d9443c01a7336-21f55fbb72bso11885375ad.2 for ; Fri, 07 Feb 2025 06:34:18 -0800 (PST) DKIM-Signature: v=1; a=rsa-sha256; c=relaxed/relaxed; d=iol.unh.edu; s=unh-iol; t=1738938857; x=1739543657; darn=dpdk.org; h=cc:to:from:subject:message-id:date:from:to:cc:subject:date :message-id:reply-to; bh=/1ASFRipJzS8Wil2ZxAWPBg2DSON0Qaciy8PzG/njpU=; b=YnEcNdynM0POMiF8rC7HGkPU7Pm2x3yEqDZO3IpwIpG0bMn01XK1qwSsP0pUXMNJvJ YlF+NnVnaLgKeZK4LCcA7HMC2xjCrVQqQAK/tBNBeKMGlqMbg51Sm5lmhaJTKP279mTL 0pfsa40QhbfEDjnR5wF0t85h34RCMADzbrDV8= X-Google-DKIM-Signature: v=1; a=rsa-sha256; c=relaxed/relaxed; d=1e100.net; s=20230601; t=1738938857; x=1739543657; h=cc:to:from:subject:message-id:date:x-gm-message-state:from:to:cc :subject:date:message-id:reply-to; bh=/1ASFRipJzS8Wil2ZxAWPBg2DSON0Qaciy8PzG/njpU=; b=mP45SSX/1uvAGXPUVvqXxnOxJ+W31H9a2xDXaRljuq0/9G8ZfoPWOSJ5aWNv3zqgKJ sZZ9KQpoC/AW19d6p5I76vkOa1w5y2mGF5dwJHzII3tAokrYVAE1rqf/vOrFC5Q1uzRh iFxcXvBsqnPnTC+/glHkfo3KXC0wUOAHo7YmfjFwOCBTnBQPIuUdMqaMO0kwIuIHFfC8 b7YbCqISYoHWVKDmIyqmoBEEg43p+giEIBiPfTe9tZLICMKao5VNcPWx3d+oonsZEU9S +A6u1/VIIm4luRbco4zOct3FvVcxQM9aLDD8I2v0GDbzmRpZ9xHOL86QJFxMmHV5vXLi sEAA== X-Gm-Message-State: AOJu0YwGTzOibU52UJ2t3XIS+C3ri1Hdv5QKoKIgvLheBV8RJu9doWDC SyUF7KS7znWx1Qs9CTqUSATKV7mRGypqslERUuYW5sj40OH1YCsBd27m7ez8vSlXsFEl44Tb7l/ HzHCAqT/0BYGsU9fofK89eAo4GpTQ1Dfd X-Gm-Gg: ASbGncvmrYpcPZ6gECkc0BvQUldtc/kn6e4RwRpbPjaI5gACyQpY0fwPwzlQlnZ7eMA iVN1tvTQEBakKxeAId3LzczQai77ciA4M7luvuwfZ/Pd/2+bzn69eG3fdueeD4N1mWNF3yBDXSy L41p/0un8x9MVm6XwoeHfejYs4yMhJe1kozJJEoLh0DdUqUohK/qdctODlx4VMyZ1JRx+spsLyt 35iqs4t1hBERS0U5IplHc4ob3xu2pSC1tn5T7Wgn/bxjxxk8fvEyAUH0TjEM/P3bsF2ZzSkzC+K Jm3UiDK6vzZPvDnmgLEbXnUnftgBdA== X-Google-Smtp-Source: AGHT+IE/3oXjrKAwHjzLdEBRkhxckKE6XsHsR0DscruHAuSqfnBadN3OZbCoHND/tZzSegjTbO3t0A5Rw9TY X-Received: by 2002:a17:903:40d0:b0:216:6769:9ed7 with SMTP id d9443c01a7336-21f4e73bca0mr56103225ad.40.1738938857300; Fri, 07 Feb 2025 06:34:17 -0800 (PST) Received: from postal.iol.unh.edu (postal.iol.unh.edu. [132.177.123.84]) by smtp-relay.gmail.com with ESMTPS id d9443c01a7336-21f3650c4c4sm1916465ad.23.2025.02.07.06.34.17 (version=TLS1_2 cipher=ECDHE-ECDSA-AES128-GCM-SHA256 bits=128/128); Fri, 07 Feb 2025 06:34:17 -0800 (PST) X-Relaying-Domain: iol.unh.edu Date: Fri, 07 Feb 2025 06:34:17 -0800 (PST) Message-ID: <67a619e9.170a0220.24ae95.9c57SMTPIN_ADDED_MISSING@mx.google.com> Received: from [172.21.0.6] (unknown [172.18.0.240]) by postal.iol.unh.edu (Postfix) with ESMTP id A9F076052471; Fri, 7 Feb 2025 09:34:16 -0500 (EST) Subject: |SUCCESS| [GIT MASTER] 7ce7d3341d7e21c2a81f2fea8e451681d7306d77 From: dpdklab@iol.unh.edu To: Test Report Cc: dpdk-test-reports@iol.unh.edu, Xueming Li , Christian Ehrhardt , Kevin Traynor , Luca Boccassi Content-Type: text/plain X-BeenThere: test-report@dpdk.org X-Mailman-Version: 2.1.29 Precedence: list List-Id: automatic DPDK test reports List-Unsubscribe: , List-Archive: List-Post: List-Help: List-Subscribe: , Errors-To: test-report-bounces@dpdk.org _Testing PASS_ Branch: tags/v22.11 7ce7d3341d7e21c2a81f2fea8e451681d7306d77 --> testing pass Upstream job id: Generic-Unit-Test-DPDK#312657 Test environment and result as below: +-----------------------------+----------------+---------------------------+------------------------------+--------------+ | Environment | dpdk_unit_test | cryptodev_sw_zuc_autotest | cryptodev_sw_snow3g_autotest | lpm_autotest | +=============================+================+===========================+==============================+==============+ | 32-bit Ubuntu 22.04.4 (ARM) | PASS | SKIPPED | SKIPPED | SKIPPED | +-----------------------------+----------------+---------------------------+------------------------------+--------------+ | Debian 12 (arm) | SKIPPED | PASS | PASS | SKIPPED | +-----------------------------+----------------+---------------------------+------------------------------+--------------+ | Ubuntu 20.04 ARM SVE | SKIPPED | SKIPPED | SKIPPED | PASS | +-----------------------------+----------------+---------------------------+------------------------------+--------------+ 32-bit Ubuntu 22.04.4 (ARM) Kernel: 5.15.83+ aarch64 Compiler: gcc (Ubuntu 11.4.0-1ubuntu1~22.04) 11.4.0 Debian 12 (arm) Kernel: Depends on container host Compiler: gcc (Debian 12.2.0-14) 12.2.0 Ubuntu 20.04 ARM SVE Kernel: Depends on container host Compiler: gcc (Ubuntu 10.5.0-1ubuntu1~20.04) 10.5.0 To view detailed results, visit: https://lab.dpdk.org/results/dashboard/tarballs/32482/ UNH-IOL DPDK Community Lab To manage your email subscriptions, visit: https://lab.dpdk.org/results/dashboard/preferences/subscriptions/