From mboxrd@z Thu Jan 1 00:00:00 1970 Return-Path: Received: from mails.dpdk.org (mails.dpdk.org [217.70.189.124]) by inbox.dpdk.org (Postfix) with ESMTP id A9E75461BC for ; Fri, 7 Feb 2025 15:45:10 +0100 (CET) Received: from mails.dpdk.org (localhost [127.0.0.1]) by mails.dpdk.org (Postfix) with ESMTP id A2C6142E98; Fri, 7 Feb 2025 15:45:10 +0100 (CET) Received: from mail-pl1-f226.google.com (mail-pl1-f226.google.com [209.85.214.226]) by mails.dpdk.org (Postfix) with ESMTP id 0739F42DE3 for ; Fri, 7 Feb 2025 15:45:09 +0100 (CET) Received: by mail-pl1-f226.google.com with SMTP id d9443c01a7336-21f49837d36so19794465ad.3 for ; Fri, 07 Feb 2025 06:45:08 -0800 (PST) DKIM-Signature: v=1; a=rsa-sha256; c=relaxed/relaxed; d=iol.unh.edu; s=unh-iol; t=1738939508; x=1739544308; darn=dpdk.org; h=cc:to:from:subject:message-id:date:from:to:cc:subject:date :message-id:reply-to; bh=gJm7Slk0pHvRl1/2GxRdK0PxtO2w5NCbDWZk4s3R3yY=; b=fTuGEoUhE4Kzppdfye5ORZdHhQNBSTbNorCc1dbr4mnao85LPyqoZgWJNFsTP1BF8x xDFkZ86K6x9IHXZ1RSNb5UakmwR4BLCdIFAoEucESLGGG/qU/nCbBAFfQakntcbJQkMO 5AAOS/znP4LOu1zBeiCL6PdrORilshBCopK0Q= X-Google-DKIM-Signature: v=1; a=rsa-sha256; c=relaxed/relaxed; d=1e100.net; s=20230601; t=1738939508; x=1739544308; h=cc:to:from:subject:message-id:date:x-gm-message-state:from:to:cc :subject:date:message-id:reply-to; bh=gJm7Slk0pHvRl1/2GxRdK0PxtO2w5NCbDWZk4s3R3yY=; b=NORtoVpnV6za7QR5ThpR+W1v0rU7z3y62n95Yns5t17FSeB0wvRPAnlVcmNS2VbRfa cd3eoxjHLV/jlArUQZWFSgBNgcPvvJYWmL8U76ZD1J60R9sAZ9pCrGtpN8wqL/Kg9lHF 9IWIgTdhdAhdsSqEV8O1lO4HUANTLCZwKKdu+B3Tccjgqp4tRF9pD1lTSqAD+gzJW82I 32jOm6DQs3Y1wweVz7UZQygwA1aX0kxSq0vTM/rVdlx05ZkKSFmPsiViGvVfc3Ci7Q6Q nUW+pl+4B3skncv9IhSsPxH/ip7VrpxokpPhs6XweNI8ivSmkzYR3Iy1ymeQQ2G+ZIt9 1Nnw== X-Gm-Message-State: AOJu0YzxYFVBME1QXn9PSxKQVz+e/bUL2Go5eySDy7Mdvg9JJzwJZ0Gb 7IaFuVwukPN7bi50YlxkJGKYfNdvXCwfRWSD0mXn8chn5w48/2zQO9nbxa8KDLafpXz1QiInpvY daSL/eo7BS9qg7LLcyn/wFtU62TVPYA5z X-Gm-Gg: ASbGncvHM9703vpCvtwZc/AC8A4w1pKjLvlsmQn4TYdgl+Nxl+1Mn5qScyv3nqqO196 AzZzFgPt7U/S7vd7vIW58Qx4uNHijDy68IXC4RHmFxuGF7SGFAaNQMkb+ZKDntFamcbMj2FcS68 9A5ZCauKCa4RVL/Q66lTLP7ADMUIAwbKLZrM/S5Djk69k315bX+fh0sWeBz8YD7lenDcu3FsC3y xkElMNk7yOVbgyyZOqnHQ0/HCGBzn54JXLZh5hAmwWGQfyQJQMiSzYfnYNDFEEqs0cAH9fMwcl/ ERB5eyexkxG+fh1hc3PK4nGb4H17og== X-Google-Smtp-Source: AGHT+IEofjEAAR4wlFCCzgrDZt103fEyZdJ9UP03pQKXcgYwdsyZOWAJH8WSKhgvQh6Fgq27AUNmWZQg0tvB X-Received: by 2002:a17:903:2345:b0:21f:140e:2929 with SMTP id d9443c01a7336-21f4e6ba3b2mr46334275ad.15.1738939507975; Fri, 07 Feb 2025 06:45:07 -0800 (PST) Received: from postal.iol.unh.edu (postal.iol.unh.edu. [132.177.123.84]) by smtp-relay.gmail.com with ESMTPS id d9443c01a7336-21f36839894sm1894785ad.89.2025.02.07.06.45.07 (version=TLS1_2 cipher=ECDHE-ECDSA-AES128-GCM-SHA256 bits=128/128); Fri, 07 Feb 2025 06:45:07 -0800 (PST) X-Relaying-Domain: iol.unh.edu Date: Fri, 07 Feb 2025 06:45:07 -0800 (PST) Message-ID: <67a61c73.170a0220.3b6fe1.9a06SMTPIN_ADDED_MISSING@mx.google.com> Received: from [172.21.0.5] (unknown [172.18.0.240]) by postal.iol.unh.edu (Postfix) with ESMTP id 63D7D6052471; Fri, 7 Feb 2025 09:45:07 -0500 (EST) Subject: |SUCCESS| [GIT MASTER] 7ce7d3341d7e21c2a81f2fea8e451681d7306d77 From: dpdklab@iol.unh.edu To: Test Report Cc: dpdk-test-reports@iol.unh.edu, Xueming Li , Christian Ehrhardt , Kevin Traynor , Luca Boccassi Content-Type: text/plain X-BeenThere: test-report@dpdk.org X-Mailman-Version: 2.1.29 Precedence: list List-Id: automatic DPDK test reports List-Unsubscribe: , List-Archive: List-Post: List-Help: List-Subscribe: , Errors-To: test-report-bounces@dpdk.org _Testing PASS_ Branch: tags/v22.11 7ce7d3341d7e21c2a81f2fea8e451681d7306d77 --> testing pass Upstream job id: Generic-DPDK-Compile-Meson#358983 Test environment and result as below: +------------------------------------+--------------------+ | Environment | dpdk_meson_compile | +====================================+====================+ | RHEL9 (ARM) | PASS | +------------------------------------+--------------------+ | Ubuntu 20.04 ARM GCC Cross Compile | PASS | +------------------------------------+--------------------+ | Ubuntu 20.04 ARM SVE | PASS | +------------------------------------+--------------------+ | Debian 12 with MUSDK | PASS | +------------------------------------+--------------------+ | Fedora 40 (ARM) | PASS | +------------------------------------+--------------------+ | Fedora 40 (ARM Clang) | PASS | +------------------------------------+--------------------+ | Fedora 41 (ARM) | PASS | +------------------------------------+--------------------+ | Fedora 41 (ARM Clang) | PASS | +------------------------------------+--------------------+ | Ubuntu 20.04 (ARM) | PASS | +------------------------------------+--------------------+ | Ubuntu 22.04 (ARM) | PASS | +------------------------------------+--------------------+ | Ubuntu 24.04 (ARM) | PASS | +------------------------------------+--------------------+ | CentOS Stream 9 (ARM) | PASS | +------------------------------------+--------------------+ | Debian 11 (Buster) (ARM) | PASS | +------------------------------------+--------------------+ | Debian 12 (arm) | PASS | +------------------------------------+--------------------+ RHEL9 (ARM) Kernel: Depends on container host Compiler: gcc 11.5.0 20240719 (Red Hat 11.5.0-2) Ubuntu 20.04 ARM GCC Cross Compile Kernel: Depends on container host Compiler: aarch64-linux-gnu-gcc (Ubuntu 9.4.0-1ubuntu1~20.04.2) 9.4.0 Ubuntu 20.04 ARM SVE Kernel: Depends on container host Compiler: gcc (Ubuntu 10.5.0-1ubuntu1~20.04) 10.5.0 Debian 12 with MUSDK Kernel: Depends on container host Compiler: gcc (Debian 12.2.0-14) 12.2.0 Fedora 40 (ARM) Kernel: Depends on container host Compiler: gcc 14.2.1 20240912 (Red Hat 14.2.1-3) Fedora 40 (ARM Clang) Kernel: Depends on container host Compiler: clang 18.1.8 (Fedora 18.1.8-1.fc40) Fedora 41 (ARM) Kernel: Depends on container host Compiler: gcc 14.2.1 20240912 (Red Hat 14.2.1-3) Fedora 41 (ARM Clang) Kernel: Depends on container host Compiler: clang 19.1.5 (Fedora 19.1.5-1.fc41) Ubuntu 20.04 (ARM) Kernel: Depends on container host Compiler: gcc (Ubuntu 9.4.0-1ubuntu1~20.04.2) 9.4.0 Ubuntu 22.04 (ARM) Kernel: Depends on container host Compiler: gcc (Ubuntu 11.4.0-1ubuntu1~22.04) 11.4.0 Ubuntu 24.04 (ARM) Kernel: Depends on container host Compiler: gcc (Ubuntu 13.3.0-6ubuntu2~24.04) 13.3.0 CentOS Stream 9 (ARM) Kernel: Depends on container host Compiler: gcc 11.5.0 20240719 (Red Hat 11.5.0-2) Debian 11 (Buster) (ARM) Kernel: Depends on container host Compiler: gcc (Debian 10.2.1-6) 10.2.1 20210110 Debian 12 (arm) Kernel: Depends on container host Compiler: gcc (Debian 12.2.0-14) 12.2.0 To view detailed results, visit: https://lab.dpdk.org/results/dashboard/tarballs/32482/ UNH-IOL DPDK Community Lab To manage your email subscriptions, visit: https://lab.dpdk.org/results/dashboard/preferences/subscriptions/