From mboxrd@z Thu Jan 1 00:00:00 1970 Return-Path: Received: from mails.dpdk.org (mails.dpdk.org [217.70.189.124]) by inbox.dpdk.org (Postfix) with ESMTP id A4D1D461BC for ; Fri, 7 Feb 2025 15:51:40 +0100 (CET) Received: from mails.dpdk.org (localhost [127.0.0.1]) by mails.dpdk.org (Postfix) with ESMTP id A204A42DDC; Fri, 7 Feb 2025 15:51:40 +0100 (CET) Received: from mail-pl1-f225.google.com (mail-pl1-f225.google.com [209.85.214.225]) by mails.dpdk.org (Postfix) with ESMTP id 44B3342DC1 for ; Fri, 7 Feb 2025 15:51:39 +0100 (CET) Received: by mail-pl1-f225.google.com with SMTP id d9443c01a7336-21f49bd087cso22154085ad.0 for ; Fri, 07 Feb 2025 06:51:39 -0800 (PST) DKIM-Signature: v=1; a=rsa-sha256; c=relaxed/relaxed; d=iol.unh.edu; s=unh-iol; t=1738939898; x=1739544698; darn=dpdk.org; h=cc:to:from:subject:message-id:date:from:to:cc:subject:date :message-id:reply-to; bh=tY7aq4tH0XfnvBjNKvyq9POw3URvuf0dzXAOYSqu+mI=; b=W0wR6QYDASzRhsWOPNQvNmVBnukoaagRfryXZAP8bKMfTUZQ5aWnYLAYVBjwKRN+Ww Z7ct6uGnj6m8cAvVw5uAhVK9Uo43yXbzcm+wswHMF39BKC+Ne2w51M4856W4VgZOUPcP e8/Flk3FWZAyi4F/xkBZleBSLlz3TqsSGOIxM= X-Google-DKIM-Signature: v=1; a=rsa-sha256; c=relaxed/relaxed; d=1e100.net; s=20230601; t=1738939898; x=1739544698; h=cc:to:from:subject:message-id:date:x-gm-message-state:from:to:cc :subject:date:message-id:reply-to; bh=tY7aq4tH0XfnvBjNKvyq9POw3URvuf0dzXAOYSqu+mI=; b=WUoRSXjTFK0XhBdDvWpuT7wDBukH98lSKSe6lLlUGbUuqci0hmtNrSf5pFOzYYxn/M +awQw452ruhSrtkoXMgDBH3VeISsSKg2xFkIKWCfWzWDIfqMSP9yBxojd7T4aRs+M3v5 qwOAFdNOxgQ9FljswtUeHXkpN8leoFG2vqGSNGzvJGr9tl0pSo+Zl3oDpIJw8IDjerpt MUGSom4Ltb3hS+AeXgNpE2XS9JuRE5mO/i9LJ9drHtNm5ovPD9ZkOr9Mg5xzem4VChY9 qLNge2/gUZ7zDYrb/ySEXY5G8Fs3bvP/wCm2Pgo2cv7bKc/zt7uTm/69lm5IUeKMpj0i fZWA== X-Gm-Message-State: AOJu0Yy6p3xU/ja35rv86WMPlljoyAmzz6BwFGvxfSQ9xCxOAXhjS/+M cYIutDHfh/MYB6NjrZkYjPC/Eq5fGmVQPTsX9vA1pRRnEAuW3u8bJryTwyGMXBmoT+zWpSFOYC8 y68a6yyZVml2YrAw7JS2Ur+ib0P5qKp4vpS0yAZF3 X-Gm-Gg: ASbGncu4fr2HbrDYjfAH++936f8js/AjH3sk4m7VdRwbcBsLQ/Uv146bt3L4U4bBJc9 eHZDAoDVNu6U1fS+aa+p5qKKS4VmsFO7Bx+xxXxeFbzbY4r/u9s7BEQ/IhcDcMulESPwDb5Uig8 D/2jNF7hTfz0vODAkGQkD8hbiY0g8UKBHRkelE6mBhZ3eRZxhvc59SCcGv4L0Wg/uImTR2dYHO6 dTQZED/SCtv1irI4UG9GAJFV8RSU0nl41CqikgLFeF3QiZfweZfb2E2h4BjoUVYmQOp8W5pEGWh k6NxZrjtX7j28zZDQS2VkCNleZ0kHQ== X-Google-Smtp-Source: AGHT+IH/YZdLGgW0Ebk+xm8AgdvOyOVJpzSdUhsdI2zZpIjvFBQTjr6oKBNQv7zCnrIzM2NsUg2MbcdEKDQc X-Received: by 2002:a17:903:2309:b0:215:6b4c:89fa with SMTP id d9443c01a7336-21f4e1ced38mr51650115ad.8.1738939898237; Fri, 07 Feb 2025 06:51:38 -0800 (PST) Received: from postal.iol.unh.edu (postal.iol.unh.edu. [132.177.123.84]) by smtp-relay.gmail.com with ESMTPS id d9443c01a7336-21f62ff393bsm197695ad.79.2025.02.07.06.51.38 (version=TLS1_2 cipher=ECDHE-ECDSA-AES128-GCM-SHA256 bits=128/128); Fri, 07 Feb 2025 06:51:38 -0800 (PST) X-Relaying-Domain: iol.unh.edu Date: Fri, 07 Feb 2025 06:51:38 -0800 (PST) Message-ID: <67a61dfa.170a0220.24baf3.0e94SMTPIN_ADDED_MISSING@mx.google.com> Received: from [172.21.0.5] (unknown [172.18.0.240]) by postal.iol.unh.edu (Postfix) with ESMTP id 6992D6052471; Fri, 7 Feb 2025 09:51:37 -0500 (EST) Subject: |SUCCESS| [GIT MASTER] e5ece9ae686535f29ae72c03fec26dc16ff7a925 From: dpdklab@iol.unh.edu To: Test Report Cc: dpdk-test-reports@iol.unh.edu, Stephen Hemminger Content-Type: text/plain X-BeenThere: test-report@dpdk.org X-Mailman-Version: 2.1.29 Precedence: list List-Id: automatic DPDK test reports List-Unsubscribe: , List-Archive: List-Post: List-Help: List-Subscribe: , Errors-To: test-report-bounces@dpdk.org _Testing PASS_ Branch: dpdk-next-net e5ece9ae686535f29ae72c03fec26dc16ff7a925 --> testing pass Upstream job id: Generic-Unit-Test-DPDK#312720 Test environment and result as below: +---------------------+----------------+ | Environment | dpdk_unit_test | +=====================+================+ | Debian 12 | PASS | +---------------------+----------------+ | CentOS Stream 9 | PASS | +---------------------+----------------+ | Fedora 40 (Clang) | PASS | +---------------------+----------------+ | Debian Bullseye | PASS | +---------------------+----------------+ | Fedora 41 (Clang) | PASS | +---------------------+----------------+ | Fedora 41 | PASS | +---------------------+----------------+ | Fedora 40 | PASS | +---------------------+----------------+ | RHEL8 | PASS | +---------------------+----------------+ | RHEL9 | PASS | +---------------------+----------------+ | Ubuntu 20.04 | PASS | +---------------------+----------------+ | Ubuntu 24.04 | PASS | +---------------------+----------------+ | Ubuntu 22.04 | PASS | +---------------------+----------------+ | Windows Server 2022 | PASS | +---------------------+----------------+ Debian 12 Kernel: Depends on container host Compiler: gcc (Debian 12.2.0-14) 12.2.0 CentOS Stream 9 Kernel: Depends on container host Compiler: gcc 11.5.0 20240719 (Red Hat 11.5.0-2) Fedora 40 (Clang) Kernel: Depends on container host Compiler: clang 18.1.8 (Fedora 18.1.8-1.fc40) Debian Bullseye Kernel: Depends on container host Compiler: gcc (Debian 10.2.1-6) 10.2.1 20210110 Fedora 41 (Clang) Kernel: Depends on container host Compiler: clang 19.1.5 (Fedora 19.1.5-1.fc41) Fedora 41 Kernel: Depends on container host Compiler: gcc 14.2.1 20240912 (Red Hat 14.2.1-3) Fedora 40 Kernel: Depends on container host Compiler: gcc 14.2.1 20240912 (Red Hat 14.2.1-3) RHEL8 Kernel: Depends on container host Compiler: gcc 8.5.0 20210514 (Red Hat 8.5.0-22) RHEL9 Kernel: Depends on container host Compiler: gcc 11.5.0 20240719 (Red Hat 11.5.0-2) Ubuntu 20.04 Kernel: Depends on container host Compiler: gcc (Ubuntu 9.4.0-1ubuntu1~20.04.2) 9.4.0 Ubuntu 24.04 Kernel: Depends on container host Compiler: gcc (Ubuntu 13.3.0-6ubuntu2~24.04) 13.3.0 Ubuntu 22.04 Kernel: Depends on container host Compiler: gcc (Ubuntu 11.4.0-1ubuntu1~22.04) 11.4.0 Windows Server 2022 Kernel: 10.0.20348.2031 Compiler: clang 15.0.7, gcc 14.1.0 (MinGW), and MSVC VS 19.39.33521 To view detailed results, visit: https://lab.dpdk.org/results/dashboard/tarballs/32486/ UNH-IOL DPDK Community Lab To manage your email subscriptions, visit: https://lab.dpdk.org/results/dashboard/preferences/subscriptions/