From mboxrd@z Thu Jan 1 00:00:00 1970 Return-Path: Received: from mails.dpdk.org (mails.dpdk.org [217.70.189.124]) by inbox.dpdk.org (Postfix) with ESMTP id 4E13A461B2 for ; Fri, 7 Feb 2025 15:57:55 +0100 (CET) Received: from mails.dpdk.org (localhost [127.0.0.1]) by mails.dpdk.org (Postfix) with ESMTP id 55DD042E7F; Fri, 7 Feb 2025 15:57:54 +0100 (CET) Received: from mail-pl1-f228.google.com (mail-pl1-f228.google.com [209.85.214.228]) by mails.dpdk.org (Postfix) with ESMTP id D6ADD42DC1 for ; Fri, 7 Feb 2025 15:57:52 +0100 (CET) Received: by mail-pl1-f228.google.com with SMTP id d9443c01a7336-21f3e2b4eceso35481405ad.2 for ; Fri, 07 Feb 2025 06:57:52 -0800 (PST) DKIM-Signature: v=1; a=rsa-sha256; c=relaxed/relaxed; d=iol.unh.edu; s=unh-iol; t=1738940272; x=1739545072; darn=dpdk.org; h=cc:to:from:subject:message-id:date:from:to:cc:subject:date :message-id:reply-to; bh=OrLLn7U745s9JBwR7ui+qzq6/+SBETZDQhYmjMCkyyk=; b=EdrUzDk4rboE683EBzuFj86JyNq/1a8j+ZhnVAZw5f6cOEWl8CqWCruJQxYvjtXFcc IZ0umYEQWPryN2yYBSERgTQJxCNb6pvEAKE0cnDcBrIsDOkXYv9QtL9i84X9XhmcwLN9 MsC8OqQQfX/pJPQU0wxXpz6h9z3x8WDfngR2I= X-Google-DKIM-Signature: v=1; a=rsa-sha256; c=relaxed/relaxed; d=1e100.net; s=20230601; t=1738940272; x=1739545072; h=cc:to:from:subject:message-id:date:x-gm-message-state:from:to:cc :subject:date:message-id:reply-to; bh=OrLLn7U745s9JBwR7ui+qzq6/+SBETZDQhYmjMCkyyk=; b=p3vh6z0stfCldeniihFUmhHXQ6yVQoXtUAvFNriGrgW08ne6N/bAbF/D5jn22onIFD pFQ4FyUWEtU/XN1iiaz8oBdD0Ws18Si1t3alt/ptBisVenW1f9Gh3hRnIoT5R1GbKIkN 0F0a/jGLXySA4g+Srz2E2t6hbEAVVXzGUbROAt0Q3lFGYM+ALzpHHPisv+vRUPgctZl1 0aX+nCgQnWg4oY19rk51WbE2yudpjTjltB720pBPVqLh/vI/crl5Td3bIqUFGBO6CFMZ cBCWH9lv5foL7i81ZDY53OfuUPxi1iRoAtWAfIpwSDwQt2b5faDF6T/m2QMaJBaT4FeW G5Wg== X-Gm-Message-State: AOJu0YxC2X1piK9OkaU9eZD7db2z4vp8KPTto2dEIH35snc23+L4YZ0N p7BAJVS3IsaK8NO6wbNaZY/EFuOSB8NYVRepA3PtCkS/XFtUM9/XZgVMnqG8hEMDt8pV5S4BEw+ Dxjz8Dh6OhjvPWHR/k2D5KHJ86WodPCtb X-Gm-Gg: ASbGncsAfwqBirES6JrGi+NiQhYNWa9ZKL5XTj5+BiYlEg0ar0nGao7qdlC+Vp4T2uP AtlJnbzc/VhYORKwnm90Ev8gJDeENrmtTI8Ad4PbILsTa7PGwvxOoCN1wnRAcJQc9js/I05sfpU SevePTJVbOMs1qMd/XXB/nVF7nKGHTe5ystjmckOeEqQUYhlaK630rYbLU/oMUVOak0W3isRuk7 goQESywMQV25G7VLN3igWlAAbAZvRAjyRBmph2wnXN29W4WYkJITUGrRAfMBghJwtZnFC3suXWv DcrFSPrePCPQ3xB8lUKCwUH5NG49rQ== X-Google-Smtp-Source: AGHT+IEPb1c4KgMqajW13M4yVlML8HAq82clFN1jilrJ4Y22rFW3L1Z5C0RNuIVb/CVSb0nWkrRE0zLd1ZuV X-Received: by 2002:a17:903:1250:b0:216:4016:5aea with SMTP id d9443c01a7336-21f4e7059damr57129625ad.29.1738940270696; Fri, 07 Feb 2025 06:57:50 -0800 (PST) Received: from postal.iol.unh.edu (postal.iol.unh.edu. [132.177.123.84]) by smtp-relay.gmail.com with ESMTPS id d9443c01a7336-21f3655c67dsm2065145ad.46.2025.02.07.06.57.50 (version=TLS1_2 cipher=ECDHE-ECDSA-AES128-GCM-SHA256 bits=128/128); Fri, 07 Feb 2025 06:57:50 -0800 (PST) X-Relaying-Domain: iol.unh.edu Date: Fri, 07 Feb 2025 06:57:50 -0800 (PST) Message-ID: <67a61f6e.170a0220.e1621.b2beSMTPIN_ADDED_MISSING@mx.google.com> Received: from [172.21.0.7] (unknown [172.18.0.240]) by postal.iol.unh.edu (Postfix) with ESMTP id D96406052471; Fri, 7 Feb 2025 09:57:49 -0500 (EST) Subject: |SUCCESS| [GIT MASTER] c66daa12e76d7b4912cfb7109a761856a7a873ab From: dpdklab@iol.unh.edu To: Test Report Cc: dpdk-test-reports@iol.unh.edu, Xueming Li , Christian Ehrhardt , Kevin Traynor , Luca Boccassi Content-Type: text/plain X-BeenThere: test-report@dpdk.org X-Mailman-Version: 2.1.29 Precedence: list List-Id: automatic DPDK test reports List-Unsubscribe: , List-Archive: List-Post: List-Help: List-Subscribe: , Errors-To: test-report-bounces@dpdk.org _Testing PASS_ Branch: tags/v23.11 c66daa12e76d7b4912cfb7109a761856a7a873ab --> testing pass Upstream job id: Generic-Unit-Test-DPDK#312654 Test environment and result as below: +-----------------------------+----------------+--------------+---------------------------+------------------------------+ | Environment | dpdk_unit_test | lpm_autotest | cryptodev_sw_zuc_autotest | cryptodev_sw_snow3g_autotest | +=============================+================+==============+===========================+==============================+ | 32-bit Ubuntu 22.04.4 (ARM) | PASS | SKIPPED | SKIPPED | SKIPPED | +-----------------------------+----------------+--------------+---------------------------+------------------------------+ | Fedora 40 (ARM) | PASS | SKIPPED | SKIPPED | SKIPPED | +-----------------------------+----------------+--------------+---------------------------+------------------------------+ | CentOS Stream 9 (ARM) | PASS | SKIPPED | SKIPPED | SKIPPED | +-----------------------------+----------------+--------------+---------------------------+------------------------------+ | Debian 11 (Buster) (ARM) | PASS | SKIPPED | SKIPPED | SKIPPED | +-----------------------------+----------------+--------------+---------------------------+------------------------------+ | Debian 12 (arm) | PASS | SKIPPED | PASS | PASS | +-----------------------------+----------------+--------------+---------------------------+------------------------------+ | RHEL9 (ARM) | PASS | SKIPPED | SKIPPED | SKIPPED | +-----------------------------+----------------+--------------+---------------------------+------------------------------+ | Fedora 41 (ARM) | PASS | SKIPPED | SKIPPED | SKIPPED | +-----------------------------+----------------+--------------+---------------------------+------------------------------+ | Fedora 41 (ARM Clang) | PASS | SKIPPED | SKIPPED | SKIPPED | +-----------------------------+----------------+--------------+---------------------------+------------------------------+ | Ubuntu 20.04 (ARM) | PASS | SKIPPED | SKIPPED | SKIPPED | +-----------------------------+----------------+--------------+---------------------------+------------------------------+ | Ubuntu 24.04 (ARM) | PASS | SKIPPED | SKIPPED | SKIPPED | +-----------------------------+----------------+--------------+---------------------------+------------------------------+ | Fedora 40 (ARM Clang) | PASS | SKIPPED | SKIPPED | SKIPPED | +-----------------------------+----------------+--------------+---------------------------+------------------------------+ | Ubuntu 22.04 (ARM) | PASS | SKIPPED | SKIPPED | SKIPPED | +-----------------------------+----------------+--------------+---------------------------+------------------------------+ | Ubuntu 20.04 ARM SVE | SKIPPED | PASS | SKIPPED | SKIPPED | +-----------------------------+----------------+--------------+---------------------------+------------------------------+ 32-bit Ubuntu 22.04.4 (ARM) Kernel: 5.15.83+ aarch64 Compiler: gcc (Ubuntu 11.4.0-1ubuntu1~22.04) 11.4.0 Fedora 40 (ARM) Kernel: Depends on container host Compiler: gcc 14.2.1 20240912 (Red Hat 14.2.1-3) CentOS Stream 9 (ARM) Kernel: Depends on container host Compiler: gcc 11.5.0 20240719 (Red Hat 11.5.0-2) Debian 11 (Buster) (ARM) Kernel: Depends on container host Compiler: gcc (Debian 10.2.1-6) 10.2.1 20210110 Debian 12 (arm) Kernel: Depends on container host Compiler: gcc (Debian 12.2.0-14) 12.2.0 RHEL9 (ARM) Kernel: Depends on container host Compiler: gcc 11.5.0 20240719 (Red Hat 11.5.0-2) Fedora 41 (ARM) Kernel: Depends on container host Compiler: gcc 14.2.1 20240912 (Red Hat 14.2.1-3) Fedora 41 (ARM Clang) Kernel: Depends on container host Compiler: clang 19.1.5 (Fedora 19.1.5-1.fc41) Ubuntu 20.04 (ARM) Kernel: Depends on container host Compiler: gcc (Ubuntu 9.4.0-1ubuntu1~20.04.2) 9.4.0 Ubuntu 24.04 (ARM) Kernel: Depends on container host Compiler: gcc (Ubuntu 13.3.0-6ubuntu2~24.04) 13.3.0 Fedora 40 (ARM Clang) Kernel: Depends on container host Compiler: clang 18.1.8 (Fedora 18.1.8-1.fc40) Ubuntu 22.04 (ARM) Kernel: Depends on container host Compiler: gcc (Ubuntu 11.4.0-1ubuntu1~22.04) 11.4.0 Ubuntu 20.04 ARM SVE Kernel: Depends on container host Compiler: gcc (Ubuntu 10.5.0-1ubuntu1~20.04) 10.5.0 To view detailed results, visit: https://lab.dpdk.org/results/dashboard/tarballs/32484/ UNH-IOL DPDK Community Lab To manage your email subscriptions, visit: https://lab.dpdk.org/results/dashboard/preferences/subscriptions/