From mboxrd@z Thu Jan 1 00:00:00 1970 Return-Path: Received: from mails.dpdk.org (mails.dpdk.org [217.70.189.124]) by inbox.dpdk.org (Postfix) with ESMTP id BDB37461BD for ; Fri, 7 Feb 2025 16:11:00 +0100 (CET) Received: from mails.dpdk.org (localhost [127.0.0.1]) by mails.dpdk.org (Postfix) with ESMTP id BA4F542EA6; Fri, 7 Feb 2025 16:11:00 +0100 (CET) Received: from mail-qv1-f100.google.com (mail-qv1-f100.google.com [209.85.219.100]) by mails.dpdk.org (Postfix) with ESMTP id 3F84542DDC for ; Fri, 7 Feb 2025 16:10:59 +0100 (CET) Received: by mail-qv1-f100.google.com with SMTP id 6a1803df08f44-6e435639b59so14790396d6.3 for ; Fri, 07 Feb 2025 07:10:59 -0800 (PST) DKIM-Signature: v=1; a=rsa-sha256; c=relaxed/relaxed; d=iol.unh.edu; s=unh-iol; t=1738941058; x=1739545858; darn=dpdk.org; h=references:in-reply-to:cc:to:from:subject:message-id:date:from:to :cc:subject:date:message-id:reply-to; bh=0dR18Mv6GuWBTMfIUjkasw8nVzaUTV2K7R0bpM3PV/E=; b=T8eI2uKtY6LMrLFow8EVdKwtK0BX5EUHUoXyFIPEMaBOcq5B0SQsV2ZQeoMb4VUkMw kpPklqnXSlZc0b7CY0ldQyBTopDHChTbNOxEo6BlWO4Ob3cLo4YsLW0MqsNK/HxZ5u3C ORsnlKrWGwa/Z1TvC/pXyd16RgYunBuKk/vJI= X-Google-DKIM-Signature: v=1; a=rsa-sha256; c=relaxed/relaxed; d=1e100.net; s=20230601; t=1738941058; x=1739545858; h=references:in-reply-to:cc:to:from:subject:message-id:date :x-gm-message-state:from:to:cc:subject:date:message-id:reply-to; bh=0dR18Mv6GuWBTMfIUjkasw8nVzaUTV2K7R0bpM3PV/E=; b=v0YxV7GS5cjJY257lWA/KzkvfN9Zn/HYwsKmqirZ07KA63i6fWDv6C4UEQaoyWNYr3 zcAj7Nt5KFd1ndiMrAbMmRKa70J0S0qA8Z/OHCG8cf9d3UiXlb9UQvp93s0Tb4IjEtAi Z4EIIfmpqtlrOYp7dzkqnvvg0z+9VvPv5q4CHShdN8qJANGYOdv1xDG6cbsPlz8hp24X GewFVJdMhlHyeaOVLN3vkvStDH6VFh+c51W6pC94laRYHkv/KegGGavqHqCactnm9xGf 1o91oinmWg2KJ1u46RWe110vbY5tsLyYjYGKq6WkPEDDgQk0eowUsNOqdLK5fpgbCorn htQA== X-Gm-Message-State: AOJu0Yy3srktkd8ITti5zSoJ92ams1kXXqjcNhSf3jF/a/6DWGG9PcjP SOI8Vub1z9m6VIkArjaqOJ4rSiSD2erB5vZvE3xK/kTCcq5Yi/zWGhxQYZa1VcHoUL+dUs9++08 TL+h2FRGpRSP3jA8bI6KoBZi5OLvWW5TnLCVzDsGN X-Gm-Gg: ASbGncsI7j+5eJOfLQVWVjkWHx7FW985YHmRgzR4gtDcF0WFq1HVT6RmQu18QJBvpIc URHbekUbDHQiGV4ajO3x5bOjA47XzSVryYfkJMZZHO36IctfYB7YtRtcXFCQRI1IycPS6d9xS6h ji/6X2xOrI7DHjIH9KRw1i15E3IGslJHrDSo3qlIxvnf/Cj2POgL+c36HjmL8s+zvade2MtQw5+ nvcV8Xod0Lfp4YkmlnyeHtWyF8G4tqvYIWztn0L7zrSRRpghr4MN3QBSf9L08iX/JU/d9jJ6qAg 6sG7n++iD2jBpriA1Mid5t2FwiTJKA== X-Google-Smtp-Source: AGHT+IExXOyxumNIHSVqQkwfyCi70LoAl6J55/oEza/NZpsOiWeV6TrRfcBM8UwES6e1ylVQ+awquvg/DKa5 X-Received: by 2002:ad4:5f89:0:b0:6e4:3faf:3647 with SMTP id 6a1803df08f44-6e4455e96b9mr40574766d6.15.1738941058614; Fri, 07 Feb 2025 07:10:58 -0800 (PST) Received: from postal.iol.unh.edu (postal.iol.unh.edu. [132.177.123.84]) by smtp-relay.gmail.com with ESMTPS id 6a1803df08f44-6e44cc1fc84sm372496d6.38.2025.02.07.07.10.58 (version=TLS1_2 cipher=ECDHE-ECDSA-AES128-GCM-SHA256 bits=128/128); Fri, 07 Feb 2025 07:10:58 -0800 (PST) X-Relaying-Domain: iol.unh.edu Date: Fri, 07 Feb 2025 07:10:58 -0800 (PST) Message-ID: <67a62282.050a0220.9c5d1.1e74SMTPIN_ADDED_MISSING@mx.google.com> Received: from [172.21.0.5] (unknown [172.18.0.240]) by postal.iol.unh.edu (Postfix) with ESMTP id 4C1196052471; Fri, 7 Feb 2025 10:10:28 -0500 (EST) Subject: |SUCCESS| pw151078 [PATCH] [v4] net: add thread-safe crc api From: dpdklab@iol.unh.edu To: Test Report Cc: dpdk-test-reports@iol.unh.edu In-Reply-To: <20250207063758.3971992-1-arkadiuszx.kusztal@intel.com> References: <20250207063758.3971992-1-arkadiuszx.kusztal@intel.com> Content-Type: text/plain X-BeenThere: test-report@dpdk.org X-Mailman-Version: 2.1.29 Precedence: list List-Id: automatic DPDK test reports List-Unsubscribe: , List-Archive: List-Post: List-Help: List-Subscribe: , Errors-To: test-report-bounces@dpdk.org Test-Label: iol-compile-amd64-testing Test-Status: SUCCESS http://dpdk.org/patch/151078 _Testing PASS_ Submitter: Arkadiusz Kusztal Date: Friday, February 07 2025 06:37:58 DPDK git baseline: Repo:dpdk Branch: master CommitID:7125636162d67b1c40ba6802a3ff4466d125d243 151078 --> testing pass Upstream job id: Generic-DPDK-Compile-Meson#359055 Test environment and result as below: +---------------------+--------------------+-------------------+-------------------------+------------------+-------------------+----------------------+ | Environment | dpdk_meson_compile | dpdk_msvc_compile | dpdk_llvm_clang_compile | dpdk_compile_ovs | dpdk_compile_spdk | dpdk_mingw64_compile | +=====================+====================+===================+=========================+==================+===================+======================+ | FreeBSD 13.4 | PASS | SKIPPED | SKIPPED | SKIPPED | SKIPPED | SKIPPED | +---------------------+--------------------+-------------------+-------------------------+------------------+-------------------+----------------------+ | FreeBSD 14.2 | PASS | SKIPPED | SKIPPED | SKIPPED | SKIPPED | SKIPPED | +---------------------+--------------------+-------------------+-------------------------+------------------+-------------------+----------------------+ | CentOS Stream 9 | PASS | SKIPPED | SKIPPED | PASS | PASS | SKIPPED | +---------------------+--------------------+-------------------+-------------------------+------------------+-------------------+----------------------+ | Debian Bullseye | PASS | SKIPPED | SKIPPED | PASS | PASS | SKIPPED | +---------------------+--------------------+-------------------+-------------------------+------------------+-------------------+----------------------+ | Debian 12 | PASS | SKIPPED | SKIPPED | PASS | PASS | SKIPPED | +---------------------+--------------------+-------------------+-------------------------+------------------+-------------------+----------------------+ | Fedora 40 (Clang) | PASS | SKIPPED | SKIPPED | PASS | PASS | SKIPPED | +---------------------+--------------------+-------------------+-------------------------+------------------+-------------------+----------------------+ | Fedora 40 | PASS | SKIPPED | SKIPPED | PASS | PASS | SKIPPED | +---------------------+--------------------+-------------------+-------------------------+------------------+-------------------+----------------------+ | Fedora 41 (Clang) | PASS | SKIPPED | SKIPPED | PASS | PASS | SKIPPED | +---------------------+--------------------+-------------------+-------------------------+------------------+-------------------+----------------------+ | Fedora 41 | PASS | SKIPPED | SKIPPED | PASS | PASS | SKIPPED | +---------------------+--------------------+-------------------+-------------------------+------------------+-------------------+----------------------+ | openSUSE Leap 15 | PASS | SKIPPED | SKIPPED | SKIPPED | SKIPPED | SKIPPED | +---------------------+--------------------+-------------------+-------------------------+------------------+-------------------+----------------------+ | RHEL8 | PASS | SKIPPED | SKIPPED | PASS | SKIPPED | SKIPPED | +---------------------+--------------------+-------------------+-------------------------+------------------+-------------------+----------------------+ | RHEL9 | PASS | SKIPPED | SKIPPED | PASS | SKIPPED | SKIPPED | +---------------------+--------------------+-------------------+-------------------------+------------------+-------------------+----------------------+ | Ubuntu 20.04 | PASS | SKIPPED | SKIPPED | SKIPPED | SKIPPED | SKIPPED | +---------------------+--------------------+-------------------+-------------------------+------------------+-------------------+----------------------+ | Ubuntu 22.04 | PASS | SKIPPED | SKIPPED | PASS | PASS | SKIPPED | +---------------------+--------------------+-------------------+-------------------------+------------------+-------------------+----------------------+ | Ubuntu 24.04 | PASS | SKIPPED | SKIPPED | PASS | PASS | SKIPPED | +---------------------+--------------------+-------------------+-------------------------+------------------+-------------------+----------------------+ | Alpine | PASS | SKIPPED | SKIPPED | PASS | SKIPPED | SKIPPED | +---------------------+--------------------+-------------------+-------------------------+------------------+-------------------+----------------------+ | Windows Server 2022 | SKIPPED | PASS | PASS | SKIPPED | SKIPPED | PASS | +---------------------+--------------------+-------------------+-------------------------+------------------+-------------------+----------------------+ FreeBSD 13.4 Kernel: 13.4-RELEASE-p1 Compiler: clang 18.1.6 FreeBSD 14.2 Kernel: 14.2-RELEASE Compiler: clang 18.1.6 CentOS Stream 9 Kernel: Depends on container host Compiler: gcc 11.5.0 20240719 (Red Hat 11.5.0-2) Debian Bullseye Kernel: Depends on container host Compiler: gcc (Debian 10.2.1-6) 10.2.1 20210110 Debian 12 Kernel: Depends on container host Compiler: gcc (Debian 12.2.0-14) 12.2.0 Fedora 40 (Clang) Kernel: Depends on container host Compiler: clang 18.1.8 (Fedora 18.1.8-1.fc40) Fedora 40 Kernel: Depends on container host Compiler: gcc 14.2.1 20240912 (Red Hat 14.2.1-3) Fedora 41 (Clang) Kernel: Depends on container host Compiler: clang 19.1.5 (Fedora 19.1.5-1.fc41) Fedora 41 Kernel: Depends on container host Compiler: gcc 14.2.1 20240912 (Red Hat 14.2.1-3) openSUSE Leap 15 Kernel: Depends on container host Compiler: gcc (SUSE Linux) 7.5.0 RHEL8 Kernel: Depends on container host Compiler: gcc 8.5.0 20210514 (Red Hat 8.5.0-22) RHEL9 Kernel: Depends on container host Compiler: gcc 11.5.0 20240719 (Red Hat 11.5.0-2) Ubuntu 20.04 Kernel: Depends on container host Compiler: gcc (Ubuntu 9.4.0-1ubuntu1~20.04.2) 9.4.0 Ubuntu 22.04 Kernel: Depends on container host Compiler: gcc (Ubuntu 11.4.0-1ubuntu1~22.04) 11.4.0 Ubuntu 24.04 Kernel: Depends on container host Compiler: gcc (Ubuntu 13.3.0-6ubuntu2~24.04) 13.3.0 Alpine Kernel: Depends on container host Compiler: gcc (Alpine 14.2.0) 14.2.0 Windows Server 2022 Kernel: 10.0.20348.2031 Compiler: clang 15.0.7, gcc 14.1.0 (MinGW), and MSVC VS 19.39.33521 To view detailed results, visit: https://lab.dpdk.org/results/dashboard/patchsets/32519/ UNH-IOL DPDK Community Lab To manage your email subscriptions, visit: https://lab.dpdk.org/results/dashboard/preferences/subscriptions/