From mboxrd@z Thu Jan 1 00:00:00 1970 Return-Path: Received: from mails.dpdk.org (mails.dpdk.org [217.70.189.124]) by inbox.dpdk.org (Postfix) with ESMTP id 5D4FF461BD for ; Fri, 7 Feb 2025 16:16:36 +0100 (CET) Received: from mails.dpdk.org (localhost [127.0.0.1]) by mails.dpdk.org (Postfix) with ESMTP id 53CF642E9C; Fri, 7 Feb 2025 16:16:36 +0100 (CET) Received: from mail-yw1-f227.google.com (mail-yw1-f227.google.com [209.85.128.227]) by mails.dpdk.org (Postfix) with ESMTP id 163C742DDC for ; Fri, 7 Feb 2025 16:16:35 +0100 (CET) Received: by mail-yw1-f227.google.com with SMTP id 00721157ae682-6f97a3a0b25so18670267b3.3 for ; Fri, 07 Feb 2025 07:16:35 -0800 (PST) DKIM-Signature: v=1; a=rsa-sha256; c=relaxed/relaxed; d=iol.unh.edu; s=unh-iol; t=1738941394; x=1739546194; darn=dpdk.org; h=cc:to:from:subject:message-id:date:from:to:cc:subject:date :message-id:reply-to; bh=PqDllEPdd8h9DsCB5JiLS0xzVhfunLIEN0t2fA9QDwk=; b=KJljKw3bZB2Hstp2611hnIcfzuarqN3kX9y7jLlpZW8GJEVDSX8jnebQ5rcBPx1a+K KggRzxQQfveSQouuP4qP7a4/lSsmmYO30BJ4IFNs2Zr8Be7liXA8XFjPqsELCwMICKT0 3olXrZ0RB3Xq5zug5vruveRXZCcw7yG9q8awU= X-Google-DKIM-Signature: v=1; a=rsa-sha256; c=relaxed/relaxed; d=1e100.net; s=20230601; t=1738941394; x=1739546194; h=cc:to:from:subject:message-id:date:x-gm-message-state:from:to:cc :subject:date:message-id:reply-to; bh=PqDllEPdd8h9DsCB5JiLS0xzVhfunLIEN0t2fA9QDwk=; b=V5/BA4r6SehaSWczahGG2htlg5YrvBlO+PYDSBecZg4vPhc0fbI2zRMGuoRb52IG1X 3aO8Ks2s7+pkSCYfaenOAMTwrHqpNuRKoi/4oBonG0lH6Kc6Ty2C6GQijEdrExjEWZMk 9YZppX2KH/BOD3Y9ISIFWQ3XIiA3N+jyLW6rEbEIFxo7yVmqAmjlKGXgiQYKPzwCrle7 +d4UPvviND8vncZSYUiH9RCHkKjhpzo7zM59E7yDsuxWWdFxbWgjKNWM9SmdgbpqG34g VHKTBh7kEzAGhskdA9//894RYel8FMOEnV7L2eG2iMJ0jwWCo7xYLs3/h3o450oNhuzp JLFw== X-Gm-Message-State: AOJu0Yz3Sn/aVpwq4fGvQ8TVBKE0Yv4ZZ/StGJxVbPIEs5GeiUe7l15q 1BnX7Pxe69Eib/nz+F1NF0ysHL5fcnpHNZGahwsuhXeMEDpHd+Z0MZ9OczPFD+lA6/2B7PdHgjD mVDZzw1Yi78tVQfd/lWgLjCskOiMsDOp3 X-Gm-Gg: ASbGncsb9Go+NmrMrq6A4+fz1FQmzH8xKGAXu9SCckoz24KCZ48hz+6WNTx+MaGTcMC Y5+Olh7tULyJTIC5Ah0v40i2JYeYqb/p72STIqEg9sK0M49n/gLVKtVMYjGd6IOZ5roHp8Ai1NV ZQHbn1MO4oiS+DAhAe6Zr+Tq8j4DkA9E8oU8LwOxhVFiGIeKHAtWAKa7FMVocO6gDJ4FjdLNj+p bOB9dUiuYlf6byUgLLq8hT4frbzWPjp1Gt/qvY62+oTeLQafEfjFdgDVRluEzKjJmlQP/GfTBvV GLJt1WMpg9/ww4lYMeDU10YQ205m0w== X-Google-Smtp-Source: AGHT+IFr/lo6a7zfw3C7dsQY25OXfexrULM/oAOwLkZ1CmljiGDyPy+4Lzo/Tj2/ddsLsVtcBRuSp2n7JP31 X-Received: by 2002:a05:690c:7307:b0:6f0:237e:fc67 with SMTP id 00721157ae682-6f9b29e583dmr30336727b3.23.1738941394418; Fri, 07 Feb 2025 07:16:34 -0800 (PST) Received: from postal.iol.unh.edu (postal.iol.unh.edu. [132.177.123.84]) by smtp-relay.gmail.com with ESMTPS id 00721157ae682-6f99fd30262sm446987b3.16.2025.02.07.07.16.34 (version=TLS1_2 cipher=ECDHE-ECDSA-AES128-GCM-SHA256 bits=128/128); Fri, 07 Feb 2025 07:16:34 -0800 (PST) X-Relaying-Domain: iol.unh.edu Date: Fri, 07 Feb 2025 07:16:34 -0800 (PST) Message-ID: <67a623d2.050a0220.38aad3.2218SMTPIN_ADDED_MISSING@mx.google.com> Received: from [172.21.0.5] (unknown [172.18.0.240]) by postal.iol.unh.edu (Postfix) with ESMTP id 087C96052471; Fri, 7 Feb 2025 10:16:04 -0500 (EST) Subject: |SUCCESS| [GIT MASTER] f2eea2f37a82bb73fb01d56350708f7d70e21379 From: dpdklab@iol.unh.edu To: Test Report Cc: dpdk-test-reports@iol.unh.edu, Xueming Li , Christian Ehrhardt , Kevin Traynor , Luca Boccassi Content-Type: text/plain X-BeenThere: test-report@dpdk.org X-Mailman-Version: 2.1.29 Precedence: list List-Id: automatic DPDK test reports List-Unsubscribe: , List-Archive: List-Post: List-Help: List-Subscribe: , Errors-To: test-report-bounces@dpdk.org _Testing PASS_ Branch: tags/v24.11 f2eea2f37a82bb73fb01d56350708f7d70e21379 --> testing pass Upstream job id: Generic-DPDK-Compile-Meson#358990 Test environment and result as below: +---------------------+-------------------+--------------------+-------------------------+----------------------+------------------+-------------------+ | Environment | dpdk_msvc_compile | dpdk_meson_compile | dpdk_llvm_clang_compile | dpdk_mingw64_compile | dpdk_compile_ovs | dpdk_compile_spdk | +=====================+===================+====================+=========================+======================+==================+===================+ | Windows Server 2022 | PASS | SKIPPED | PASS | PASS | SKIPPED | SKIPPED | +---------------------+-------------------+--------------------+-------------------------+----------------------+------------------+-------------------+ | FreeBSD 13.4 | SKIPPED | PASS | SKIPPED | SKIPPED | SKIPPED | SKIPPED | +---------------------+-------------------+--------------------+-------------------------+----------------------+------------------+-------------------+ | FreeBSD 14.2 | SKIPPED | PASS | SKIPPED | SKIPPED | SKIPPED | SKIPPED | +---------------------+-------------------+--------------------+-------------------------+----------------------+------------------+-------------------+ | CentOS Stream 9 | SKIPPED | PASS | SKIPPED | SKIPPED | PASS | PASS | +---------------------+-------------------+--------------------+-------------------------+----------------------+------------------+-------------------+ | Debian Bullseye | SKIPPED | PASS | SKIPPED | SKIPPED | PASS | PASS | +---------------------+-------------------+--------------------+-------------------------+----------------------+------------------+-------------------+ | Debian 12 | SKIPPED | PASS | SKIPPED | SKIPPED | PASS | PASS | +---------------------+-------------------+--------------------+-------------------------+----------------------+------------------+-------------------+ | Fedora 40 (Clang) | SKIPPED | PASS | SKIPPED | SKIPPED | PASS | PASS | +---------------------+-------------------+--------------------+-------------------------+----------------------+------------------+-------------------+ | Fedora 41 (Clang) | SKIPPED | PASS | SKIPPED | SKIPPED | PASS | PASS | +---------------------+-------------------+--------------------+-------------------------+----------------------+------------------+-------------------+ | Fedora 41 | SKIPPED | PASS | SKIPPED | SKIPPED | PASS | PASS | +---------------------+-------------------+--------------------+-------------------------+----------------------+------------------+-------------------+ | openSUSE Leap 15 | SKIPPED | PASS | SKIPPED | SKIPPED | SKIPPED | SKIPPED | +---------------------+-------------------+--------------------+-------------------------+----------------------+------------------+-------------------+ | RHEL8 | SKIPPED | PASS | SKIPPED | SKIPPED | PASS | SKIPPED | +---------------------+-------------------+--------------------+-------------------------+----------------------+------------------+-------------------+ | RHEL9 | SKIPPED | PASS | SKIPPED | SKIPPED | PASS | SKIPPED | +---------------------+-------------------+--------------------+-------------------------+----------------------+------------------+-------------------+ | Ubuntu 20.04 | SKIPPED | PASS | SKIPPED | SKIPPED | SKIPPED | SKIPPED | +---------------------+-------------------+--------------------+-------------------------+----------------------+------------------+-------------------+ | Ubuntu 22.04 | SKIPPED | PASS | SKIPPED | SKIPPED | PASS | PASS | +---------------------+-------------------+--------------------+-------------------------+----------------------+------------------+-------------------+ | Ubuntu 24.04 | SKIPPED | PASS | SKIPPED | SKIPPED | PASS | PASS | +---------------------+-------------------+--------------------+-------------------------+----------------------+------------------+-------------------+ | Alpine | SKIPPED | PASS | SKIPPED | SKIPPED | PASS | SKIPPED | +---------------------+-------------------+--------------------+-------------------------+----------------------+------------------+-------------------+ | Fedora 40 | SKIPPED | PASS | SKIPPED | SKIPPED | PASS | PASS | +---------------------+-------------------+--------------------+-------------------------+----------------------+------------------+-------------------+ Windows Server 2022 Kernel: 10.0.20348.2031 Compiler: clang 15.0.7, gcc 14.1.0 (MinGW), and MSVC VS 19.39.33521 FreeBSD 13.4 Kernel: 13.4-RELEASE-p1 Compiler: clang 18.1.6 FreeBSD 14.2 Kernel: 14.2-RELEASE Compiler: clang 18.1.6 CentOS Stream 9 Kernel: Depends on container host Compiler: gcc 11.5.0 20240719 (Red Hat 11.5.0-2) Debian Bullseye Kernel: Depends on container host Compiler: gcc (Debian 10.2.1-6) 10.2.1 20210110 Debian 12 Kernel: Depends on container host Compiler: gcc (Debian 12.2.0-14) 12.2.0 Fedora 40 (Clang) Kernel: Depends on container host Compiler: clang 18.1.8 (Fedora 18.1.8-1.fc40) Fedora 41 (Clang) Kernel: Depends on container host Compiler: clang 19.1.5 (Fedora 19.1.5-1.fc41) Fedora 41 Kernel: Depends on container host Compiler: gcc 14.2.1 20240912 (Red Hat 14.2.1-3) openSUSE Leap 15 Kernel: Depends on container host Compiler: gcc (SUSE Linux) 7.5.0 RHEL8 Kernel: Depends on container host Compiler: gcc 8.5.0 20210514 (Red Hat 8.5.0-22) RHEL9 Kernel: Depends on container host Compiler: gcc 11.5.0 20240719 (Red Hat 11.5.0-2) Ubuntu 20.04 Kernel: Depends on container host Compiler: gcc (Ubuntu 9.4.0-1ubuntu1~20.04.2) 9.4.0 Ubuntu 22.04 Kernel: Depends on container host Compiler: gcc (Ubuntu 11.4.0-1ubuntu1~22.04) 11.4.0 Ubuntu 24.04 Kernel: Depends on container host Compiler: gcc (Ubuntu 13.3.0-6ubuntu2~24.04) 13.3.0 Alpine Kernel: Depends on container host Compiler: gcc (Alpine 14.2.0) 14.2.0 Fedora 40 Kernel: Depends on container host Compiler: gcc 14.2.1 20240912 (Red Hat 14.2.1-3) To view detailed results, visit: https://lab.dpdk.org/results/dashboard/tarballs/32483/ UNH-IOL DPDK Community Lab To manage your email subscriptions, visit: https://lab.dpdk.org/results/dashboard/preferences/subscriptions/