From mboxrd@z Thu Jan 1 00:00:00 1970 Return-Path: Received: from mails.dpdk.org (mails.dpdk.org [217.70.189.124]) by inbox.dpdk.org (Postfix) with ESMTP id 5338E461BD for ; Fri, 7 Feb 2025 16:24:43 +0100 (CET) Received: from mails.dpdk.org (localhost [127.0.0.1]) by mails.dpdk.org (Postfix) with ESMTP id 3AAF742E9C; Fri, 7 Feb 2025 16:24:43 +0100 (CET) Received: from mail-yw1-f227.google.com (mail-yw1-f227.google.com [209.85.128.227]) by mails.dpdk.org (Postfix) with ESMTP id 1EFCD42DDC for ; Fri, 7 Feb 2025 16:24:42 +0100 (CET) Received: by mail-yw1-f227.google.com with SMTP id 00721157ae682-6f768e9be1aso28308027b3.0 for ; Fri, 07 Feb 2025 07:24:42 -0800 (PST) DKIM-Signature: v=1; a=rsa-sha256; c=relaxed/relaxed; d=iol.unh.edu; s=unh-iol; t=1738941881; x=1739546681; darn=dpdk.org; h=references:in-reply-to:cc:to:from:subject:message-id:date:from:to :cc:subject:date:message-id:reply-to; bh=SgZf8hOm9GotXnoBeif21YbLTC3QsBT1lpVPfArsalA=; b=fc+H48Xy9t+rloFyiXUkyuUq6ymjrAmAJoffE8hr2z7TDdGTytveRO3dgqvvNvRTUu 45EKbqMDesJFjHmsY3cnTyjzcS91vaarj+uCmjlXT0Z5qbvLsqh76fC24A3o1zuJqsHA X46OUTA3OJ91uV/bG9Lvtwg5vWNmDHMfHaRwE= X-Google-DKIM-Signature: v=1; a=rsa-sha256; c=relaxed/relaxed; d=1e100.net; s=20230601; t=1738941881; x=1739546681; h=references:in-reply-to:cc:to:from:subject:message-id:date :x-gm-message-state:from:to:cc:subject:date:message-id:reply-to; bh=SgZf8hOm9GotXnoBeif21YbLTC3QsBT1lpVPfArsalA=; b=XddcX2Vc897gcNJfVUS6cY1txtUKofUayGqHC3KXAFTuUsveRmVo4l8ayQI7//fEoA 3NcQzGeMaGif3Eg7G9Xz+kfK4eJ5PEcDGpUVTbNFSt6h0/kt0rn9sM8CdFTpkTU2PSl/ fpcZI12xwIxhwYoJqOR8F0GHINGZGRKq4W14zsNiKbOZ3ANI+3mewJ31bgM2bCuMS5LH jyadkOEIBsXpTsqukx2eMjV0e7lCzMXW+StKHtZX7XsX+AdtVyr9ac7Lip6yVutK11Bb sdvWgDWNUUFKAyoYJ7J3NbdtzhqTN1PhREQgcT7Sdez5u2fB7XTHUS1LKIcrAu+Y2i6/ rUJw== X-Gm-Message-State: AOJu0Yz785tL2sHZVk9I1HyFST4cDN7xs7vMHJ8F6b/tiqxGTBBJZMfP dYR0d2Jj0YAZ4903jJanvezgneb4zdf4RUknPxCy5MXV6raxJ+P+Tre2NxN7u6jzP+Snrp7kzHj JRxb4IUsdhfdiFp08S5HGQweudBJ8CWKcLgEGjARF X-Gm-Gg: ASbGncvO3262s/dKq8Dn6ga7szAPEOUdCjBRjtw0bgh4s11IWIkSaxjL0KX8byjs09m hi0ynM5OGW/Cjm3kFHqnnfrk8aisnDuPka71NDY6SgpbgA5thaGPlexa2ihB9yTt1WdjSul+O34 kGakl4EzdIvPB0k4I1mqt6HQupCzhimG26i5y84Zbip1Yl4AxQMtMMDwFmw3H7b4Bz8BKsf5nap 4bPOzWiIjGA91RUqyOuSCa5R+ABHHiwUt8lbLdY3pVYTaFUk0RsRAj2cFkx8xxU4iIQM0Xoj6Ze bNqyVEx7F1lDVsAA2qgqoVb/F3fc0Q== X-Google-Smtp-Source: AGHT+IGUbvhMO8pJQYn+HO+bfO75VaRMUeXGxxJlub2TOj59+Zvc4MWZPUKpJBDgG4kBPx+fUjzGoFUBJAXx X-Received: by 2002:a05:690c:23c3:b0:6e5:2adf:d584 with SMTP id 00721157ae682-6f9b390a87bmr25501977b3.14.1738941881368; Fri, 07 Feb 2025 07:24:41 -0800 (PST) Received: from postal.iol.unh.edu (postal.iol.unh.edu. [132.177.123.84]) by smtp-relay.gmail.com with ESMTPS id 00721157ae682-6f99fcf68e0sm411087b3.4.2025.02.07.07.24.41 (version=TLS1_2 cipher=ECDHE-ECDSA-AES128-GCM-SHA256 bits=128/128); Fri, 07 Feb 2025 07:24:41 -0800 (PST) X-Relaying-Domain: iol.unh.edu Date: Fri, 07 Feb 2025 07:24:41 -0800 (PST) Message-ID: <67a625b9.050a0220.e60b9.2104SMTPIN_ADDED_MISSING@mx.google.com> Received: from [172.21.0.5] (unknown [172.18.0.240]) by postal.iol.unh.edu (Postfix) with ESMTP id F03826052471; Fri, 7 Feb 2025 10:24:10 -0500 (EST) Subject: |SUCCESS| pw151039 [PATCH] [v7,1/1] graph: mcore: optimize graph sea From: dpdklab@iol.unh.edu To: Test Report Cc: dpdk-test-reports@iol.unh.edu In-Reply-To: <20250206025322.2182-1-chcchc88@163.com> References: <20250206025322.2182-1-chcchc88@163.com> Content-Type: text/plain X-BeenThere: test-report@dpdk.org X-Mailman-Version: 2.1.29 Precedence: list List-Id: automatic DPDK test reports List-Unsubscribe: , List-Archive: List-Post: List-Help: List-Subscribe: , Errors-To: test-report-bounces@dpdk.org Test-Label: iol-sample-apps-testing Test-Status: SUCCESS http://dpdk.org/patch/151039 _Testing PASS RETEST #1_ Submitter: Huichao Cai Date: Thursday, February 06 2025 02:53:22 DPDK git baseline: Repo:dpdk Branch: master CommitID:32c18e7364e30a8e43cc7cc6709a7ce606fa285e 151039 --> testing pass Upstream job id: ACVP-FIPS-testing#8805 Test environment and result as below: +--------------------+----------------------+----------------------+ | Environment | compressdev_zlib_pmd | dpdk_fips_validation | +====================+======================+======================+ | Ubuntu 22.04 (ARM) | PASS | SKIPPED | +--------------------+----------------------+----------------------+ | Ubuntu 22.04 | PASS | SKIPPED | +--------------------+----------------------+----------------------+ | Ubuntu 20.04 | SKIPPED | PASS | +--------------------+----------------------+----------------------+ Ubuntu 22.04 (ARM) Kernel: 5.15.0-97-generic Compiler: gcc gcc (Ubuntu 11.4.0-1ubuntu1~22.04) 11.4.0 Ubuntu 22.04 Kernel: 5.15.0-100-generic Compiler: gcc gcc (Ubuntu 11.4.0-1ubuntu1~22.04) 11.4.0 Ubuntu 20.04 Kernel: Depends on container host Compiler: gcc (Ubuntu 9.4.0-1ubuntu1~20.04.2) 9.4.0 To view detailed results, visit: https://lab.dpdk.org/results/dashboard/patchsets/32508/ UNH-IOL DPDK Community Lab To manage your email subscriptions, visit: https://lab.dpdk.org/results/dashboard/preferences/subscriptions/