From mboxrd@z Thu Jan 1 00:00:00 1970 Return-Path: Received: from mails.dpdk.org (mails.dpdk.org [217.70.189.124]) by inbox.dpdk.org (Postfix) with ESMTP id 44EE0461BD for ; Fri, 7 Feb 2025 16:34:28 +0100 (CET) Received: from mails.dpdk.org (localhost [127.0.0.1]) by mails.dpdk.org (Postfix) with ESMTP id 3CCFE42E9C; Fri, 7 Feb 2025 16:34:28 +0100 (CET) Received: from mail-pl1-f228.google.com (mail-pl1-f228.google.com [209.85.214.228]) by mails.dpdk.org (Postfix) with ESMTP id 51C7D42DDC for ; Fri, 7 Feb 2025 16:34:26 +0100 (CET) Received: by mail-pl1-f228.google.com with SMTP id d9443c01a7336-21661be2c2dso41841335ad.1 for ; Fri, 07 Feb 2025 07:34:26 -0800 (PST) DKIM-Signature: v=1; a=rsa-sha256; c=relaxed/relaxed; d=iol.unh.edu; s=unh-iol; t=1738942465; x=1739547265; darn=dpdk.org; h=references:in-reply-to:cc:to:from:subject:message-id:date:from:to :cc:subject:date:message-id:reply-to; bh=hQ8QyYsGn09xb2LXwCQ2IkZzIv+1PnqlVQVbA82n2EA=; b=ebiD/SVbJsgtQ285HwdRyBxJYalxHmLBLtzEqZC6Ly8KR7mv/wZ8iHanYXpsmxKTNl zMompEwHRVrARb01S6ocDKmX36glHg7tl+H3x/nOvKZgqPK6+MCFrzFegzNBLBwS8Jh2 IE3df8pCxMqmyBqCZDIBNDZpJ0IRqTXTpDEjE= X-Google-DKIM-Signature: v=1; a=rsa-sha256; c=relaxed/relaxed; d=1e100.net; s=20230601; t=1738942465; x=1739547265; h=references:in-reply-to:cc:to:from:subject:message-id:date :x-gm-message-state:from:to:cc:subject:date:message-id:reply-to; bh=hQ8QyYsGn09xb2LXwCQ2IkZzIv+1PnqlVQVbA82n2EA=; b=h1vO6VZhWttKnoQwcFWz/rx2esTTS2ZVl6CUjw4la8RSR3gfjBSuvwMD9MUK2LWq+i EgFWF5tIjq1Fec2EKYrZwXCM9a08XeATv829MOnfI3Fcxwd2HgkemZiM/F8UCe8s2w2a cqyQs+QzVALOgqLMlcPni8UsMEbqn+0MDMAeh2nWuwBc6lK4NlAAI1cc6IcY4tMP1KA9 QOu7SlWOeACJPjsU5WZBWfwvwOtLkGr6j3h7ElAIpVfbjce+OM8JYKAYyU7JDqurW437 p1cnJPJUJbP9ykvr2QwNN0d5iCb4a7Mfk23JUNFYpnLz6I251lbISi7iI8h6dN3P9U5o TAjA== X-Gm-Message-State: AOJu0YyGpQN5Ev3lGpOlEZO+u2l+e+nfVlCtT8j1ETK6wTIRaVrr0GXN yQvQBpkegEZOF0J45eH4t+DgGCswTU0cAGdsDWn5W8NuIUf1c3uLaPlLQRdXcq5wLIP5gxoq872 IoSTX3cHsDsg+g/IwAAb0Rte1iwDnbG/EbRdDmR5/ X-Gm-Gg: ASbGncueVwnh9yOtXdBOk57G2g24lx9fv9lv6VQyrk4FY/NAffnL4npt/O2EWrSK1+6 sqrJRWSoXMuIoTZAIeTvrMjUotaiO9KV+2TbM/Vmpkq76UKomAu8MB34LO0MJH0Vdos6rnJ+bRg v5TCZwE3Bq92u3S8I6vgSCOfaDM3f9Zq+ajo8sJLBOOW3c4S4qkul//w2OCsT5cX2irc1Y3f6M6 UrxsKBwc/8HDKqk0u8PPRv86h+nwjeQgQMJnUWkx3gO15Z4s4zquuAQfO+iKgNMJWhUIn5SAmr1 0awekcziPPyw3EIYueo/0HweKMkCww== X-Google-Smtp-Source: AGHT+IEFPOgG8qFgZ/b2KpiezMIDqNdzYU4xDwwz2hAOlR+bq8mKVrxM54GsBY6X/C/L9fUyuXb79VTuhpWc X-Received: by 2002:a05:6a20:c704:b0:1e0:d4f4:5b2f with SMTP id adf61e73a8af0-1ee03b04345mr8803021637.32.1738942464940; Fri, 07 Feb 2025 07:34:24 -0800 (PST) Received: from postal.iol.unh.edu (postal.iol.unh.edu. [132.177.123.84]) by smtp-relay.gmail.com with ESMTPS id 41be03b00d2f7-ad51aee7f8dsm218852a12.17.2025.02.07.07.34.24 (version=TLS1_2 cipher=ECDHE-ECDSA-AES128-GCM-SHA256 bits=128/128); Fri, 07 Feb 2025 07:34:24 -0800 (PST) X-Relaying-Domain: iol.unh.edu Date: Fri, 07 Feb 2025 07:34:24 -0800 (PST) Message-ID: <67a62800.630a0220.9be8d.c57aSMTPIN_ADDED_MISSING@mx.google.com> Received: from [172.21.0.5] (unknown [172.18.0.240]) by postal.iol.unh.edu (Postfix) with ESMTP id 21C396052471; Fri, 7 Feb 2025 10:34:24 -0500 (EST) Subject: |SUCCESS| pw151078 [PATCH] [v4] net: add thread-safe crc api From: dpdklab@iol.unh.edu To: Test Report Cc: dpdk-test-reports@iol.unh.edu In-Reply-To: <20250207063758.3971992-1-arkadiuszx.kusztal@intel.com> References: <20250207063758.3971992-1-arkadiuszx.kusztal@intel.com> Content-Type: text/plain X-BeenThere: test-report@dpdk.org X-Mailman-Version: 2.1.29 Precedence: list List-Id: automatic DPDK test reports List-Unsubscribe: , List-Archive: List-Post: List-Help: List-Subscribe: , Errors-To: test-report-bounces@dpdk.org Test-Label: iol-unit-arm64-testing Test-Status: SUCCESS http://dpdk.org/patch/151078 _Testing PASS_ Submitter: Arkadiusz Kusztal Date: Friday, February 07 2025 06:37:58 DPDK git baseline: Repo:dpdk Branch: master CommitID:7125636162d67b1c40ba6802a3ff4466d125d243 151078 --> testing pass Upstream job id: Generic-Unit-Test-DPDK#312692 Test environment and result as below: +-----------------------------+----------------+--------------+------------------------------+---------------------------+ | Environment | dpdk_unit_test | lpm_autotest | cryptodev_sw_snow3g_autotest | cryptodev_sw_zuc_autotest | +=============================+================+==============+==============================+===========================+ | Debian 11 (Buster) (ARM) | PASS | SKIPPED | SKIPPED | SKIPPED | +-----------------------------+----------------+--------------+------------------------------+---------------------------+ | Debian 12 (arm) | PASS | SKIPPED | PASS | PASS | +-----------------------------+----------------+--------------+------------------------------+---------------------------+ | Fedora 40 (ARM) | PASS | SKIPPED | SKIPPED | SKIPPED | +-----------------------------+----------------+--------------+------------------------------+---------------------------+ | CentOS Stream 9 (ARM) | PASS | SKIPPED | SKIPPED | SKIPPED | +-----------------------------+----------------+--------------+------------------------------+---------------------------+ | 32-bit Ubuntu 22.04.4 (ARM) | PASS | SKIPPED | SKIPPED | SKIPPED | +-----------------------------+----------------+--------------+------------------------------+---------------------------+ | Fedora 40 (ARM Clang) | PASS | SKIPPED | SKIPPED | SKIPPED | +-----------------------------+----------------+--------------+------------------------------+---------------------------+ | Fedora 41 (ARM Clang) | PASS | SKIPPED | SKIPPED | SKIPPED | +-----------------------------+----------------+--------------+------------------------------+---------------------------+ | Fedora 41 (ARM) | PASS | SKIPPED | SKIPPED | SKIPPED | +-----------------------------+----------------+--------------+------------------------------+---------------------------+ | RHEL9 (ARM) | PASS | SKIPPED | SKIPPED | SKIPPED | +-----------------------------+----------------+--------------+------------------------------+---------------------------+ | Ubuntu 22.04 (ARM) | PASS | SKIPPED | SKIPPED | SKIPPED | +-----------------------------+----------------+--------------+------------------------------+---------------------------+ | Ubuntu 20.04 (ARM) | PASS | SKIPPED | SKIPPED | SKIPPED | +-----------------------------+----------------+--------------+------------------------------+---------------------------+ | Ubuntu 24.04 (ARM) | PASS | SKIPPED | SKIPPED | SKIPPED | +-----------------------------+----------------+--------------+------------------------------+---------------------------+ | Ubuntu 20.04 ARM SVE | SKIPPED | PASS | SKIPPED | SKIPPED | +-----------------------------+----------------+--------------+------------------------------+---------------------------+ Debian 11 (Buster) (ARM) Kernel: Depends on container host Compiler: gcc (Debian 10.2.1-6) 10.2.1 20210110 Debian 12 (arm) Kernel: Depends on container host Compiler: gcc (Debian 12.2.0-14) 12.2.0 Fedora 40 (ARM) Kernel: Depends on container host Compiler: gcc 14.2.1 20240912 (Red Hat 14.2.1-3) CentOS Stream 9 (ARM) Kernel: Depends on container host Compiler: gcc 11.5.0 20240719 (Red Hat 11.5.0-2) 32-bit Ubuntu 22.04.4 (ARM) Kernel: 5.15.83+ aarch64 Compiler: gcc (Ubuntu 11.4.0-1ubuntu1~22.04) 11.4.0 Fedora 40 (ARM Clang) Kernel: Depends on container host Compiler: clang 18.1.8 (Fedora 18.1.8-1.fc40) Fedora 41 (ARM Clang) Kernel: Depends on container host Compiler: clang 19.1.5 (Fedora 19.1.5-1.fc41) Fedora 41 (ARM) Kernel: Depends on container host Compiler: gcc 14.2.1 20240912 (Red Hat 14.2.1-3) RHEL9 (ARM) Kernel: Depends on container host Compiler: gcc 11.5.0 20240719 (Red Hat 11.5.0-2) Ubuntu 22.04 (ARM) Kernel: Depends on container host Compiler: gcc (Ubuntu 11.4.0-1ubuntu1~22.04) 11.4.0 Ubuntu 20.04 (ARM) Kernel: Depends on container host Compiler: gcc (Ubuntu 9.4.0-1ubuntu1~20.04.2) 9.4.0 Ubuntu 24.04 (ARM) Kernel: Depends on container host Compiler: gcc (Ubuntu 13.3.0-6ubuntu2~24.04) 13.3.0 Ubuntu 20.04 ARM SVE Kernel: Depends on container host Compiler: gcc (Ubuntu 10.5.0-1ubuntu1~20.04) 10.5.0 To view detailed results, visit: https://lab.dpdk.org/results/dashboard/patchsets/32519/ UNH-IOL DPDK Community Lab To manage your email subscriptions, visit: https://lab.dpdk.org/results/dashboard/preferences/subscriptions/