From mboxrd@z Thu Jan 1 00:00:00 1970 Return-Path: Received: from mails.dpdk.org (mails.dpdk.org [217.70.189.124]) by inbox.dpdk.org (Postfix) with ESMTP id EBA5E461BD for ; Fri, 7 Feb 2025 16:45:17 +0100 (CET) Received: from mails.dpdk.org (localhost [127.0.0.1]) by mails.dpdk.org (Postfix) with ESMTP id D352942E9C; Fri, 7 Feb 2025 16:45:17 +0100 (CET) Received: from mail-pl1-f227.google.com (mail-pl1-f227.google.com [209.85.214.227]) by mails.dpdk.org (Postfix) with ESMTP id B7FA342DDC for ; Fri, 7 Feb 2025 16:45:16 +0100 (CET) Received: by mail-pl1-f227.google.com with SMTP id d9443c01a7336-21f49bd087cso23595675ad.0 for ; Fri, 07 Feb 2025 07:45:16 -0800 (PST) DKIM-Signature: v=1; a=rsa-sha256; c=relaxed/relaxed; d=iol.unh.edu; s=unh-iol; t=1738943116; x=1739547916; darn=dpdk.org; h=references:in-reply-to:cc:to:from:subject:message-id:date:from:to :cc:subject:date:message-id:reply-to; bh=cYSCQ5nu1yYKpr7HK6RtA9+bSalcUFV9XlC1BPaAGKE=; b=VG/seQ2ULZ5pWNLUjH+7wc60Le/Pxkolw5mmHADwdkVSdLyKw9hmnkT1go+7INMrjD 243Mqq0fVVvk20MqSa+2/hqhkMOuDGLC9huKmSEkiGKWy16htcAV6l1DH0EXtBXbBK1i +j+s3jwlBjJfIT0PjFeCRvaTIl4JU3iIK9r7o= X-Google-DKIM-Signature: v=1; a=rsa-sha256; c=relaxed/relaxed; d=1e100.net; s=20230601; t=1738943116; x=1739547916; h=references:in-reply-to:cc:to:from:subject:message-id:date :x-gm-message-state:from:to:cc:subject:date:message-id:reply-to; bh=cYSCQ5nu1yYKpr7HK6RtA9+bSalcUFV9XlC1BPaAGKE=; b=kvIL4PIjZwSRseHs/cCEi9+IoVBbkUlY4jz7R3ouBmW6QJVeG5vt11Gq+8DcprTA2B 0t9jQWwgEuLz9YHwerfxLpqrHpD9n23G/4pwRrXEL6ujma4Xh0H4LvBjTEZ07HOXRfXt kGP3VBAuTDIjetCyMKvfatnDpXSGy6ITjHLl0KkCbHefo5ZBsrBmq3/iUKWc9ia1440N uFcYS9G/F92BgVsjKUPS8jYTjX05BaSt3g6vPomAzaaI+GlqvQFWMHTdMAGIVguxEoK2 7jMilwxK0n+vAe7QLFz1Orh8dvJDQB0Gnt8xFYgWzoDcvU758SUsXHotmDUI2+sQPsyC MWfw== X-Gm-Message-State: AOJu0YxCrawjpPFJ8UJpJhwWLEmSw4rG3VsHJ4K6mZPJxMd2rwC9hQer WFUB3wRQMzDXbARYsWscq46R6X05ybo4RW3FWoWLMiwn8cu2a5NKgffr5+TANXRLSIswq1UkAt9 PwLAfI/wZ8nvwUiD3Cdokhh7l/QILS6h66e1RYybV X-Gm-Gg: ASbGncsaXr7UVs1G36ld4/GBq/0Psw4iD4u1SHM2H+ZvsnO/uNR9qrxtPr+iXArg+6o HJdrf0ThTy7zMSRhk47WOI9s1RaAWFzGAudlGSrg9jk+rv0C3wv3flr4TuEtlyVl1uUfCtNRE+j GYwPnQTHxDHcqqlP6OhDJMowLOH0/zhBZaxTIQbKzkth65W1mKQHiQs0LcMkANYSORNkYGNzYjt SHAvDC7O3lB21gzM9edFAZQ61m5nTJKUzfQUWvY4SymgXeY990AM+JAr63S58/VpAsVWCPpzWkV OCkp0omjmR22u6w5gNJkweXZ17oUVA== X-Google-Smtp-Source: AGHT+IHIRYvPTCSgikl8BTccwYZAJRZYv89U0jogYnov/FoN5+DCE1PRamnU9/RQn54gIGAs5+cvxp3M7KZ2 X-Received: by 2002:a17:902:f64f:b0:216:5e6b:e23 with SMTP id d9443c01a7336-21f4e6d27b9mr67029265ad.30.1738943115907; Fri, 07 Feb 2025 07:45:15 -0800 (PST) Received: from postal.iol.unh.edu (postal.iol.unh.edu. [132.177.123.84]) by smtp-relay.gmail.com with ESMTPS id d9443c01a7336-21f368766a3sm1920105ad.100.2025.02.07.07.45.15 (version=TLS1_2 cipher=ECDHE-ECDSA-AES128-GCM-SHA256 bits=128/128); Fri, 07 Feb 2025 07:45:15 -0800 (PST) X-Relaying-Domain: iol.unh.edu Date: Fri, 07 Feb 2025 07:45:15 -0800 (PST) Message-ID: <67a62a8b.170a0220.376bcb.a298SMTPIN_ADDED_MISSING@mx.google.com> Received: from [172.21.0.5] (unknown [172.18.0.240]) by postal.iol.unh.edu (Postfix) with ESMTP id 4A52B6052471; Fri, 7 Feb 2025 10:45:15 -0500 (EST) Subject: |SUCCESS| pw151078 [PATCH] [v4] net: add thread-safe crc api From: dpdklab@iol.unh.edu To: Test Report Cc: dpdk-test-reports@iol.unh.edu In-Reply-To: <20250207063758.3971992-1-arkadiuszx.kusztal@intel.com> References: <20250207063758.3971992-1-arkadiuszx.kusztal@intel.com> Content-Type: text/plain X-BeenThere: test-report@dpdk.org X-Mailman-Version: 2.1.29 Precedence: list List-Id: automatic DPDK test reports List-Unsubscribe: , List-Archive: List-Post: List-Help: List-Subscribe: , Errors-To: test-report-bounces@dpdk.org Test-Label: iol-compile-arm64-testing Test-Status: SUCCESS http://dpdk.org/patch/151078 _Testing PASS_ Submitter: Arkadiusz Kusztal Date: Friday, February 07 2025 06:37:58 DPDK git baseline: Repo:dpdk Branch: master CommitID:7125636162d67b1c40ba6802a3ff4466d125d243 151078 --> testing pass Upstream job id: Generic-DPDK-Compile-Meson#359070 Test environment and result as below: +----------------------------------------+--------------------+ | Environment | dpdk_meson_compile | +========================================+====================+ | RHEL9 (ARM) | PASS | +----------------------------------------+--------------------+ | Ubuntu 20.04 ARM GCC Cross Compile | PASS | +----------------------------------------+--------------------+ | Ubuntu 20.04 ARM SVE | PASS | +----------------------------------------+--------------------+ | Debian 12 with MUSDK | PASS | +----------------------------------------+--------------------+ | Fedora 40 (ARM) | PASS | +----------------------------------------+--------------------+ | Fedora 40 (ARM Clang) | PASS | +----------------------------------------+--------------------+ | Fedora 41 (ARM) | PASS | +----------------------------------------+--------------------+ | Fedora 41 (ARM Clang) | PASS | +----------------------------------------+--------------------+ | Ubuntu 20.04 (ARM) | PASS | +----------------------------------------+--------------------+ | Ubuntu 24.04 (ARM) | PASS | +----------------------------------------+--------------------+ | CentOS Stream 9 (ARM) | PASS | +----------------------------------------+--------------------+ | Debian 11 (Buster) (ARM) | PASS | +----------------------------------------+--------------------+ | Debian 12 (arm) | PASS | +----------------------------------------+--------------------+ | Ubuntu 20.04 ARM Clang Cross Compile | PASS | +----------------------------------------+--------------------+ | Ubuntu 20.04 aarch32 GCC Cross Compile | PASS | +----------------------------------------+--------------------+ | Ubuntu 22.04 (ARM) | PASS | +----------------------------------------+--------------------+ RHEL9 (ARM) Kernel: Depends on container host Compiler: gcc 11.5.0 20240719 (Red Hat 11.5.0-2) Ubuntu 20.04 ARM GCC Cross Compile Kernel: Depends on container host Compiler: aarch64-linux-gnu-gcc (Ubuntu 9.4.0-1ubuntu1~20.04.2) 9.4.0 Ubuntu 20.04 ARM SVE Kernel: Depends on container host Compiler: gcc (Ubuntu 10.5.0-1ubuntu1~20.04) 10.5.0 Debian 12 with MUSDK Kernel: Depends on container host Compiler: gcc (Debian 12.2.0-14) 12.2.0 Fedora 40 (ARM) Kernel: Depends on container host Compiler: gcc 14.2.1 20240912 (Red Hat 14.2.1-3) Fedora 40 (ARM Clang) Kernel: Depends on container host Compiler: clang 18.1.8 (Fedora 18.1.8-1.fc40) Fedora 41 (ARM) Kernel: Depends on container host Compiler: gcc 14.2.1 20240912 (Red Hat 14.2.1-3) Fedora 41 (ARM Clang) Kernel: Depends on container host Compiler: clang 19.1.5 (Fedora 19.1.5-1.fc41) Ubuntu 20.04 (ARM) Kernel: Depends on container host Compiler: gcc (Ubuntu 9.4.0-1ubuntu1~20.04.2) 9.4.0 Ubuntu 24.04 (ARM) Kernel: Depends on container host Compiler: gcc (Ubuntu 13.3.0-6ubuntu2~24.04) 13.3.0 CentOS Stream 9 (ARM) Kernel: Depends on container host Compiler: gcc 11.5.0 20240719 (Red Hat 11.5.0-2) Debian 11 (Buster) (ARM) Kernel: Depends on container host Compiler: gcc (Debian 10.2.1-6) 10.2.1 20210110 Debian 12 (arm) Kernel: Depends on container host Compiler: gcc (Debian 12.2.0-14) 12.2.0 Ubuntu 20.04 ARM Clang Cross Compile Kernel: Depends on container host Compiler: clang 10.0.0-4ubuntu1 Ubuntu 20.04 aarch32 GCC Cross Compile Kernel: Depends on container host Compiler: gcc 9.4.0 Ubuntu 22.04 (ARM) Kernel: Depends on container host Compiler: gcc (Ubuntu 11.4.0-1ubuntu1~22.04) 11.4.0 To view detailed results, visit: https://lab.dpdk.org/results/dashboard/patchsets/32519/ UNH-IOL DPDK Community Lab To manage your email subscriptions, visit: https://lab.dpdk.org/results/dashboard/preferences/subscriptions/