From mboxrd@z Thu Jan  1 00:00:00 1970
Return-Path: <test-report-bounces@dpdk.org>
Received: from mails.dpdk.org (mails.dpdk.org [217.70.189.124])
	by inbox.dpdk.org (Postfix) with ESMTP id 9E39C461BD
	for <public@inbox.dpdk.org>; Fri,  7 Feb 2025 16:48:34 +0100 (CET)
Received: from mails.dpdk.org (localhost [127.0.0.1])
	by mails.dpdk.org (Postfix) with ESMTP id 6C15F42E9C;
	Fri,  7 Feb 2025 16:48:34 +0100 (CET)
Received: from mail-pl1-f226.google.com (mail-pl1-f226.google.com
 [209.85.214.226])
 by mails.dpdk.org (Postfix) with ESMTP id 84C2C42DDC
 for <test-report@dpdk.org>; Fri,  7 Feb 2025 16:48:33 +0100 (CET)
Received: by mail-pl1-f226.google.com with SMTP id
 d9443c01a7336-21f48ebaadfso30310685ad.2
 for <test-report@dpdk.org>; Fri, 07 Feb 2025 07:48:33 -0800 (PST)
DKIM-Signature: v=1; a=rsa-sha256; c=relaxed/relaxed;
 d=iol.unh.edu; s=unh-iol; t=1738943312; x=1739548112; darn=dpdk.org;
 h=references:in-reply-to:cc:to:from:subject:message-id:date:from:to
 :cc:subject:date:message-id:reply-to;
 bh=DGLEjrMGJS6n4bw8jDn5+TogZSCaNKK8EYiS2IYZXnM=;
 b=FEq9tWXBUGpV8EvNyJjADVCru9+akJvZTNq8iqWjzEtnIcdRT4ZxKSCK0QYagcW0y5
 RBwXqW4cKGohZKu5ScdavmnSPxu02eUd+38jfteYoSqTVrJ3hR7uYZ9axVpopiJbbl80
 iHKCN51JdWRFR3QgMMeewTpyl7cdhmR6V1RmU=
X-Google-DKIM-Signature: v=1; a=rsa-sha256; c=relaxed/relaxed;
 d=1e100.net; s=20230601; t=1738943312; x=1739548112;
 h=references:in-reply-to:cc:to:from:subject:message-id:date
 :x-gm-message-state:from:to:cc:subject:date:message-id:reply-to;
 bh=DGLEjrMGJS6n4bw8jDn5+TogZSCaNKK8EYiS2IYZXnM=;
 b=Bo/YryH2F0vd/TGzHO4YNGN85YpxQpXqoU1IbJhDojnRUs2+M4NRqKklpJCIhhQE9u
 Komx8CrO9gYA971XREqVhEXfr7hsoDhwp5di2LICc7nGTxI/qi1m/iLcOoNZY7qfk5y6
 gWAdoLJ63VipR9Rsb/E11gofPurhcfm9mReMg6QBI1OyxbxCu6/DvjOCDh274RNc7mvt
 VFShjdTCKl0x3JsNvWHfcDLIE+7BQUnp0RwgoUjtyg5KCCkc9PHcPywDfd4FfDSKqg60
 zqHKFwc3jro0kfL+bkZGIMmHt5EZBx3Q0WttmQ8ChSfxKWZo2R8adSMIIpnCcXUxFDCd
 Thmg==
X-Gm-Message-State: AOJu0YzN49Z9xOMzv+NJHqm6kO29qR8xK0XprsfagXWGp/fWMiVBlmBD
 lN3q0DQkv+63MmaLS3j4N5KjJps+OOThTA4FiUvrnbdOzrqbd9V/PgQOqAXT5PrFvZRBwIU3hXA
 7JzNcCf1hGrsSt7MXma0UKYXIA3139A1UG+NAsFK3
X-Gm-Gg: ASbGncuvkMGjZVPvTKUXCjZxpuXKDlnH/WVN9nYkgc2vWUr0dU23tO1Lc0LGZqL/dbQ
 18Wrq6oOt9hs+nEJvfLOHyniD1GgFxZYB232c+hb0xiX8IIE083iUerzLBnCsmkMHjmBLZJ982l
 CxvpknvCp8H/a8QdUiOVK0waBPp/89xsne9OzN/MWxpx87ifWgIyLMNWZHd+Qh0SO5bFvAsc+gM
 eOvSQgKeG0vPc3Z0WL1S7347lAadPKcVU1GjZROW8H/nt30MxWJONgylV3V/i9TsEH5RJrokie9
 UdgAyv0zq/q2uBUqUJPJ+eBv2DLr0Q==
X-Google-Smtp-Source: AGHT+IHt+LJ/gYWRx6midbhXwb+z8NfSrl2O+wDXgSdagZa/mYv3Glq5t4DhLSM8YrYUga86DgLHOZsZ2JlS
X-Received: by 2002:a05:6a00:3029:b0:724:592d:aa5f with SMTP id
 d2e1a72fcca58-7305d4ef721mr6680422b3a.19.1738943312635; 
 Fri, 07 Feb 2025 07:48:32 -0800 (PST)
Received: from postal.iol.unh.edu (postal.iol.unh.edu. [132.177.123.84])
 by smtp-relay.gmail.com with ESMTPS id
 d2e1a72fcca58-73048e1e9c6sm159438b3a.24.2025.02.07.07.48.32
 (version=TLS1_2 cipher=ECDHE-ECDSA-AES128-GCM-SHA256 bits=128/128);
 Fri, 07 Feb 2025 07:48:32 -0800 (PST)
X-Relaying-Domain: iol.unh.edu
Date: Fri, 07 Feb 2025 07:48:32 -0800 (PST)
Message-ID: <67a62b50.050a0220.2a706a.8693SMTPIN_ADDED_MISSING@mx.google.com>
Received: from [172.21.0.5] (unknown [172.18.0.240])
 by postal.iol.unh.edu (Postfix) with ESMTP id D24846052477;
 Fri,  7 Feb 2025 10:48:31 -0500 (EST)
Subject: |SUCCESS| pw151047-151070 [PATCH] [v1,24/24] net/e1000/base: skip MA
From: dpdklab@iol.unh.edu
To: Test Report <test-report@dpdk.org>
Cc: dpdk-test-reports@iol.unh.edu
In-Reply-To: <63259ddf726a037a6e9efb484b3ec53a8aa340d5.1738858026.git.anatoly.burakov@intel.com>
References: <63259ddf726a037a6e9efb484b3ec53a8aa340d5.1738858026.git.anatoly.burakov@intel.com>
Content-Type: text/plain
X-BeenThere: test-report@dpdk.org
X-Mailman-Version: 2.1.29
Precedence: list
List-Id: automatic DPDK test reports <test-report.dpdk.org>
List-Unsubscribe: <https://mails.dpdk.org/options/test-report>,
 <mailto:test-report-request@dpdk.org?subject=unsubscribe>
List-Archive: <http://mails.dpdk.org/archives/test-report/>
List-Post: <mailto:test-report@dpdk.org>
List-Help: <mailto:test-report-request@dpdk.org?subject=help>
List-Subscribe: <https://mails.dpdk.org/listinfo/test-report>,
 <mailto:test-report-request@dpdk.org?subject=subscribe>
Errors-To: test-report-bounces@dpdk.org

Test-Label: iol-unit-arm64-testing
Test-Status: SUCCESS
http://dpdk.org/patch/151070

_Testing PASS_

Submitter: Burakov, Anatoly <anatoly.burakov@intel.com>
Date: Thursday, February 06 2025 16:08:47 
DPDK git baseline: Repo:dpdk
  Branch: master
  CommitID:abf3b7b7b361f8aa8d75ae00d449b588a0cdcda3

151047-151070 --> testing pass

Upstream job id: Aarch32-Unit-Test#5238

Test environment and result as below:

+-----------------------------+----------------+---------------------------+--------------+------------------------------+
|         Environment         | dpdk_unit_test | cryptodev_sw_zuc_autotest | lpm_autotest | cryptodev_sw_snow3g_autotest |
+=============================+================+===========================+==============+==============================+
| CentOS Stream 9 (ARM)       | PASS           | SKIPPED                   | SKIPPED      | SKIPPED                      |
+-----------------------------+----------------+---------------------------+--------------+------------------------------+
| Debian 11 (Buster) (ARM)    | PASS           | SKIPPED                   | SKIPPED      | SKIPPED                      |
+-----------------------------+----------------+---------------------------+--------------+------------------------------+
| Fedora 40 (ARM)             | PASS           | SKIPPED                   | SKIPPED      | SKIPPED                      |
+-----------------------------+----------------+---------------------------+--------------+------------------------------+
| Fedora 40 (ARM Clang)       | PASS           | SKIPPED                   | SKIPPED      | SKIPPED                      |
+-----------------------------+----------------+---------------------------+--------------+------------------------------+
| Debian 12 (arm)             | PASS           | PASS                      | SKIPPED      | PASS                         |
+-----------------------------+----------------+---------------------------+--------------+------------------------------+
| Fedora 41 (ARM Clang)       | PASS           | SKIPPED                   | SKIPPED      | SKIPPED                      |
+-----------------------------+----------------+---------------------------+--------------+------------------------------+
| Fedora 41 (ARM)             | PASS           | SKIPPED                   | SKIPPED      | SKIPPED                      |
+-----------------------------+----------------+---------------------------+--------------+------------------------------+
| RHEL9 (ARM)                 | PASS           | SKIPPED                   | SKIPPED      | SKIPPED                      |
+-----------------------------+----------------+---------------------------+--------------+------------------------------+
| Ubuntu 20.04 (ARM)          | PASS           | SKIPPED                   | SKIPPED      | SKIPPED                      |
+-----------------------------+----------------+---------------------------+--------------+------------------------------+
| Ubuntu 22.04 (ARM)          | PASS           | SKIPPED                   | SKIPPED      | SKIPPED                      |
+-----------------------------+----------------+---------------------------+--------------+------------------------------+
| Ubuntu 24.04 (ARM)          | PASS           | SKIPPED                   | SKIPPED      | SKIPPED                      |
+-----------------------------+----------------+---------------------------+--------------+------------------------------+
| 32-bit Ubuntu 22.04.4 (ARM) | PASS           | SKIPPED                   | SKIPPED      | SKIPPED                      |
+-----------------------------+----------------+---------------------------+--------------+------------------------------+
| Ubuntu 20.04 ARM SVE        | SKIPPED        | SKIPPED                   | PASS         | SKIPPED                      |
+-----------------------------+----------------+---------------------------+--------------+------------------------------+


CentOS Stream 9 (ARM)
	Kernel: Depends on container host
	Compiler: gcc 11.5.0 20240719 (Red Hat 11.5.0-2)

Debian 11 (Buster) (ARM)
	Kernel: Depends on container host
	Compiler: gcc (Debian 10.2.1-6) 10.2.1 20210110

Fedora 40 (ARM)
	Kernel: Depends on container host
	Compiler: gcc 14.2.1 20240912 (Red Hat 14.2.1-3)

Fedora 40 (ARM Clang)
	Kernel: Depends on container host
	Compiler: clang 18.1.8 (Fedora 18.1.8-1.fc40)

Debian 12 (arm)
	Kernel: Depends on container host
	Compiler: gcc (Debian 12.2.0-14) 12.2.0

Fedora 41 (ARM Clang)
	Kernel: Depends on container host
	Compiler: clang 19.1.5 (Fedora 19.1.5-1.fc41)

Fedora 41 (ARM)
	Kernel: Depends on container host
	Compiler: gcc 14.2.1 20240912 (Red Hat 14.2.1-3)

RHEL9 (ARM)
	Kernel: Depends on container host
	Compiler: gcc 11.5.0 20240719 (Red Hat 11.5.0-2)

Ubuntu 20.04 (ARM)
	Kernel: Depends on container host
	Compiler: gcc (Ubuntu 9.4.0-1ubuntu1~20.04.2) 9.4.0

Ubuntu 22.04 (ARM)
	Kernel: Depends on container host
	Compiler: gcc (Ubuntu 11.4.0-1ubuntu1~22.04) 11.4.0

Ubuntu 24.04 (ARM)
	Kernel: Depends on container host
	Compiler: gcc (Ubuntu 13.3.0-6ubuntu2~24.04) 13.3.0

32-bit Ubuntu 22.04.4 (ARM)
	Kernel: 5.15.83+ aarch64
	Compiler: gcc (Ubuntu 11.4.0-1ubuntu1~22.04) 11.4.0

Ubuntu 20.04 ARM SVE
	Kernel: Depends on container host
	Compiler: gcc (Ubuntu 10.5.0-1ubuntu1~20.04) 10.5.0

To view detailed results, visit:
https://lab.dpdk.org/results/dashboard/patchsets/32513/

UNH-IOL DPDK Community Lab

To manage your email subscriptions, visit: 
https://lab.dpdk.org/results/dashboard/preferences/subscriptions/