From mboxrd@z Thu Jan 1 00:00:00 1970 Return-Path: Received: from mails.dpdk.org (mails.dpdk.org [217.70.189.124]) by inbox.dpdk.org (Postfix) with ESMTP id EF256461BD for ; Fri, 7 Feb 2025 17:04:37 +0100 (CET) Received: from mails.dpdk.org (localhost [127.0.0.1]) by mails.dpdk.org (Postfix) with ESMTP id E52E342EB1; Fri, 7 Feb 2025 17:04:37 +0100 (CET) Received: from mail-yw1-f228.google.com (mail-yw1-f228.google.com [209.85.128.228]) by mails.dpdk.org (Postfix) with ESMTP id 04BF842E9C for ; Fri, 7 Feb 2025 17:04:37 +0100 (CET) Received: by mail-yw1-f228.google.com with SMTP id 00721157ae682-6f6ae4846c7so18895827b3.1 for ; Fri, 07 Feb 2025 08:04:36 -0800 (PST) DKIM-Signature: v=1; a=rsa-sha256; c=relaxed/relaxed; d=iol.unh.edu; s=unh-iol; t=1738944276; x=1739549076; darn=dpdk.org; h=references:in-reply-to:cc:to:from:subject:message-id:date:from:to :cc:subject:date:message-id:reply-to; bh=ZCl8zn7gVjnwrCkolz4o2h1fruJ+PQVBl6zm/9K+Vk8=; b=hF7kehZZoD6G8v5qiXKwNT6+ieVvJ4mj7/7PSlS3IakaFl/BKHE9W5qr+msKr/fy/k i7k1UWiR47kZ3wJyy9YvjrzTB9HgVfpvjXpcj08xRZKE+b4FdLnEvmvvVropWmirDQ0m p0Na4qnFmLwXyc8BVFg5DxT07VMQRYycietlQ= X-Google-DKIM-Signature: v=1; a=rsa-sha256; c=relaxed/relaxed; d=1e100.net; s=20230601; t=1738944276; x=1739549076; h=references:in-reply-to:cc:to:from:subject:message-id:date :x-gm-message-state:from:to:cc:subject:date:message-id:reply-to; bh=ZCl8zn7gVjnwrCkolz4o2h1fruJ+PQVBl6zm/9K+Vk8=; b=DU98MDQYf4NRFDEXWZJPtyolPqgFjuQBfjcyeS3syAosQiHEM/NVklfbww+Ss5VhGC 79iFT+WExZWoONm5j0LhIzlXyEHC2CtNOLWe1aYdSTb8vROpRbZeK9T9P7QnFaFu/d79 4Cse2TC9q3xdT/pcQvRcM9VAczAYtVOOdZcJd3lItBmrpx3Ka/xSCuLXit7XYTUY2YRe FLFMasTXTAzWZt7rU2uSs64PqAcOa4qP/z0P/zhoyRUbstj9UQKdvuCgSSRf7hDd2HMy AdKvR7zftA10kLs5BUPmqh31su9BYtWFOOJB5CaqKAD/kJIHqtdcRuUBmupScai/MUll KGFg== X-Gm-Message-State: AOJu0YxDtUI5/GvoXxr8NIBCOBcL92nkmvbBArSXQeEelBC3Ygn+Pe0Z /m7yQHRE1AHpFbhZoT8pGaBE0v21tnnCYblxmzmetDQyyEPAtu7TvJItNYSV4toHpk1Z+CfQ6R6 AvMXGJ27IaiKDonH9aT2Gg91ca44BbS1IcLYzCmYJ X-Gm-Gg: ASbGncsDe703+opd4ZXEREEdxwB5h/wfw48l/yKrtnHTaSijpvhBC/3jymC0C1Wvn56 POaQOwZFLlF2BwPF5/kWa8kGFPies/UyiVJb6TqNDId1tr36AQvdaeWOP4N2pPHp9AOGlSH7kdd feK/rh+ZqCP0h4WsrvjHijyMlLBj4cKSNLAingTfmroshIFxE1u10kHRwiTFkyybzVm1o+ckcig y6zr3O+qXgI+evolWwo9AGkNKDW0Fvs0kzNuTgLdw2mwxXKj2ayzOj4i9TdsS4KvJpi4vZLBR4H ygRh8b2idLTZ7o04iipl3apRAkurYQ== X-Google-Smtp-Source: AGHT+IGQbOuAewpUfDlRUxqRQvZgleJr8eHSO/g00mu0Hg7XOFtrs0CjScSpET0mh2KObfyMDxrJOmAUTEA7 X-Received: by 2002:a05:690c:3688:b0:6f9:3dd2:7941 with SMTP id 00721157ae682-6f9b2a07e24mr32338757b3.38.1738944276328; Fri, 07 Feb 2025 08:04:36 -0800 (PST) Received: from postal.iol.unh.edu (postal.iol.unh.edu. [132.177.123.84]) by smtp-relay.gmail.com with ESMTPS id 00721157ae682-6f99ffd6114sm412547b3.59.2025.02.07.08.04.36 (version=TLS1_2 cipher=ECDHE-ECDSA-AES128-GCM-SHA256 bits=128/128); Fri, 07 Feb 2025 08:04:36 -0800 (PST) X-Relaying-Domain: iol.unh.edu Date: Fri, 07 Feb 2025 08:04:36 -0800 (PST) Message-ID: <67a62f14.050a0220.2ff739.1edeSMTPIN_ADDED_MISSING@mx.google.com> Received: from [172.21.0.6] (unknown [172.18.0.240]) by postal.iol.unh.edu (Postfix) with ESMTP id DE13F6052471; Fri, 7 Feb 2025 11:04:05 -0500 (EST) Subject: |SUCCESS| pw151079-151088 [PATCH] [RFC,10/10] eal: deprecate weak sy From: dpdklab@iol.unh.edu To: Test Report Cc: dpdk-test-reports@iol.unh.edu In-Reply-To: <20250207083252.3131588-11-david.marchand@redhat.com> References: <20250207083252.3131588-11-david.marchand@redhat.com> Content-Type: text/plain X-BeenThere: test-report@dpdk.org X-Mailman-Version: 2.1.29 Precedence: list List-Id: automatic DPDK test reports List-Unsubscribe: , List-Archive: List-Post: List-Help: List-Subscribe: , Errors-To: test-report-bounces@dpdk.org Test-Label: iol-unit-amd64-testing Test-Status: SUCCESS http://dpdk.org/patch/151088 _Testing PASS_ Submitter: David Marchand Date: Friday, February 07 2025 08:32:50 DPDK git baseline: Repo:dpdk Branch: master CommitID:1bf86800f7daf8d5c71a08a0776ff3b754ee6570 151079-151088 --> testing pass Upstream job id: Generic-Unit-Test-DPDK#312749 Test environment and result as below: +---------------------+----------------+ | Environment | dpdk_unit_test | +=====================+================+ | CentOS Stream 9 | PASS | +---------------------+----------------+ | Debian Bullseye | PASS | +---------------------+----------------+ | Fedora 40 (Clang) | PASS | +---------------------+----------------+ | Debian 12 | PASS | +---------------------+----------------+ | Fedora 41 (Clang) | PASS | +---------------------+----------------+ | Fedora 41 | PASS | +---------------------+----------------+ | Fedora 40 | PASS | +---------------------+----------------+ | Ubuntu 20.04 | PASS | +---------------------+----------------+ | Ubuntu 24.04 | PASS | +---------------------+----------------+ | Ubuntu 22.04 | PASS | +---------------------+----------------+ | RHEL9 | PASS | +---------------------+----------------+ | RHEL8 | PASS | +---------------------+----------------+ | Windows Server 2022 | PASS | +---------------------+----------------+ CentOS Stream 9 Kernel: Depends on container host Compiler: gcc 11.5.0 20240719 (Red Hat 11.5.0-2) Debian Bullseye Kernel: Depends on container host Compiler: gcc (Debian 10.2.1-6) 10.2.1 20210110 Fedora 40 (Clang) Kernel: Depends on container host Compiler: clang 18.1.8 (Fedora 18.1.8-1.fc40) Debian 12 Kernel: Depends on container host Compiler: gcc (Debian 12.2.0-14) 12.2.0 Fedora 41 (Clang) Kernel: Depends on container host Compiler: clang 19.1.5 (Fedora 19.1.5-1.fc41) Fedora 41 Kernel: Depends on container host Compiler: gcc 14.2.1 20240912 (Red Hat 14.2.1-3) Fedora 40 Kernel: Depends on container host Compiler: gcc 14.2.1 20240912 (Red Hat 14.2.1-3) Ubuntu 20.04 Kernel: Depends on container host Compiler: gcc (Ubuntu 9.4.0-1ubuntu1~20.04.2) 9.4.0 Ubuntu 24.04 Kernel: Depends on container host Compiler: gcc (Ubuntu 13.3.0-6ubuntu2~24.04) 13.3.0 Ubuntu 22.04 Kernel: Depends on container host Compiler: gcc (Ubuntu 11.4.0-1ubuntu1~22.04) 11.4.0 RHEL9 Kernel: Depends on container host Compiler: gcc 11.5.0 20240719 (Red Hat 11.5.0-2) RHEL8 Kernel: Depends on container host Compiler: gcc 8.5.0 20210514 (Red Hat 8.5.0-22) Windows Server 2022 Kernel: 10.0.20348.2031 Compiler: clang 15.0.7, gcc 14.1.0 (MinGW), and MSVC VS 19.39.33521 To view detailed results, visit: https://lab.dpdk.org/results/dashboard/patchsets/32520/ UNH-IOL DPDK Community Lab To manage your email subscriptions, visit: https://lab.dpdk.org/results/dashboard/preferences/subscriptions/