From mboxrd@z Thu Jan 1 00:00:00 1970 Return-Path: Received: from mails.dpdk.org (mails.dpdk.org [217.70.189.124]) by inbox.dpdk.org (Postfix) with ESMTP id 6A548461BD for ; Fri, 7 Feb 2025 17:07:18 +0100 (CET) Received: from mails.dpdk.org (localhost [127.0.0.1]) by mails.dpdk.org (Postfix) with ESMTP id 6721342EB1; Fri, 7 Feb 2025 17:07:18 +0100 (CET) Received: from mail-pl1-f227.google.com (mail-pl1-f227.google.com [209.85.214.227]) by mails.dpdk.org (Postfix) with ESMTP id E1FEE42E9C for ; Fri, 7 Feb 2025 17:07:16 +0100 (CET) Received: by mail-pl1-f227.google.com with SMTP id d9443c01a7336-21ddab8800bso32925105ad.3 for ; Fri, 07 Feb 2025 08:07:16 -0800 (PST) DKIM-Signature: v=1; a=rsa-sha256; c=relaxed/relaxed; d=iol.unh.edu; s=unh-iol; t=1738944436; x=1739549236; darn=dpdk.org; h=references:in-reply-to:cc:to:from:subject:message-id:date:from:to :cc:subject:date:message-id:reply-to; bh=xd4tA1mhOFZXoYAv+gIGCaUP72ZVXCMpa60JAc04naQ=; b=V5w53cRjd4a8qKQ/kfh0AK+zhDOD9VToXhcLGwAxgpxnz5Ca4AjYbT/mYSHFYrjZ47 nrIwdDBJoU3l5rRi/s6aIGE17b4VqbU9biP2oF78Zr/BDniqem/QtwZCPNDciU4hOYtI jXULz7VI1RUbBI2iuDDQZ2tzv/beJU12nWsXI= X-Google-DKIM-Signature: v=1; a=rsa-sha256; c=relaxed/relaxed; d=1e100.net; s=20230601; t=1738944436; x=1739549236; h=references:in-reply-to:cc:to:from:subject:message-id:date :x-gm-message-state:from:to:cc:subject:date:message-id:reply-to; bh=xd4tA1mhOFZXoYAv+gIGCaUP72ZVXCMpa60JAc04naQ=; b=Ts8U7ZweQUpT+ZrC9y1rQL7ZID7oZ2nXOQgiQJ9ASMhS6tBoRT5PRSFeogMreubgOA ppFPVnN+iXErzsYdwtBp0NyrGEsYWts3+BTxZARumkkFXM1xOlsmDiFdDO7mQo5pgrNU UIbXj45DZ0wNoIM4xrbW80jceeo1IUN6kwqJqgtAyQGxgiNoEwchlv1R5NkNggsOeIJl 49x6SfLbg/FNN9tcEMkH7mMMa+GC3jdZv1ppmk1wnsO9PA5NSmU3DWhbqm0UEKfSnfdN DfLPaVnbFxkK8Jx5I+J5WLGNkCwUpfmg1AgxqfvvA/jvNlD8olPFJZVAOw32oe9aiHQ5 inaw== X-Gm-Message-State: AOJu0Yx4nZddy4iU/9cusogTpNOO2iwIKEpqPySn6aURFgi3ocvTAI6g Qlnxs1YSaJ6KdCytHyi2OdPTFZxLLVj3FlSVbW10C4jeNLFBlzwNZRxeMhFEe170ziD17p2mwRy Bbi8n3hADLliOQJUJJWbtHKSiHwUkvCOkeOH3GFyY X-Gm-Gg: ASbGncvfVBvwmL+CKrjv9JAGwyb6jZcwPUWtqP8HTVNd+k3c1o1vMHtlG+N2tWkTlLS yDpVfq1oDp0gFCn9JPVUVeXnf8ys7JWjDeKdQjzrUBFZHPwSmxlXVkLG1qtzMu+QmwkDM+DOe34 98x6T4lOOoI08v0MRKbW2He9PtbpWjNPMAMrDjvGPHdSwzkygMn3zSjrdyaol2pEvYbwb6ilbQd xGL/lD5rQFKXIv9OyyjK6McWcEm1mnnkgFH1wZ3K+r013NQKWZQG4+dCpnhVFljOGfZuHZTucPu ICtrukOeRpyQYq/m6t9M566s8P8ViA== X-Google-Smtp-Source: AGHT+IGwYUGVmfFNoZ0fIjuAzEDZHyrSmSdyi9rtBqCs5TY0LDC52bxVL+4n14BMnVM9ByL3wIy8jdz5AUmN X-Received: by 2002:a17:902:e552:b0:216:2259:a4bd with SMTP id d9443c01a7336-21f4e76cfc0mr56643055ad.52.1738944435978; Fri, 07 Feb 2025 08:07:15 -0800 (PST) Received: from postal.iol.unh.edu (postal.iol.unh.edu. [132.177.123.84]) by smtp-relay.gmail.com with ESMTPS id d9443c01a7336-21f36877c83sm1877805ad.103.2025.02.07.08.07.15 (version=TLS1_2 cipher=ECDHE-ECDSA-AES128-GCM-SHA256 bits=128/128); Fri, 07 Feb 2025 08:07:15 -0800 (PST) X-Relaying-Domain: iol.unh.edu Date: Fri, 07 Feb 2025 08:07:15 -0800 (PST) Message-ID: <67a62fb3.170a0220.1eb828.a639SMTPIN_ADDED_MISSING@mx.google.com> Received: from [172.21.0.6] (unknown [172.18.0.240]) by postal.iol.unh.edu (Postfix) with ESMTP id 3278F6052483; Fri, 7 Feb 2025 11:07:15 -0500 (EST) Subject: |SUCCESS| pw151079-151088 [PATCH] [RFC,10/10] eal: deprecate weak sy From: dpdklab@iol.unh.edu To: Test Report Cc: dpdk-test-reports@iol.unh.edu In-Reply-To: <20250207083252.3131588-11-david.marchand@redhat.com> References: <20250207083252.3131588-11-david.marchand@redhat.com> Content-Type: text/plain X-BeenThere: test-report@dpdk.org X-Mailman-Version: 2.1.29 Precedence: list List-Id: automatic DPDK test reports List-Unsubscribe: , List-Archive: List-Post: List-Help: List-Subscribe: , Errors-To: test-report-bounces@dpdk.org Test-Label: iol-abi-testing Test-Status: SUCCESS http://dpdk.org/patch/151088 _Testing PASS_ Submitter: David Marchand Date: Friday, February 07 2025 08:32:50 DPDK git baseline: Repo:dpdk Branch: master CommitID:1bf86800f7daf8d5c71a08a0776ff3b754ee6570 151079-151088 --> testing pass Upstream job id: Generic-DPDK-Compile-ABI#115259 Test environment and result as below: +-------------------+----------+ | Environment | abi_test | +===================+==========+ | CentOS Stream 9 | PASS | +-------------------+----------+ | Debian Bullseye | PASS | +-------------------+----------+ | Debian 12 | PASS | +-------------------+----------+ | Fedora 40 (Clang) | PASS | +-------------------+----------+ | Fedora 40 | PASS | +-------------------+----------+ | Fedora 41 | PASS | +-------------------+----------+ | Fedora 41 (Clang) | PASS | +-------------------+----------+ | RHEL8 | PASS | +-------------------+----------+ | RHEL9 | PASS | +-------------------+----------+ | Ubuntu 24.04 | PASS | +-------------------+----------+ | Ubuntu 22.04 | PASS | +-------------------+----------+ | openSUSE Leap 15 | PASS | +-------------------+----------+ CentOS Stream 9 Kernel: Depends on container host Compiler: gcc 11.5.0 20240719 (Red Hat 11.5.0-2) Debian Bullseye Kernel: Depends on container host Compiler: gcc (Debian 10.2.1-6) 10.2.1 20210110 Debian 12 Kernel: Depends on container host Compiler: gcc (Debian 12.2.0-14) 12.2.0 Fedora 40 (Clang) Kernel: Depends on container host Compiler: clang 18.1.8 (Fedora 18.1.8-1.fc40) Fedora 40 Kernel: Depends on container host Compiler: gcc 14.2.1 20240912 (Red Hat 14.2.1-3) Fedora 41 Kernel: Depends on container host Compiler: gcc 14.2.1 20240912 (Red Hat 14.2.1-3) Fedora 41 (Clang) Kernel: Depends on container host Compiler: clang 19.1.5 (Fedora 19.1.5-1.fc41) RHEL8 Kernel: Depends on container host Compiler: gcc 8.5.0 20210514 (Red Hat 8.5.0-22) RHEL9 Kernel: Depends on container host Compiler: gcc 11.5.0 20240719 (Red Hat 11.5.0-2) Ubuntu 24.04 Kernel: Depends on container host Compiler: gcc (Ubuntu 13.3.0-6ubuntu2~24.04) 13.3.0 Ubuntu 22.04 Kernel: Depends on container host Compiler: gcc (Ubuntu 11.4.0-1ubuntu1~22.04) 11.4.0 openSUSE Leap 15 Kernel: Depends on container host Compiler: gcc (SUSE Linux) 7.5.0 To view detailed results, visit: https://lab.dpdk.org/results/dashboard/patchsets/32520/ UNH-IOL DPDK Community Lab To manage your email subscriptions, visit: https://lab.dpdk.org/results/dashboard/preferences/subscriptions/