From mboxrd@z Thu Jan 1 00:00:00 1970 Return-Path: Received: from mails.dpdk.org (mails.dpdk.org [217.70.189.124]) by inbox.dpdk.org (Postfix) with ESMTP id B304E461BD for ; Fri, 7 Feb 2025 17:37:51 +0100 (CET) Received: from mails.dpdk.org (localhost [127.0.0.1]) by mails.dpdk.org (Postfix) with ESMTP id 8F63342EB1; Fri, 7 Feb 2025 17:37:51 +0100 (CET) Received: from mail-pl1-f226.google.com (mail-pl1-f226.google.com [209.85.214.226]) by mails.dpdk.org (Postfix) with ESMTP id 6BF1C42E9C for ; Fri, 7 Feb 2025 17:37:50 +0100 (CET) Received: by mail-pl1-f226.google.com with SMTP id d9443c01a7336-21f5a224544so9042415ad.0 for ; Fri, 07 Feb 2025 08:37:50 -0800 (PST) DKIM-Signature: v=1; a=rsa-sha256; c=relaxed/relaxed; d=iol.unh.edu; s=unh-iol; t=1738946269; x=1739551069; darn=dpdk.org; h=cc:to:from:subject:message-id:date:from:to:cc:subject:date :message-id:reply-to; bh=f83JdRzQp3DoPHq+Z1qfHGsCtdSlH3MP1T3aTz7aRM0=; b=BGbt7qXt0mGkDBpFyHhvL1A25CNMofspjsWnQ2gqS0er5z6NEX4NllODZyVzwCiD58 QZ+b9rIIRtafgzY1tkb5k++XISm1yX8hBV7QM0rh0++nKQ+LCrIUX+/1YxI4V46bViYU H+cz5jLkduU6XHfWFfw/M4uCXm4OxL/R7uhvM= X-Google-DKIM-Signature: v=1; a=rsa-sha256; c=relaxed/relaxed; d=1e100.net; s=20230601; t=1738946269; x=1739551069; h=cc:to:from:subject:message-id:date:x-gm-message-state:from:to:cc :subject:date:message-id:reply-to; bh=f83JdRzQp3DoPHq+Z1qfHGsCtdSlH3MP1T3aTz7aRM0=; b=WfcPy+YGj7PkSUJYiGDC5FWo8VoRtDI6+7blAyksl1sE8D0jpPBGYqRMWyXwKpR5DH rIgXNqyVZO0ISDp4IZme3oJNcD+E6eqEx32wouqy4pU4XJOT6yCQ2rDwjXPNR523NQn3 lJhfQyP2FzQSIVFegUnDPoJBnKEBewBLq1RFYM2+ysjkeHxi6viT8F7B7l5RqmjYnM/S 9mlr1c8Ey732AkC3vkIgHazhR/humW/mvHLF/qXudPi+tIAQm6gYYBP3IVhghywv48Q7 qzfzha/zTpELSyLZHBkPjRZynuAQnaT1R0yAxEafudui4pa7t9KkausZpCtijaWiqqhE uH4Q== X-Gm-Message-State: AOJu0Yz7usd5C2L+TYL096JvpHExXB+SLnpTY2p9eR2k0mojUSoIyE4A mX4RKJwubLkxzkOlrlIifSsB9RJY0FQZ+yvtWMAW0FBfzU61AC/2Y46XMHZRx7iB5NS+WIfWbeY CKqwLnR4EMf5dEBN30cd3oQUKxl/0DRpX6YwBA+Mi X-Gm-Gg: ASbGncug5nW+23vBygrisBrD3LFp1AD89+bkuYpOYR0Hyp/1RdDEmjucNN01sbh4z7v rmdIxGDys0jW371MLA1MNhS9KEHEW4/92NrWffa0KFZTTBUAnJYPpLiKu8Su4dnIst9E78WH2mX 3w3rdYvTa19uvFRfxdP49k3lkMxU8YotE0VCgZ7DiIlDv78vc5VuRP/pSciFnB/B9mBQWkKEL1M K3fhc3+ei6MWkZwtj1Nzy1pR0fq+LBhWhJMKOoN0FoO2w9tjq6+9tpXOR3g7XFV5EaQwWysmmCs L/nrB5uFGAi1LjV1yl+Kl24p40dfOQ== X-Google-Smtp-Source: AGHT+IH8Oo3LMAS0w7FFVifiQOnE2pmHMWzgMrKC54vjcYWhhOLcB7+igxS2vDLreyy3pyKOyOgzBf+qm4av X-Received: by 2002:a17:902:f60d:b0:21a:8dec:e59f with SMTP id d9443c01a7336-21f4e7637d1mr53354685ad.39.1738946267978; Fri, 07 Feb 2025 08:37:47 -0800 (PST) Received: from postal.iol.unh.edu (postal.iol.unh.edu. [132.177.123.84]) by smtp-relay.gmail.com with ESMTPS id d9443c01a7336-21f3687711fsm1958455ad.102.2025.02.07.08.37.47 (version=TLS1_2 cipher=ECDHE-ECDSA-AES128-GCM-SHA256 bits=128/128); Fri, 07 Feb 2025 08:37:47 -0800 (PST) X-Relaying-Domain: iol.unh.edu Date: Fri, 07 Feb 2025 08:37:47 -0800 (PST) Message-ID: <67a636db.170a0220.379c7a.a817SMTPIN_ADDED_MISSING@mx.google.com> Received: from [172.21.0.5] (unknown [172.18.0.240]) by postal.iol.unh.edu (Postfix) with ESMTP id 1D3676052471; Fri, 7 Feb 2025 11:37:47 -0500 (EST) Subject: |SUCCESS| [GIT MASTER] e5ece9ae686535f29ae72c03fec26dc16ff7a925 From: dpdklab@iol.unh.edu To: Test Report Cc: dpdk-test-reports@iol.unh.edu, Stephen Hemminger Content-Type: text/plain X-BeenThere: test-report@dpdk.org X-Mailman-Version: 2.1.29 Precedence: list List-Id: automatic DPDK test reports List-Unsubscribe: , List-Archive: List-Post: List-Help: List-Subscribe: , Errors-To: test-report-bounces@dpdk.org _Testing PASS_ Branch: dpdk-next-net e5ece9ae686535f29ae72c03fec26dc16ff7a925 --> testing pass Upstream job id: Generic-Unit-Test-DPDK#312719 Test environment and result as below: +-----------------------------+----------------+--------------+---------------------------+------------------------------+ | Environment | dpdk_unit_test | lpm_autotest | cryptodev_sw_zuc_autotest | cryptodev_sw_snow3g_autotest | +=============================+================+==============+===========================+==============================+ | CentOS Stream 9 (ARM) | PASS | SKIPPED | SKIPPED | SKIPPED | +-----------------------------+----------------+--------------+---------------------------+------------------------------+ | Debian 11 (Buster) (ARM) | PASS | SKIPPED | SKIPPED | SKIPPED | +-----------------------------+----------------+--------------+---------------------------+------------------------------+ | Fedora 40 (ARM) | PASS | SKIPPED | SKIPPED | SKIPPED | +-----------------------------+----------------+--------------+---------------------------+------------------------------+ | Debian 12 (arm) | PASS | SKIPPED | PASS | PASS | +-----------------------------+----------------+--------------+---------------------------+------------------------------+ | Fedora 40 (ARM Clang) | PASS | SKIPPED | SKIPPED | SKIPPED | +-----------------------------+----------------+--------------+---------------------------+------------------------------+ | Fedora 41 (ARM) | PASS | SKIPPED | SKIPPED | SKIPPED | +-----------------------------+----------------+--------------+---------------------------+------------------------------+ | Fedora 41 (ARM Clang) | PASS | SKIPPED | SKIPPED | SKIPPED | +-----------------------------+----------------+--------------+---------------------------+------------------------------+ | RHEL9 (ARM) | PASS | SKIPPED | SKIPPED | SKIPPED | +-----------------------------+----------------+--------------+---------------------------+------------------------------+ | Ubuntu 20.04 (ARM) | PASS | SKIPPED | SKIPPED | SKIPPED | +-----------------------------+----------------+--------------+---------------------------+------------------------------+ | Ubuntu 22.04 (ARM) | PASS | SKIPPED | SKIPPED | SKIPPED | +-----------------------------+----------------+--------------+---------------------------+------------------------------+ | Ubuntu 24.04 (ARM) | PASS | SKIPPED | SKIPPED | SKIPPED | +-----------------------------+----------------+--------------+---------------------------+------------------------------+ | 32-bit Ubuntu 22.04.4 (ARM) | PASS | SKIPPED | SKIPPED | SKIPPED | +-----------------------------+----------------+--------------+---------------------------+------------------------------+ | Ubuntu 20.04 ARM SVE | SKIPPED | PASS | SKIPPED | SKIPPED | +-----------------------------+----------------+--------------+---------------------------+------------------------------+ CentOS Stream 9 (ARM) Kernel: Depends on container host Compiler: gcc 11.5.0 20240719 (Red Hat 11.5.0-2) Debian 11 (Buster) (ARM) Kernel: Depends on container host Compiler: gcc (Debian 10.2.1-6) 10.2.1 20210110 Fedora 40 (ARM) Kernel: Depends on container host Compiler: gcc 14.2.1 20240912 (Red Hat 14.2.1-3) Debian 12 (arm) Kernel: Depends on container host Compiler: gcc (Debian 12.2.0-14) 12.2.0 Fedora 40 (ARM Clang) Kernel: Depends on container host Compiler: clang 18.1.8 (Fedora 18.1.8-1.fc40) Fedora 41 (ARM) Kernel: Depends on container host Compiler: gcc 14.2.1 20240912 (Red Hat 14.2.1-3) Fedora 41 (ARM Clang) Kernel: Depends on container host Compiler: clang 19.1.5 (Fedora 19.1.5-1.fc41) RHEL9 (ARM) Kernel: Depends on container host Compiler: gcc 11.5.0 20240719 (Red Hat 11.5.0-2) Ubuntu 20.04 (ARM) Kernel: Depends on container host Compiler: gcc (Ubuntu 9.4.0-1ubuntu1~20.04.2) 9.4.0 Ubuntu 22.04 (ARM) Kernel: Depends on container host Compiler: gcc (Ubuntu 11.4.0-1ubuntu1~22.04) 11.4.0 Ubuntu 24.04 (ARM) Kernel: Depends on container host Compiler: gcc (Ubuntu 13.3.0-6ubuntu2~24.04) 13.3.0 32-bit Ubuntu 22.04.4 (ARM) Kernel: 5.15.83+ aarch64 Compiler: gcc (Ubuntu 11.4.0-1ubuntu1~22.04) 11.4.0 Ubuntu 20.04 ARM SVE Kernel: Depends on container host Compiler: gcc (Ubuntu 10.5.0-1ubuntu1~20.04) 10.5.0 To view detailed results, visit: https://lab.dpdk.org/results/dashboard/tarballs/32486/ UNH-IOL DPDK Community Lab To manage your email subscriptions, visit: https://lab.dpdk.org/results/dashboard/preferences/subscriptions/