From mboxrd@z Thu Jan 1 00:00:00 1970 Return-Path: Received: from mails.dpdk.org (mails.dpdk.org [217.70.189.124]) by inbox.dpdk.org (Postfix) with ESMTP id 2D12E461BD for ; Fri, 7 Feb 2025 17:43:10 +0100 (CET) Received: from mails.dpdk.org (localhost [127.0.0.1]) by mails.dpdk.org (Postfix) with ESMTP id 08B4142EB1; Fri, 7 Feb 2025 17:43:10 +0100 (CET) Received: from mail-yw1-f226.google.com (mail-yw1-f226.google.com [209.85.128.226]) by mails.dpdk.org (Postfix) with ESMTP id DCFE542E9C for ; Fri, 7 Feb 2025 17:43:08 +0100 (CET) Received: by mail-yw1-f226.google.com with SMTP id 00721157ae682-6f768e9be1aso28929697b3.0 for ; Fri, 07 Feb 2025 08:43:08 -0800 (PST) DKIM-Signature: v=1; a=rsa-sha256; c=relaxed/relaxed; d=iol.unh.edu; s=unh-iol; t=1738946588; x=1739551388; darn=dpdk.org; h=references:in-reply-to:cc:to:from:subject:message-id:date:from:to :cc:subject:date:message-id:reply-to; bh=xgIZEEx5HI5jbXFoGPe3NffhmnnwLjbmsSPdHPg0EG8=; b=WAt5i16UDgl30C01n7pCu7aZN/8m2Hzt48gYA6hd8SfDDy3oFV0siZa29m9NpcewMR 5d8XXdQfS/doYgeXj3lrh2EiCuhmw8C0p/fCNHPF0VP3FBrDGWT5+chnuVa+L4kFS0oF wMrTTSq5Z8Z8uR0DmciCPXfEdYKqluK4TJ6ic= X-Google-DKIM-Signature: v=1; a=rsa-sha256; c=relaxed/relaxed; d=1e100.net; s=20230601; t=1738946588; x=1739551388; h=references:in-reply-to:cc:to:from:subject:message-id:date :x-gm-message-state:from:to:cc:subject:date:message-id:reply-to; bh=xgIZEEx5HI5jbXFoGPe3NffhmnnwLjbmsSPdHPg0EG8=; b=Z7v75mVBRpRlve89PSjpBIoHHq0EbecW7wI0AKXDsir+aE/Sm9RpamPZw8S8wzfk4C krYiugUBdljzJOSR1tKOAuE5kZQfkeWzU5u8b26KbQvw/falebDVTmUMkCFSrL7Ohe2y CDC9RkLU0HMNE3bgHc600yvqmVQLZ50VPw77V0C5VZpOKtTovW0PKQSGKn3RjlT3Hs/M C8ksu9VQB5o80UWicCHl8HPPAMf7OBSks0CmXGS/kwA7W5KZgyX9t/UHNEBUBBpU2tlM hIk4G1xcSweJKyi21vCxpwKTnpUmdy3zXx3ey5tWFqn3nE+uU/zZduQBL7wOUm7pTkoW a8Cg== X-Gm-Message-State: AOJu0YysvwOD8sSkzXsTU7W4/aAAaCXyhcs8vOUDSb9me/r9AyM5Skhd HjYQI8nzVflwrKRJn+gOIlDq06Zl21DWz6ke1DCQp1quB35WhRcx7+lIEow9FwzpOBPPNfoFyIT ivtNbnLtDSV2SVJB3PVGEu5hwBIragpbqwJDTGWZj X-Gm-Gg: ASbGncujsBNvazwRgbtxX/h7KaYuFVZxoyh5Gv9tJt9l23pPl625KvDJE0OsWSvXuot ZQllbqNwusQ5I/PayxHo1l0luGQqzVVc5lnvo/YTxOmMOJnGgJtiNEGk06mxkLifJ34e8EkuHOx eCmpzK19v6hB6GousjoO06cxPc4Tz9+k9N1stPaxApZwtyZWOzFsYUJLebdNGbSutm5yYpsY4cV bNjT4hfg/JA2fP24/SiOEMfN5rrqbZXFTzhOrHs2nz4RrpB/tShNICZ5U9h9ttq4brp0bQ4H3uo trZQRArD3FlGZJMdTN/JD4xPIynGKg== X-Google-Smtp-Source: AGHT+IEvp8MoB/HUBClK0gahuKaF1zWFCdRIeldsWxUXJPfOHaNONEh3iDh6H45uYeBB8dlSvx5loP1EGycM X-Received: by 2002:a05:690c:6485:b0:6f9:a997:3a54 with SMTP id 00721157ae682-6f9b39a5a20mr33326107b3.18.1738946588206; Fri, 07 Feb 2025 08:43:08 -0800 (PST) Received: from postal.iol.unh.edu (postal.iol.unh.edu. [132.177.123.84]) by smtp-relay.gmail.com with ESMTPS id 00721157ae682-6f99fa9f903sm505887b3.0.2025.02.07.08.43.08 (version=TLS1_2 cipher=ECDHE-ECDSA-AES128-GCM-SHA256 bits=128/128); Fri, 07 Feb 2025 08:43:08 -0800 (PST) X-Relaying-Domain: iol.unh.edu Date: Fri, 07 Feb 2025 08:43:08 -0800 (PST) Message-ID: <67a6381c.050a0220.9a825.263fSMTPIN_ADDED_MISSING@mx.google.com> Received: from [172.21.0.5] (unknown [172.18.0.240]) by postal.iol.unh.edu (Postfix) with ESMTP id CD1D56052472; Fri, 7 Feb 2025 11:42:37 -0500 (EST) Subject: |SUCCESS| pw151089 [PATCH] common/qat: fix incorrect size in the par From: dpdklab@iol.unh.edu To: Test Report Cc: dpdk-test-reports@iol.unh.edu In-Reply-To: <20250207095832.4032332-1-arkadiuszx.kusztal@intel.com> References: <20250207095832.4032332-1-arkadiuszx.kusztal@intel.com> Content-Type: text/plain X-BeenThere: test-report@dpdk.org X-Mailman-Version: 2.1.29 Precedence: list List-Id: automatic DPDK test reports List-Unsubscribe: , List-Archive: List-Post: List-Help: List-Subscribe: , Errors-To: test-report-bounces@dpdk.org Test-Label: iol-abi-testing Test-Status: SUCCESS http://dpdk.org/patch/151089 _Testing PASS_ Submitter: Arkadiusz Kusztal Date: Friday, February 07 2025 09:58:32 DPDK git baseline: Repo:dpdk Branch: master CommitID:7125636162d67b1c40ba6802a3ff4466d125d243 151089 --> testing pass Upstream job id: Generic-DPDK-Compile-ABI#115271 Test environment and result as below: +-------------------+----------+ | Environment | abi_test | +===================+==========+ | CentOS Stream 9 | PASS | +-------------------+----------+ | Debian Bullseye | PASS | +-------------------+----------+ | Debian 12 | PASS | +-------------------+----------+ | Fedora 40 (Clang) | PASS | +-------------------+----------+ | Fedora 40 | PASS | +-------------------+----------+ | Fedora 41 (Clang) | PASS | +-------------------+----------+ | Fedora 41 | PASS | +-------------------+----------+ | openSUSE Leap 15 | PASS | +-------------------+----------+ | RHEL8 | PASS | +-------------------+----------+ | RHEL9 | PASS | +-------------------+----------+ | Ubuntu 22.04 | PASS | +-------------------+----------+ | Ubuntu 24.04 | PASS | +-------------------+----------+ CentOS Stream 9 Kernel: Depends on container host Compiler: gcc 11.5.0 20240719 (Red Hat 11.5.0-2) Debian Bullseye Kernel: Depends on container host Compiler: gcc (Debian 10.2.1-6) 10.2.1 20210110 Debian 12 Kernel: Depends on container host Compiler: gcc (Debian 12.2.0-14) 12.2.0 Fedora 40 (Clang) Kernel: Depends on container host Compiler: clang 18.1.8 (Fedora 18.1.8-1.fc40) Fedora 40 Kernel: Depends on container host Compiler: gcc 14.2.1 20240912 (Red Hat 14.2.1-3) Fedora 41 (Clang) Kernel: Depends on container host Compiler: clang 19.1.5 (Fedora 19.1.5-1.fc41) Fedora 41 Kernel: Depends on container host Compiler: gcc 14.2.1 20240912 (Red Hat 14.2.1-3) openSUSE Leap 15 Kernel: Depends on container host Compiler: gcc (SUSE Linux) 7.5.0 RHEL8 Kernel: Depends on container host Compiler: gcc 8.5.0 20210514 (Red Hat 8.5.0-22) RHEL9 Kernel: Depends on container host Compiler: gcc 11.5.0 20240719 (Red Hat 11.5.0-2) Ubuntu 22.04 Kernel: Depends on container host Compiler: gcc (Ubuntu 11.4.0-1ubuntu1~22.04) 11.4.0 Ubuntu 24.04 Kernel: Depends on container host Compiler: gcc (Ubuntu 13.3.0-6ubuntu2~24.04) 13.3.0 To view detailed results, visit: https://lab.dpdk.org/results/dashboard/patchsets/32521/ UNH-IOL DPDK Community Lab To manage your email subscriptions, visit: https://lab.dpdk.org/results/dashboard/preferences/subscriptions/