From mboxrd@z Thu Jan 1 00:00:00 1970 Return-Path: Received: from mails.dpdk.org (mails.dpdk.org [217.70.189.124]) by inbox.dpdk.org (Postfix) with ESMTP id 8F740461BE for ; Fri, 7 Feb 2025 18:06:42 +0100 (CET) Received: from mails.dpdk.org (localhost [127.0.0.1]) by mails.dpdk.org (Postfix) with ESMTP id 60E2E42EB1; Fri, 7 Feb 2025 18:06:42 +0100 (CET) Received: from mail-vs1-f97.google.com (mail-vs1-f97.google.com [209.85.217.97]) by mails.dpdk.org (Postfix) with ESMTP id 6C10142E9C for ; Fri, 7 Feb 2025 18:06:41 +0100 (CET) Received: by mail-vs1-f97.google.com with SMTP id ada2fe7eead31-4ba00b6821aso626858137.2 for ; Fri, 07 Feb 2025 09:06:41 -0800 (PST) DKIM-Signature: v=1; a=rsa-sha256; c=relaxed/relaxed; d=iol.unh.edu; s=unh-iol; t=1738948000; x=1739552800; darn=dpdk.org; h=references:in-reply-to:cc:to:from:subject:message-id:date:from:to :cc:subject:date:message-id:reply-to; bh=fmkpRtnrSSVubT9iuHPX3ll4e2ACn9G7lZDmbyZ+zO4=; b=Ivf9asQk+wRMq4l9SoHpod76Vr+URZ5glidQbeYzXihkiL1PvWUMTD9rpJ5ZUX+wCK 9KHe2gty1p7Xrxhgzpaq+9vbYS/uHo+zTM65wwKmODJqnkmBdG7RxYDuQePORoEXmHDQ 1xy6zHnNEnPOJnxfP2Z2uUUtffcOBUqWbd91s= X-Google-DKIM-Signature: v=1; a=rsa-sha256; c=relaxed/relaxed; d=1e100.net; s=20230601; t=1738948000; x=1739552800; h=references:in-reply-to:cc:to:from:subject:message-id:date :x-gm-message-state:from:to:cc:subject:date:message-id:reply-to; bh=fmkpRtnrSSVubT9iuHPX3ll4e2ACn9G7lZDmbyZ+zO4=; b=MfUN52gE0TV3RhCpa8bMQwrnPlAoq+BgtZYlApc8Zs6sIe0HJFCAa7re67MpV8ENFe MApmK4BWiWb4uwkaFJkn0GkT6/U7zgxBTQiKFH74uY0IpXdEqRb5CaLSH0UwSt4S+E6s jjDUSsMaQPoPlqBTH4xcpu+cByntP1HNOv4YKHAa/G63z4PhA3Xr3LgrqPKf+YBQ1TQy WKzApmjIq34fdqdzDyy6BPu0JVxh7wQhyGRsx018XH6ensDuQSKAqpkeA9HRt9PRh2kc qFO53TLoPwOE2v31gmxM6SqNMsSGCXc+mmtuj7baznoqSKi6KxqjwAnt70JTrEAZSURa q/UA== X-Gm-Message-State: AOJu0Yz0NWr3QDDaWIlwGmwRpTojPVctdvXGDlR2V7jam7jU2Pm61X29 8Gk2WAWhUxtK/wdAivgCDWeTZiNqVemQSm1D9J+lXwvVxzbODgSyxjhluHSQzu1Fea/wYXsTv0D WbThJ2t/H1fS9qy0GN0HFHHIaftAX9wIoth4Bw8Xz X-Gm-Gg: ASbGncsWUP8HMo+wTwIYBMOn+tzuHePxms9Sh8jda9ynXxMTkxHJ64BJA56CS5G1YH7 RYvDX7WG2rmfB6taKxsT+cyeZI8lnXLLQ1f90M2NrIKcEBSHsBReMKsBdnQZdcY8UgZJ5NH8TSK yN+sxVeM4F1p1Dv6FsmZl3ZmeVQd2HwMM9EO4XEOABPyWc0VwSxyHv4bruABpUGr8kIZhlXCpig 1jdvdwWrHDQD+eGmBPY0ABe0R6Lq4aG6iCdNTl37dMsTyYqors0VwGspeih5p8/KPAeJi64ebo0 Zc5+CVDVR+shZcPCL/UmkxYHS0hkoA== X-Google-Smtp-Source: AGHT+IEeVmBfQlrB4qMwNnAB9h8H1eplxWfjGxAD0OOX5ZWxSlWYsCcLXyvdYwUviegywp05X71udmcFPXX6 X-Received: by 2002:a05:6102:571b:b0:4b2:adfb:4f91 with SMTP id ada2fe7eead31-4ba85f47275mr3043664137.21.1738948000594; Fri, 07 Feb 2025 09:06:40 -0800 (PST) Received: from postal.iol.unh.edu (postal.iol.unh.edu. [132.177.123.84]) by smtp-relay.gmail.com with ESMTPS id ada2fe7eead31-4ba7af42d47sm77464137.1.2025.02.07.09.06.40 (version=TLS1_2 cipher=ECDHE-ECDSA-AES128-GCM-SHA256 bits=128/128); Fri, 07 Feb 2025 09:06:40 -0800 (PST) X-Relaying-Domain: iol.unh.edu Date: Fri, 07 Feb 2025 09:06:40 -0800 (PST) Message-ID: <67a63da0.050a0220.162ccb.34a4SMTPIN_ADDED_MISSING@mx.google.com> Received: from [172.21.0.5] (unknown [172.18.0.240]) by postal.iol.unh.edu (Postfix) with ESMTP id 44A366052471; Fri, 7 Feb 2025 12:06:40 -0500 (EST) Subject: |SUCCESS| pw151089 [PATCH] common/qat: fix incorrect size in the par From: dpdklab@iol.unh.edu To: Test Report Cc: dpdk-test-reports@iol.unh.edu In-Reply-To: <20250207095832.4032332-1-arkadiuszx.kusztal@intel.com> References: <20250207095832.4032332-1-arkadiuszx.kusztal@intel.com> Content-Type: text/plain X-BeenThere: test-report@dpdk.org X-Mailman-Version: 2.1.29 Precedence: list List-Id: automatic DPDK test reports List-Unsubscribe: , List-Archive: List-Post: List-Help: List-Subscribe: , Errors-To: test-report-bounces@dpdk.org Test-Label: iol-unit-amd64-testing Test-Status: SUCCESS http://dpdk.org/patch/151089 _Testing PASS_ Submitter: Arkadiusz Kusztal Date: Friday, February 07 2025 09:58:32 DPDK git baseline: Repo:dpdk Branch: master CommitID:7125636162d67b1c40ba6802a3ff4466d125d243 151089 --> testing pass Upstream job id: Generic-Unit-Test-DPDK#312771 Test environment and result as below: +---------------------+----------------+ | Environment | dpdk_unit_test | +=====================+================+ | CentOS Stream 9 | PASS | +---------------------+----------------+ | Windows Server 2022 | PASS | +---------------------+----------------+ | Debian Bullseye | PASS | +---------------------+----------------+ | Debian 12 | PASS | +---------------------+----------------+ | Fedora 40 (Clang) | PASS | +---------------------+----------------+ | Fedora 40 | PASS | +---------------------+----------------+ | Fedora 41 | PASS | +---------------------+----------------+ | RHEL8 | PASS | +---------------------+----------------+ | Fedora 41 (Clang) | PASS | +---------------------+----------------+ | Ubuntu 20.04 | PASS | +---------------------+----------------+ | Ubuntu 24.04 | PASS | +---------------------+----------------+ | Ubuntu 22.04 | PASS | +---------------------+----------------+ | RHEL9 | PASS | +---------------------+----------------+ CentOS Stream 9 Kernel: Depends on container host Compiler: gcc 11.5.0 20240719 (Red Hat 11.5.0-2) Windows Server 2022 Kernel: 10.0.20348.2031 Compiler: clang 15.0.7, gcc 14.1.0 (MinGW), and MSVC VS 19.39.33521 Debian Bullseye Kernel: Depends on container host Compiler: gcc (Debian 10.2.1-6) 10.2.1 20210110 Debian 12 Kernel: Depends on container host Compiler: gcc (Debian 12.2.0-14) 12.2.0 Fedora 40 (Clang) Kernel: Depends on container host Compiler: clang 18.1.8 (Fedora 18.1.8-1.fc40) Fedora 40 Kernel: Depends on container host Compiler: gcc 14.2.1 20240912 (Red Hat 14.2.1-3) Fedora 41 Kernel: Depends on container host Compiler: gcc 14.2.1 20240912 (Red Hat 14.2.1-3) RHEL8 Kernel: Depends on container host Compiler: gcc 8.5.0 20210514 (Red Hat 8.5.0-22) Fedora 41 (Clang) Kernel: Depends on container host Compiler: clang 19.1.5 (Fedora 19.1.5-1.fc41) Ubuntu 20.04 Kernel: Depends on container host Compiler: gcc (Ubuntu 9.4.0-1ubuntu1~20.04.2) 9.4.0 Ubuntu 24.04 Kernel: Depends on container host Compiler: gcc (Ubuntu 13.3.0-6ubuntu2~24.04) 13.3.0 Ubuntu 22.04 Kernel: Depends on container host Compiler: gcc (Ubuntu 11.4.0-1ubuntu1~22.04) 11.4.0 RHEL9 Kernel: Depends on container host Compiler: gcc 11.5.0 20240719 (Red Hat 11.5.0-2) To view detailed results, visit: https://lab.dpdk.org/results/dashboard/patchsets/32521/ UNH-IOL DPDK Community Lab To manage your email subscriptions, visit: https://lab.dpdk.org/results/dashboard/preferences/subscriptions/