From mboxrd@z Thu Jan 1 00:00:00 1970 Return-Path: Received: from mails.dpdk.org (mails.dpdk.org [217.70.189.124]) by inbox.dpdk.org (Postfix) with ESMTP id 193D2461BE for ; Fri, 7 Feb 2025 18:29:51 +0100 (CET) Received: from mails.dpdk.org (localhost [127.0.0.1]) by mails.dpdk.org (Postfix) with ESMTP id EE3CF42EB1; Fri, 7 Feb 2025 18:29:50 +0100 (CET) Received: from mail-yb1-f226.google.com (mail-yb1-f226.google.com [209.85.219.226]) by mails.dpdk.org (Postfix) with ESMTP id CD25742E9C for ; Fri, 7 Feb 2025 18:29:48 +0100 (CET) Received: by mail-yb1-f226.google.com with SMTP id 3f1490d57ef6-e5b1837d182so2881174276.0 for ; Fri, 07 Feb 2025 09:29:48 -0800 (PST) DKIM-Signature: v=1; a=rsa-sha256; c=relaxed/relaxed; d=iol.unh.edu; s=unh-iol; t=1738949388; x=1739554188; darn=dpdk.org; h=references:in-reply-to:cc:to:from:subject:message-id:date:from:to :cc:subject:date:message-id:reply-to; bh=jDxV4mYMhHGArLHnyfKUOc5RwUFKGSuSCuCy7srORPY=; b=AbiVjggTd7U1RI3M0HpG8aAPMDLVnAx/L/kN6rd5nYAR7nXdrBB0UfWM/Fs+D5Bsz+ mLuyFmaNxPD1BxbR5KyCkSUiSK1iCt0F2xcfLGyt7pASv1WFLRaF6F09kdZkW4qmsPss 7I45ichDVuaeURzw3Z2vsemTWOy5uSTq/yxvs= X-Google-DKIM-Signature: v=1; a=rsa-sha256; c=relaxed/relaxed; d=1e100.net; s=20230601; t=1738949388; x=1739554188; h=references:in-reply-to:cc:to:from:subject:message-id:date :x-gm-message-state:from:to:cc:subject:date:message-id:reply-to; bh=jDxV4mYMhHGArLHnyfKUOc5RwUFKGSuSCuCy7srORPY=; b=PPfzz+6mEwNZTImxdTKElPRv1FbQ70IXV6nnrdhTiPkMJBmb13z7eYTiVPnOmMxaDR J6bocUT9OtuigytS/tZpg8gSAdrfJ6bM1gua4M+m7sNfRZCI4fuxS2dJ5UC/m/BGlFpe NL7GYIXDln5VjoYOAms20DMlDOKK4VpSasE5t1qtd62L7mqvZv/hWOELTKiTDHvZV7IM 99PuaHDhWFnMtC3S96briwRR3nRGdIqsnLml42bNr076x3WA3Dpqs/4T/Ku/WbbewNWK LCnN8E3c29BmuOzhtoCGifft8JOs/sEx5CyNpZ9IC2wU6qcdiZ2ga5H47ulEtEy/DyqL q9zw== X-Gm-Message-State: AOJu0Yx8YGTi3Y1TghxwVBY7nRPbc1cqIPDtp1sMheE/2i8Zfb3Cz5pL tqg01HcZHRkfw/NkabYAf+f5hm6v6GRM7zjMO8ZR9C1XZDBtScxIHXhUmQUnMXXOTFo0K0g239G tWQCxy/TRFKwTVC7HIOvSYb4fJeB+iM2HRHLnfCHN X-Gm-Gg: ASbGncvsId9g+gIWCJuC2HEZyWEMwxemAGD6gg8sI3jYGHsThIs/ztopPbSAAMiLRW7 FdTIAZZN5dAQ+lsAj6CdDPCDWTPntTCx/RyRNK5b8vDjRiVEByuUGcgI1zHQVG+R7vF4aJANQdM V7yA4xFcUxUICYmTLN2MQIM7RK4Ad8/zNs9Ob9l7xV4Qy97lJk+Dz2IyxcALsBI/G7UiggPuIVT tOVy0Atlf/UeezePsRTenSx5b2MYiqRFqHLcbweNgR32G1/LoaZMWbGZQ46ToV5sZobbBK+9ezB Vl3pjnT8EYpYhBsiSwTzVb36CZSCQQ== X-Google-Smtp-Source: AGHT+IGzOFq5j9wmNUAv8zRdcUi6pBOl4g15vxUZ6HTqMTuD/eqnBSkrCEp7etoI5lBLFc+vobF0huoAWefc X-Received: by 2002:a05:6902:18c4:b0:e58:cb:70f0 with SMTP id 3f1490d57ef6-e5b46b9ba03mr3662577276.6.1738949388101; Fri, 07 Feb 2025 09:29:48 -0800 (PST) Received: from postal.iol.unh.edu (postal.iol.unh.edu. [132.177.123.84]) by smtp-relay.gmail.com with ESMTPS id 3f1490d57ef6-e5b3a21e1desm205288276.12.2025.02.07.09.29.48 (version=TLS1_2 cipher=ECDHE-ECDSA-AES128-GCM-SHA256 bits=128/128); Fri, 07 Feb 2025 09:29:48 -0800 (PST) X-Relaying-Domain: iol.unh.edu Date: Fri, 07 Feb 2025 09:29:48 -0800 (PST) Message-ID: <67a6430c.250a0220.1b5a2f.af8eSMTPIN_ADDED_MISSING@mx.google.com> Received: from [172.21.0.8] (unknown [172.18.0.240]) by postal.iol.unh.edu (Postfix) with ESMTP id AEE886052471; Fri, 7 Feb 2025 12:29:17 -0500 (EST) Subject: |SUCCESS| pw151090-151091 [PATCH] [v9,2/2] net/af_xdp: Refactor af_x From: dpdklab@iol.unh.edu To: Test Report Cc: dpdk-test-reports@iol.unh.edu In-Reply-To: <20250207104552.1663519-3-ariel.otilibili@6wind.com> References: <20250207104552.1663519-3-ariel.otilibili@6wind.com> Content-Type: text/plain X-BeenThere: test-report@dpdk.org X-Mailman-Version: 2.1.29 Precedence: list List-Id: automatic DPDK test reports List-Unsubscribe: , List-Archive: List-Post: List-Help: List-Subscribe: , Errors-To: test-report-bounces@dpdk.org Test-Label: iol-compile-amd64-testing Test-Status: SUCCESS http://dpdk.org/patch/151091 _Testing PASS_ Submitter: Ariel Otilibili Date: Friday, February 07 2025 10:45:52 DPDK git baseline: Repo:dpdk Branch: master CommitID:e5ece9ae686535f29ae72c03fec26dc16ff7a925 151090-151091 --> testing pass Upstream job id: Windows-Compile-DPDK-VS#4856 Test environment and result as below: +---------------------+-------------------------+--------------------+-------------------+ | Environment | dpdk_llvm_clang_compile | dpdk_meson_compile | dpdk_msvc_compile | +=====================+=========================+====================+===================+ | Windows Server 2022 | PASS | SKIPPED | PASS | +---------------------+-------------------------+--------------------+-------------------+ | FreeBSD 13.4 | SKIPPED | PASS | SKIPPED | +---------------------+-------------------------+--------------------+-------------------+ | FreeBSD 14.2 | SKIPPED | PASS | SKIPPED | +---------------------+-------------------------+--------------------+-------------------+ Windows Server 2022 Kernel: 10.0.20348.2031 Compiler: clang 15.0.7, gcc 14.1.0 (MinGW), and MSVC VS 19.39.33521 FreeBSD 13.4 Kernel: 13.4-RELEASE-p1 Compiler: clang 18.1.6 FreeBSD 14.2 Kernel: 14.2-RELEASE Compiler: clang 18.1.6 To view detailed results, visit: https://lab.dpdk.org/results/dashboard/patchsets/32522/ UNH-IOL DPDK Community Lab To manage your email subscriptions, visit: https://lab.dpdk.org/results/dashboard/preferences/subscriptions/