From mboxrd@z Thu Jan 1 00:00:00 1970 Return-Path: Received: from mails.dpdk.org (mails.dpdk.org [217.70.189.124]) by inbox.dpdk.org (Postfix) with ESMTP id 4457D461BE for ; Fri, 7 Feb 2025 18:31:08 +0100 (CET) Received: from mails.dpdk.org (localhost [127.0.0.1]) by mails.dpdk.org (Postfix) with ESMTP id 3B2FE42EB1; Fri, 7 Feb 2025 18:31:08 +0100 (CET) Received: from mail-yb1-f226.google.com (mail-yb1-f226.google.com [209.85.219.226]) by mails.dpdk.org (Postfix) with ESMTP id BD3E342E9C for ; Fri, 7 Feb 2025 18:31:07 +0100 (CET) Received: by mail-yb1-f226.google.com with SMTP id 3f1490d57ef6-e46c6547266so1842658276.3 for ; Fri, 07 Feb 2025 09:31:07 -0800 (PST) DKIM-Signature: v=1; a=rsa-sha256; c=relaxed/relaxed; d=iol.unh.edu; s=unh-iol; t=1738949467; x=1739554267; darn=dpdk.org; h=references:in-reply-to:cc:to:from:subject:message-id:date:from:to :cc:subject:date:message-id:reply-to; bh=0bI4Jq9qrHEeRvNCCYEAmsT0dEy0wFS/CjeJ6Qz1jgQ=; b=DFOD2TDWykyCvbtjrrsFdSvK8IIGnUo0O/S8ffi94+xAyw3GEaTkBNx1QXkiEKRMdK w9QAKNPu8Z78jo7aphIdZ5KMG1/54Q+qrkYLXIwMw1dfvNcr5UO+OXBqiq4AEofE62yP o7GeHww8b/+Uo7U7UBoznwT5dgpHMJ4fap0FY= X-Google-DKIM-Signature: v=1; a=rsa-sha256; c=relaxed/relaxed; d=1e100.net; s=20230601; t=1738949467; x=1739554267; h=references:in-reply-to:cc:to:from:subject:message-id:date :x-gm-message-state:from:to:cc:subject:date:message-id:reply-to; bh=0bI4Jq9qrHEeRvNCCYEAmsT0dEy0wFS/CjeJ6Qz1jgQ=; b=G7y7HpJNKdaxOUDDwTj2qBAv24nsQEJw6jA+VLLodm4kLqb8mUJ+4OedK+daOZhKGO ZgLFlDWLDROOH9+/+iAkR16cxGcWnVjjYlcvzzzN/dGG1F9OiPe3N0AU0/weNgLgayly ewrQxNFwIw3MIelVrI9X+Z4nHa6J7mGtUEazYilsi6P4jZzO4XPa4PYU9IrchZBGSqcz 7cQbPGdsWag01z7/rmRelUuBhXiVwCTZCvitqSAJdwuJ20NvHXo89/A7BCkDceR0cHit pHsNVegWHO8LScjcUqM/jKDLsrN5AuCC+/pjYRrFhzZeWHJ9cQCU7rm+cBygFTKMz5wB RIDA== X-Gm-Message-State: AOJu0YxTGIdVEDJusoDFiTyN72ACbG7iknl6J4GnZfWvhQ0CGD5O0waD k21471ORPRxWYZwTGa22EfRx9Q1DVYT3R0fRqgGqiNKEhjH0r4fKzPFLFLtrrm8H8GxZKunl+u/ Y8eVkmqORcDApTNf/qdJFRXMOyNcwIZAJxcvRo7M8 X-Gm-Gg: ASbGncuL93f8dUI+8qQXMQYrlGZue0dCBBSEJ05JcjJ4CrPxflweHVK/5gBaA0eYoLg L2bFO6UPQnzJZjEav7lI4BEg9U6dMOxeDMmchciiglhESLQ4bO1B9T3hJahF6fQutRgvzRXA+Rl wMLz4GsQuNTXTW5sIReNcK6kl/01hzC1+6vx9ZY0S9oR+cPDB9kUVxLGhdFVspQlU5WvVJjtCsT YhgQBdNIwpFvtPm3uvwxE0+WFl0U/9s+YJDdjSDQEjtn59jFEtlDZW5yz3OVmtbImIka37ewfYA eI8FoctA6ac4zVC41z+TTQujJelypg== X-Google-Smtp-Source: AGHT+IFfqH/2DSHP1MmK9mltRNY/y/86hR4pF28N0X1uj8I2Z8jTQLJZIR+B3AjIpyxe1gE3Y3/fSzbldW7O X-Received: by 2002:a05:6902:150d:b0:e5b:3af0:d49f with SMTP id 3f1490d57ef6-e5b4616c67cmr3108295276.8.1738949466694; Fri, 07 Feb 2025 09:31:06 -0800 (PST) Received: from postal.iol.unh.edu (postal.iol.unh.edu. [132.177.123.84]) by smtp-relay.gmail.com with ESMTPS id 3f1490d57ef6-e5b3a471e36sm220014276.31.2025.02.07.09.31.06 (version=TLS1_2 cipher=ECDHE-ECDSA-AES128-GCM-SHA256 bits=128/128); Fri, 07 Feb 2025 09:31:06 -0800 (PST) X-Relaying-Domain: iol.unh.edu Date: Fri, 07 Feb 2025 09:31:06 -0800 (PST) Message-ID: <67a6435a.250a0220.c22c.bbc0SMTPIN_ADDED_MISSING@mx.google.com> Received: from [172.21.0.5] (unknown [172.18.0.240]) by postal.iol.unh.edu (Postfix) with ESMTP id 8BE2B6052471; Fri, 7 Feb 2025 12:30:35 -0500 (EST) Subject: |SUCCESS| pw151090-151091 [PATCH] [v9,2/2] net/af_xdp: Refactor af_x From: dpdklab@iol.unh.edu To: Test Report Cc: dpdk-test-reports@iol.unh.edu In-Reply-To: <20250207104552.1663519-3-ariel.otilibili@6wind.com> References: <20250207104552.1663519-3-ariel.otilibili@6wind.com> Content-Type: text/plain X-BeenThere: test-report@dpdk.org X-Mailman-Version: 2.1.29 Precedence: list List-Id: automatic DPDK test reports List-Unsubscribe: , List-Archive: List-Post: List-Help: List-Subscribe: , Errors-To: test-report-bounces@dpdk.org Test-Label: iol-compile-amd64-testing Test-Status: SUCCESS http://dpdk.org/patch/151091 _Testing PASS_ Submitter: Ariel Otilibili Date: Friday, February 07 2025 10:45:52 DPDK git baseline: Repo:dpdk Branch: master CommitID:e5ece9ae686535f29ae72c03fec26dc16ff7a925 151090-151091 --> testing pass Upstream job id: Generic-VM-DPDK-Compile-Meson#33134 Test environment and result as below: +---------------------+-------------------------+--------------------+-------------------+ | Environment | dpdk_llvm_clang_compile | dpdk_meson_compile | dpdk_msvc_compile | +=====================+=========================+====================+===================+ | Windows Server 2022 | PASS | SKIPPED | PASS | +---------------------+-------------------------+--------------------+-------------------+ | FreeBSD 13.4 | SKIPPED | PASS | SKIPPED | +---------------------+-------------------------+--------------------+-------------------+ | FreeBSD 14.2 | SKIPPED | PASS | SKIPPED | +---------------------+-------------------------+--------------------+-------------------+ Windows Server 2022 Kernel: 10.0.20348.2031 Compiler: clang 15.0.7, gcc 14.1.0 (MinGW), and MSVC VS 19.39.33521 FreeBSD 13.4 Kernel: 13.4-RELEASE-p1 Compiler: clang 18.1.6 FreeBSD 14.2 Kernel: 14.2-RELEASE Compiler: clang 18.1.6 To view detailed results, visit: https://lab.dpdk.org/results/dashboard/patchsets/32522/ UNH-IOL DPDK Community Lab To manage your email subscriptions, visit: https://lab.dpdk.org/results/dashboard/preferences/subscriptions/