From mboxrd@z Thu Jan 1 00:00:00 1970 Return-Path: Received: from mails.dpdk.org (mails.dpdk.org [217.70.189.124]) by inbox.dpdk.org (Postfix) with ESMTP id 6518B461BE for ; Fri, 7 Feb 2025 18:48:39 +0100 (CET) Received: from mails.dpdk.org (localhost [127.0.0.1]) by mails.dpdk.org (Postfix) with ESMTP id 5F5B242EC7; Fri, 7 Feb 2025 18:48:39 +0100 (CET) Received: from mail-oo1-f97.google.com (mail-oo1-f97.google.com [209.85.161.97]) by mails.dpdk.org (Postfix) with ESMTP id 135C742EC4 for ; Fri, 7 Feb 2025 18:48:38 +0100 (CET) Received: by mail-oo1-f97.google.com with SMTP id 006d021491bc7-5f6497fbccbso1984546eaf.0 for ; Fri, 07 Feb 2025 09:48:38 -0800 (PST) DKIM-Signature: v=1; a=rsa-sha256; c=relaxed/relaxed; d=iol.unh.edu; s=unh-iol; t=1738950517; x=1739555317; darn=dpdk.org; h=references:in-reply-to:cc:to:from:subject:message-id:date:from:to :cc:subject:date:message-id:reply-to; bh=chLU7fHvcViL/E1ZWBzvtidI+/bjZkt6/3iSBo8nhy0=; b=hAeWxDrcT9bVUGdFFvtaCyMwLcRcjRneZBOt24Xp85zCOXHw4Q+PS1lx1LyJX2dFmL 8i/5RHYc5i/HgVrFZtKWysOffXurdv4dznBsjwWvRytgChuSUekKqWBXFD/UpHadouCb 2ZzDoIG13fPXFc9W5sLXHfPk+D7WIVDxGEvcU= X-Google-DKIM-Signature: v=1; a=rsa-sha256; c=relaxed/relaxed; d=1e100.net; s=20230601; t=1738950517; x=1739555317; h=references:in-reply-to:cc:to:from:subject:message-id:date :x-gm-message-state:from:to:cc:subject:date:message-id:reply-to; bh=chLU7fHvcViL/E1ZWBzvtidI+/bjZkt6/3iSBo8nhy0=; b=ZYhsGuTtgkJORCUtTREXaLNxhn6q6Hb6xRHtBF/CMie3t9hN8vzpesW8Qcolpw98NZ bA7Y9pqQIb+o93h1SRp1P8BrJCl8r+rlraOrQ+DTRaZDrCgtmrckXNXuYQ7FDJCu2rOo AWmgd2u/9dO7K8l5RBCeuOBVqerkoHpJQ24ayb6D23pev0DGE6ANi1JRe3miDmnpvAGF 3SBXBAo5ClEcz5EqNAhjYyIhaWk8dXV/tVgwbGHTmcGY+rRnn8+HzwrRPF5DOSQvApyZ M6mgy+smGglItzc4teRGfJsUBFxMvYRSavgY3jG6j36Mmu6+VKEbwBVONqJVdE5CGeIZ yCAQ== X-Gm-Message-State: AOJu0YxCJ20pMKl4Axgffr05yDTULJExwG+07qR+BDEfBqSN7/EGtITK 6u0dJxHgx6EMSW7Zq7nPSTITZdVNb0HQ2JSMbsspW1t2PYWqmlXZc5rc5zX9gSqiO80ab3ZogcY zpRAvfVvlxo1UzFNBkCS72cvDSXhJ7wsKqxKlLZDD X-Gm-Gg: ASbGncsLT650j0kwb3YKQVJU0cPAOOKJLVuCWzdlYqpRamH7or6dqsliPjBSjz4/jak rXxP1GdioJwxV/FIX1wRAic9JerhR7VJtw/JFIO7byXPx008dT3f42S1XNaX2wJtcAaLM41vZAb JutPnLSSjw7ozpIHXdbX8Af0On7NOXrk+/SEu3SjNzfME+myFMFf7bnBrUFSPOVPpDkY8qsBiVX btbm6lzd0A50vAzgvy6SkKpJXU6TEg0zhAwsSeu65FUDKrvYCwH2z87xQSvblrlcx8Qm84sWAOz UsvQqBnRDfHlkRehDP2oxq1s1DYv1g== X-Google-Smtp-Source: AGHT+IHNidJ1XUVyHkk64lW2wDGsvoi0T8k2bpE1PHBJpIQfXw2aItCg56bMCz3ACbt3ivsXv9u10a3viTQx X-Received: by 2002:a05:6871:628b:b0:2b7:5726:c931 with SMTP id 586e51a60fabf-2b84015e5bcmr2440402fac.5.1738950517327; Fri, 07 Feb 2025 09:48:37 -0800 (PST) Received: from postal.iol.unh.edu (postal.iol.unh.edu. [132.177.123.84]) by smtp-relay.gmail.com with ESMTPS id 586e51a60fabf-2b8261dd0e2sm198099fac.25.2025.02.07.09.48.37 (version=TLS1_2 cipher=ECDHE-ECDSA-AES128-GCM-SHA256 bits=128/128); Fri, 07 Feb 2025 09:48:37 -0800 (PST) X-Relaying-Domain: iol.unh.edu Date: Fri, 07 Feb 2025 09:48:37 -0800 (PST) Message-ID: <67a64775.050a0220.2a83f5.a328SMTPIN_ADDED_MISSING@mx.google.com> Received: from [172.21.0.9] (unknown [172.18.0.240]) by postal.iol.unh.edu (Postfix) with ESMTP id C5AB06052483; Fri, 7 Feb 2025 12:48:36 -0500 (EST) Subject: |SUCCESS| pw149898-149903 [PATCH] [6/6] lib/vhost: remove check arou From: dpdklab@iol.unh.edu To: Test Report Cc: dpdk-test-reports@iol.unh.edu In-Reply-To: <20250112185842.9752-7-otilibil@eurecom.fr> References: <20250112185842.9752-7-otilibil@eurecom.fr> Content-Type: text/plain X-BeenThere: test-report@dpdk.org X-Mailman-Version: 2.1.29 Precedence: list List-Id: automatic DPDK test reports List-Unsubscribe: , List-Archive: List-Post: List-Help: List-Subscribe: , Errors-To: test-report-bounces@dpdk.org Test-Label: iol-compile-amd64-testing Test-Status: SUCCESS http://dpdk.org/patch/149903 _Testing PASS_ Submitter: Ariel Otilibili-Anieli Date: Sunday, January 12 2025 18:58:42 DPDK git baseline: Repo:dpdk Branch: master CommitID:3779f70292c6b3c8fa23e6ca682876506bb08883 149898-149903 --> testing pass Test environment and result as below: +---------------------+--------------------+------------------+-------------------+-------------------------+-------------------+----------------------+ | Environment | dpdk_meson_compile | dpdk_compile_ovs | dpdk_compile_spdk | dpdk_llvm_clang_compile | dpdk_msvc_compile | dpdk_mingw64_compile | +=====================+====================+==================+===================+=========================+===================+======================+ | Debian Bullseye | PASS | PASS | PASS | SKIPPED | SKIPPED | SKIPPED | +---------------------+--------------------+------------------+-------------------+-------------------------+-------------------+----------------------+ | CentOS Stream 9 | PASS | PASS | PASS | SKIPPED | SKIPPED | SKIPPED | +---------------------+--------------------+------------------+-------------------+-------------------------+-------------------+----------------------+ | Fedora 41 (Clang) | PASS | PASS | PASS | SKIPPED | SKIPPED | SKIPPED | +---------------------+--------------------+------------------+-------------------+-------------------------+-------------------+----------------------+ | Fedora 40 | PASS | PASS | PASS | SKIPPED | SKIPPED | SKIPPED | +---------------------+--------------------+------------------+-------------------+-------------------------+-------------------+----------------------+ | Fedora 40 (Clang) | PASS | PASS | PASS | SKIPPED | SKIPPED | SKIPPED | +---------------------+--------------------+------------------+-------------------+-------------------------+-------------------+----------------------+ | RHEL9 | PASS | PASS | SKIPPED | SKIPPED | SKIPPED | SKIPPED | +---------------------+--------------------+------------------+-------------------+-------------------------+-------------------+----------------------+ | Ubuntu 20.04 | PASS | SKIPPED | SKIPPED | SKIPPED | SKIPPED | SKIPPED | +---------------------+--------------------+------------------+-------------------+-------------------------+-------------------+----------------------+ | RHEL8 | PASS | PASS | SKIPPED | SKIPPED | SKIPPED | SKIPPED | +---------------------+--------------------+------------------+-------------------+-------------------------+-------------------+----------------------+ | Fedora 41 | PASS | PASS | PASS | SKIPPED | SKIPPED | SKIPPED | +---------------------+--------------------+------------------+-------------------+-------------------------+-------------------+----------------------+ | openSUSE Leap 15 | PASS | SKIPPED | SKIPPED | SKIPPED | SKIPPED | SKIPPED | +---------------------+--------------------+------------------+-------------------+-------------------------+-------------------+----------------------+ | Ubuntu 22.04 | PASS | PASS | PASS | SKIPPED | SKIPPED | SKIPPED | +---------------------+--------------------+------------------+-------------------+-------------------------+-------------------+----------------------+ | Ubuntu 24.04 | PASS | PASS | PASS | SKIPPED | SKIPPED | SKIPPED | +---------------------+--------------------+------------------+-------------------+-------------------------+-------------------+----------------------+ | FreeBSD 13.4 | PASS | SKIPPED | SKIPPED | SKIPPED | SKIPPED | SKIPPED | +---------------------+--------------------+------------------+-------------------+-------------------------+-------------------+----------------------+ | FreeBSD 14.2 | PASS | SKIPPED | SKIPPED | SKIPPED | SKIPPED | SKIPPED | +---------------------+--------------------+------------------+-------------------+-------------------------+-------------------+----------------------+ | Alpine | PASS | PASS | SKIPPED | SKIPPED | SKIPPED | SKIPPED | +---------------------+--------------------+------------------+-------------------+-------------------------+-------------------+----------------------+ | Debian 12 | PASS | PASS | PASS | SKIPPED | SKIPPED | SKIPPED | +---------------------+--------------------+------------------+-------------------+-------------------------+-------------------+----------------------+ | Windows Server 2022 | SKIPPED | SKIPPED | SKIPPED | PASS | PASS | PASS | +---------------------+--------------------+------------------+-------------------+-------------------------+-------------------+----------------------+ Debian Bullseye Kernel: Depends on container host Compiler: gcc (Debian 10.2.1-6) 10.2.1 20210110 CentOS Stream 9 Kernel: Depends on container host Compiler: gcc 11.5.0 20240719 (Red Hat 11.5.0-2) Fedora 41 (Clang) Kernel: Depends on container host Compiler: clang 19.1.5 (Fedora 19.1.5-1.fc41) Fedora 40 Kernel: Depends on container host Compiler: gcc 14.2.1 20240912 (Red Hat 14.2.1-3) Fedora 40 (Clang) Kernel: Depends on container host Compiler: clang 18.1.8 (Fedora 18.1.8-1.fc40) RHEL9 Kernel: Depends on container host Compiler: gcc 11.5.0 20240719 (Red Hat 11.5.0-2) Ubuntu 20.04 Kernel: Depends on container host Compiler: gcc (Ubuntu 9.4.0-1ubuntu1~20.04.2) 9.4.0 RHEL8 Kernel: Depends on container host Compiler: gcc 8.5.0 20210514 (Red Hat 8.5.0-22) Fedora 41 Kernel: Depends on container host Compiler: gcc 14.2.1 20240912 (Red Hat 14.2.1-3) openSUSE Leap 15 Kernel: Depends on container host Compiler: gcc (SUSE Linux) 7.5.0 Ubuntu 22.04 Kernel: Depends on container host Compiler: gcc (Ubuntu 11.4.0-1ubuntu1~22.04) 11.4.0 Ubuntu 24.04 Kernel: Depends on container host Compiler: gcc (Ubuntu 13.3.0-6ubuntu2~24.04) 13.3.0 FreeBSD 13.4 Kernel: 13.4-RELEASE-p1 Compiler: clang 18.1.6 FreeBSD 14.2 Kernel: 14.2-RELEASE Compiler: clang 18.1.6 Alpine Kernel: Depends on container host Compiler: gcc (Alpine 14.2.0) 14.2.0 Debian 12 Kernel: Depends on container host Compiler: gcc (Debian 12.2.0-14) 12.2.0 Windows Server 2022 Kernel: 10.0.20348.2031 Compiler: clang 15.0.7, gcc 14.1.0 (MinGW), and MSVC VS 19.39.33521 To view detailed results, visit: https://lab.dpdk.org/results/dashboard/patchsets/32298/ UNH-IOL DPDK Community Lab To manage your email subscriptions, visit: https://lab.dpdk.org/results/dashboard/preferences/subscriptions/