From mboxrd@z Thu Jan 1 00:00:00 1970 Return-Path: Received: from mails.dpdk.org (mails.dpdk.org [217.70.189.124]) by inbox.dpdk.org (Postfix) with ESMTP id 91D63461BE for ; Fri, 7 Feb 2025 18:48:48 +0100 (CET) Received: from mails.dpdk.org (localhost [127.0.0.1]) by mails.dpdk.org (Postfix) with ESMTP id 8E84742EC7; Fri, 7 Feb 2025 18:48:48 +0100 (CET) Received: from mail-pl1-f228.google.com (mail-pl1-f228.google.com [209.85.214.228]) by mails.dpdk.org (Postfix) with ESMTP id 6EA6C42EC4 for ; Fri, 7 Feb 2025 18:48:46 +0100 (CET) Received: by mail-pl1-f228.google.com with SMTP id d9443c01a7336-21f50895565so15367175ad.2 for ; Fri, 07 Feb 2025 09:48:46 -0800 (PST) DKIM-Signature: v=1; a=rsa-sha256; c=relaxed/relaxed; d=iol.unh.edu; s=unh-iol; t=1738950525; x=1739555325; darn=dpdk.org; h=cc:to:from:subject:message-id:date:from:to:cc:subject:date :message-id:reply-to; bh=3OJGvGQNYiAocGzpWXQ3paBpw9mrOXuHwpZWqH3lqRc=; b=I8AwdqLpPwrkqFagGOc1lbtTF3gfmgzugBi5XYmdcnd1ahhlzaygSUE4vOsQb5p+Fz +GlKd+ntO8LIL6vocLKm4JPmEytXq6Q5lKmP03sCgD+kRN5kPY64ZdCntEe2ryMW2qUO w15VJBra4/qQ+ReDJpEj7QrNjIxTzuHE1Fzyc= X-Google-DKIM-Signature: v=1; a=rsa-sha256; c=relaxed/relaxed; d=1e100.net; s=20230601; t=1738950525; x=1739555325; h=cc:to:from:subject:message-id:date:x-gm-message-state:from:to:cc :subject:date:message-id:reply-to; bh=3OJGvGQNYiAocGzpWXQ3paBpw9mrOXuHwpZWqH3lqRc=; b=ZzH81iLA4givTlDxA9/MBx2r678/t6SujbAQQiQ7kgkS8+OlD9/hloUNaWEV6npLR4 oGKkhxhSpED348L/iZnsn5zp5nqFNV5cGNeFPZt72CPc3zC81EYfc9Bo+Es+qijX8aH4 7eGzi/ctKoFJBEnNdCl0zmxFkmsmsD5JHd1/aHJthF2REcEznzj47AMxNNWq5Exg8S14 SSeo6pejfwZWsJ04IHlNfCKIQYMJBCHlz+8owQcSRP9gAtU846mylYbS8XCOk4laZ6Tc q6YlrMc3v13+YACNQVQ+gC7eVh2RqSpbXaCXLPjsYTSYq/Y/XOrbATEizGomwoGAAjX+ Z9iw== X-Gm-Message-State: AOJu0YyFLARgj9mF+SWCUndw65XTon+maW2UOhLbdnilGXEQigbD97Qi yR+mv0+OuLQ9I7Op6qwxoVL9JaQi4iappoEIwnWbjBtFflB45HOHf/uc/jcRgyZO0A+dZNP29IA YN9TrSh1BsasKe/ilCKhC0w6RWXw1W8Hdfl6T32/I X-Gm-Gg: ASbGncv9+a6FRGDUoP/2yfnW0q1ZCj+WBVOB7+9YhAVUVP2YkkBM5ZLkd41YSr8aFaF 6pmlOJzVuIq+7ZIErR1mP47HSD3b+cPMA2LNEvrx8MaJnl9aaXhuwOMRFU+Wkg9PEGJrhmdwlbC Yx90rC+rVOCogOMm8xY7UJnKPBfLynkMe4YQ7JeUMOkJ46jW+ozfi+i57keVvH7721WRIKqOzzM MzCJKazMRQTq3GWYWmGyU7IMTDRacGwziBgp7j1lEJ09D/EvwIq4O9khJM6WVFbRcLRhSjfhefz czJr93pG14EfomU0Hk6m+7dRzG+1yA== X-Google-Smtp-Source: AGHT+IElH2FznsO32mRQsNP47m3D64f0zKX8/VchRhm9Urh+unvrymoznQow1wVi+RpoGE9VuBZY7QczcRDo X-Received: by 2002:a17:902:cf0f:b0:215:a028:4ed with SMTP id d9443c01a7336-21f4e6ceecbmr66574665ad.20.1738950525614; Fri, 07 Feb 2025 09:48:45 -0800 (PST) Received: from postal.iol.unh.edu (postal.iol.unh.edu. [132.177.123.84]) by smtp-relay.gmail.com with ESMTPS id d9443c01a7336-21f3653bacbsm2042675ad.40.2025.02.07.09.48.45 (version=TLS1_2 cipher=ECDHE-ECDSA-AES128-GCM-SHA256 bits=128/128); Fri, 07 Feb 2025 09:48:45 -0800 (PST) X-Relaying-Domain: iol.unh.edu Date: Fri, 07 Feb 2025 09:48:45 -0800 (PST) Message-ID: <67a6477d.170a0220.20f0a2.a3c1SMTPIN_ADDED_MISSING@mx.google.com> Received: from [172.21.0.14] (unknown [172.18.0.240]) by postal.iol.unh.edu (Postfix) with ESMTP id C90126052472; Fri, 7 Feb 2025 12:48:14 -0500 (EST) Subject: |SUCCESS| [GIT MASTER] 06e2856620a70000b2a28f0ea715fc247b85fd8d From: dpdklab@iol.unh.edu To: Test Report Cc: dpdk-test-reports@iol.unh.edu, Bruce Richardson Content-Type: text/plain X-BeenThere: test-report@dpdk.org X-Mailman-Version: 2.1.29 Precedence: list List-Id: automatic DPDK test reports List-Unsubscribe: , List-Archive: List-Post: List-Help: List-Subscribe: , Errors-To: test-report-bounces@dpdk.org _Testing PASS_ Branch: dpdk-next-net-intel 06e2856620a70000b2a28f0ea715fc247b85fd8d --> testing pass Test environment and result as below: +---------------------+--------------------+------------------+-------------------+-------------------------+-------------------+----------------------+ | Environment | dpdk_meson_compile | dpdk_compile_ovs | dpdk_compile_spdk | dpdk_llvm_clang_compile | dpdk_msvc_compile | dpdk_mingw64_compile | +=====================+====================+==================+===================+=========================+===================+======================+ | CentOS Stream 9 | PASS | PASS | PASS | SKIPPED | SKIPPED | SKIPPED | +---------------------+--------------------+------------------+-------------------+-------------------------+-------------------+----------------------+ | Debian Bullseye | PASS | PASS | PASS | SKIPPED | SKIPPED | SKIPPED | +---------------------+--------------------+------------------+-------------------+-------------------------+-------------------+----------------------+ | Debian 12 | PASS | PASS | PASS | SKIPPED | SKIPPED | SKIPPED | +---------------------+--------------------+------------------+-------------------+-------------------------+-------------------+----------------------+ | Fedora 40 (Clang) | PASS | PASS | PASS | SKIPPED | SKIPPED | SKIPPED | +---------------------+--------------------+------------------+-------------------+-------------------------+-------------------+----------------------+ | Fedora 41 | PASS | PASS | PASS | SKIPPED | SKIPPED | SKIPPED | +---------------------+--------------------+------------------+-------------------+-------------------------+-------------------+----------------------+ | Fedora 41 (Clang) | PASS | PASS | PASS | SKIPPED | SKIPPED | SKIPPED | +---------------------+--------------------+------------------+-------------------+-------------------------+-------------------+----------------------+ | openSUSE Leap 15 | PASS | SKIPPED | SKIPPED | SKIPPED | SKIPPED | SKIPPED | +---------------------+--------------------+------------------+-------------------+-------------------------+-------------------+----------------------+ | RHEL8 | PASS | PASS | SKIPPED | SKIPPED | SKIPPED | SKIPPED | +---------------------+--------------------+------------------+-------------------+-------------------------+-------------------+----------------------+ | Ubuntu 20.04 | PASS | SKIPPED | SKIPPED | SKIPPED | SKIPPED | SKIPPED | +---------------------+--------------------+------------------+-------------------+-------------------------+-------------------+----------------------+ | RHEL9 | PASS | PASS | SKIPPED | SKIPPED | SKIPPED | SKIPPED | +---------------------+--------------------+------------------+-------------------+-------------------------+-------------------+----------------------+ | Ubuntu 22.04 | PASS | PASS | PASS | SKIPPED | SKIPPED | SKIPPED | +---------------------+--------------------+------------------+-------------------+-------------------------+-------------------+----------------------+ | Ubuntu 24.04 | PASS | PASS | PASS | SKIPPED | SKIPPED | SKIPPED | +---------------------+--------------------+------------------+-------------------+-------------------------+-------------------+----------------------+ | Alpine | PASS | PASS | SKIPPED | SKIPPED | SKIPPED | SKIPPED | +---------------------+--------------------+------------------+-------------------+-------------------------+-------------------+----------------------+ | FreeBSD 13.4 | PASS | SKIPPED | SKIPPED | SKIPPED | SKIPPED | SKIPPED | +---------------------+--------------------+------------------+-------------------+-------------------------+-------------------+----------------------+ | FreeBSD 14.2 | PASS | SKIPPED | SKIPPED | SKIPPED | SKIPPED | SKIPPED | +---------------------+--------------------+------------------+-------------------+-------------------------+-------------------+----------------------+ | Fedora 40 | PASS | PASS | PASS | SKIPPED | SKIPPED | SKIPPED | +---------------------+--------------------+------------------+-------------------+-------------------------+-------------------+----------------------+ | Windows Server 2022 | SKIPPED | SKIPPED | SKIPPED | PASS | PASS | PASS | +---------------------+--------------------+------------------+-------------------+-------------------------+-------------------+----------------------+ CentOS Stream 9 Kernel: Depends on container host Compiler: gcc 11.5.0 20240719 (Red Hat 11.5.0-2) Debian Bullseye Kernel: Depends on container host Compiler: gcc (Debian 10.2.1-6) 10.2.1 20210110 Debian 12 Kernel: Depends on container host Compiler: gcc (Debian 12.2.0-14) 12.2.0 Fedora 40 (Clang) Kernel: Depends on container host Compiler: clang 18.1.8 (Fedora 18.1.8-1.fc40) Fedora 41 Kernel: Depends on container host Compiler: gcc 14.2.1 20240912 (Red Hat 14.2.1-3) Fedora 41 (Clang) Kernel: Depends on container host Compiler: clang 19.1.5 (Fedora 19.1.5-1.fc41) openSUSE Leap 15 Kernel: Depends on container host Compiler: gcc (SUSE Linux) 7.5.0 RHEL8 Kernel: Depends on container host Compiler: gcc 8.5.0 20210514 (Red Hat 8.5.0-22) Ubuntu 20.04 Kernel: Depends on container host Compiler: gcc (Ubuntu 9.4.0-1ubuntu1~20.04.2) 9.4.0 RHEL9 Kernel: Depends on container host Compiler: gcc 11.5.0 20240719 (Red Hat 11.5.0-2) Ubuntu 22.04 Kernel: Depends on container host Compiler: gcc (Ubuntu 11.4.0-1ubuntu1~22.04) 11.4.0 Ubuntu 24.04 Kernel: Depends on container host Compiler: gcc (Ubuntu 13.3.0-6ubuntu2~24.04) 13.3.0 Alpine Kernel: Depends on container host Compiler: gcc (Alpine 14.2.0) 14.2.0 FreeBSD 13.4 Kernel: 13.4-RELEASE-p1 Compiler: clang 18.1.6 FreeBSD 14.2 Kernel: 14.2-RELEASE Compiler: clang 18.1.6 Fedora 40 Kernel: Depends on container host Compiler: gcc 14.2.1 20240912 (Red Hat 14.2.1-3) Windows Server 2022 Kernel: 10.0.20348.2031 Compiler: clang 15.0.7, gcc 14.1.0 (MinGW), and MSVC VS 19.39.33521 To view detailed results, visit: https://lab.dpdk.org/results/dashboard/tarballs/32253/ UNH-IOL DPDK Community Lab To manage your email subscriptions, visit: https://lab.dpdk.org/results/dashboard/preferences/subscriptions/