From mboxrd@z Thu Jan 1 00:00:00 1970 Return-Path: Received: from mails.dpdk.org (mails.dpdk.org [217.70.189.124]) by inbox.dpdk.org (Postfix) with ESMTP id D68E6461BE for ; Fri, 7 Feb 2025 18:49:09 +0100 (CET) Received: from mails.dpdk.org (localhost [127.0.0.1]) by mails.dpdk.org (Postfix) with ESMTP id D262042E90; Fri, 7 Feb 2025 18:49:09 +0100 (CET) Received: from mail-qt1-f228.google.com (mail-qt1-f228.google.com [209.85.160.228]) by mails.dpdk.org (Postfix) with ESMTP id A7AB242EC4 for ; Fri, 7 Feb 2025 18:49:01 +0100 (CET) Received: by mail-qt1-f228.google.com with SMTP id d75a77b69052e-467bc28277eso19295861cf.1 for ; Fri, 07 Feb 2025 09:49:01 -0800 (PST) DKIM-Signature: v=1; a=rsa-sha256; c=relaxed/relaxed; d=iol.unh.edu; s=unh-iol; t=1738950541; x=1739555341; darn=dpdk.org; h=references:in-reply-to:cc:to:from:subject:message-id:date:from:to :cc:subject:date:message-id:reply-to; bh=IsuJx1cSHFcUERurBLQmDU2JSCe0MdBjWBAZ2qARPAY=; b=CuDYvrJqicZ323oT3iPEh+5LbJhq5QqcI4aPAxOfSyeBVUHundBl0ge3lMbLCksldZ 3UB9N4nFdF88jvCd/y2w31Zpw0Xv9UNWmFNCGQh0/PU6ifyH8iJoRuiKvWXdq8S6xMsr KByESC0zxeJfqBzJt8DQJGTUufTn/qgfOzu4w= X-Google-DKIM-Signature: v=1; a=rsa-sha256; c=relaxed/relaxed; d=1e100.net; s=20230601; t=1738950541; x=1739555341; h=references:in-reply-to:cc:to:from:subject:message-id:date :x-gm-message-state:from:to:cc:subject:date:message-id:reply-to; bh=IsuJx1cSHFcUERurBLQmDU2JSCe0MdBjWBAZ2qARPAY=; b=mhvGaBRqw0eMBwobF3bp24A6rE1SWR/SJTO2eekfTblLOvlRT1ZbhqhVVdMGeryAv3 ZwfXqBAMaUuaXGHJ0SfiHibwzsM+p3uLrPCoXce6jEdDPuOxwdyfmNw0H5OaUB1b6DyN H6hz1uGghhGWsUjzu7tMopm+xAQp0/dDPbDJmSNlM7nuEUjxG1xhC1WUs8Rj1P/MEWt1 FXEK9xTwXJ4Luip7l4G1kzue45czgvflEDPvgVcEibUfIgzrtHudIrzxTdC6sLHBc8bg AA2ZvR3lne4n12BFuumaa+XAgKx9Z3jHGk9MHXnPtb33sjthcl+yPsVM+tGkuFckPkcA dYiA== X-Gm-Message-State: AOJu0Yy9EIT3+Sq6Cl5dph2kZZAVTm286ISPqEa2c1Y1rhqlHbfTe++r JIGCtHTdATACbCAXExz3N/YowVYwuf4jEmlsLO6C52p5OOY10XNs+WAdiJ659J+Ect5vJgI8KmJ jPzllMzDLviL4nwFRAttHBNibrTcj3xnSoiiiVdlw X-Gm-Gg: ASbGncszmdMNG43sNfkI0oVKzi0eAVeKyrruG30NRw1Aiw5VEE6XIA1a1uaRp5brLOn vL4JSsTwWUguqb/5VRdiIgveq/+xkBL1nWq4Fd4VE791VV9VlO03RhTA5RW/5LrTEZiBPDYROc2 QguvqMxMC71hSvkYUlTW1RvVh79SgHp8S/7MRFFpPUgQNhed81TqlJndSh4DpJhVmA7wgTb5+Z8 YW59XKPREENoeIj8qEfUPlSYzQBSTjR3rKiZaCwwWyZy/1il5C6rPaj0/P/NG9ry8NUfaJ2z2Nt 1i2GHP1mOTEBPZ5MPWJgrNx1u1eyyA== X-Google-Smtp-Source: AGHT+IFCC0+7dBp2gsUyB4wVdqTNLLdnmfUM0UeYDhnD9GLfJJCc6c3QOCQgmx1Uvg9MjlQdNclaFFa0Jqx3 X-Received: by 2002:ac8:5f87:0:b0:461:43d4:fcb4 with SMTP id d75a77b69052e-47167a2a0d4mr52712221cf.26.1738950540970; Fri, 07 Feb 2025 09:49:00 -0800 (PST) Received: from postal.iol.unh.edu (postal.iol.unh.edu. [132.177.123.84]) by smtp-relay.gmail.com with ESMTPS id af79cd13be357-7c041e75a65sm26540085a.6.2025.02.07.09.49.00 (version=TLS1_2 cipher=ECDHE-ECDSA-AES128-GCM-SHA256 bits=128/128); Fri, 07 Feb 2025 09:49:00 -0800 (PST) X-Relaying-Domain: iol.unh.edu Date: Fri, 07 Feb 2025 09:49:00 -0800 (PST) Message-ID: <67a6478c.050a0220.a0e59.d92eSMTPIN_ADDED_MISSING@mx.google.com> Received: from [172.21.0.6] (unknown [172.18.0.240]) by postal.iol.unh.edu (Postfix) with ESMTP id 8F513605247D; Fri, 7 Feb 2025 12:48:30 -0500 (EST) Subject: |SUCCESS| pw149931 [PATCH] [v1] common/idpf: fix heap use after free From: dpdklab@iol.unh.edu To: Test Report Cc: dpdk-test-reports@iol.unh.edu In-Reply-To: <20250113085404.1447006-1-praveen.shetty@intel.com> References: <20250113085404.1447006-1-praveen.shetty@intel.com> Content-Type: text/plain X-BeenThere: test-report@dpdk.org X-Mailman-Version: 2.1.29 Precedence: list List-Id: automatic DPDK test reports List-Unsubscribe: , List-Archive: List-Post: List-Help: List-Subscribe: , Errors-To: test-report-bounces@dpdk.org Test-Label: iol-compile-amd64-testing Test-Status: SUCCESS http://dpdk.org/patch/149931 _Testing PASS_ Submitter: Shetty, Praveen Date: Monday, January 13 2025 08:54:04 DPDK git baseline: Repo:dpdk Branch: master CommitID:ce85dd8562ad9673eb4fe46b4a8bd3a508e8b32f 149931 --> testing pass Test environment and result as below: +---------------------+--------------------+------------------+-------------------+-------------------------+-------------------+----------------------+ | Environment | dpdk_meson_compile | dpdk_compile_ovs | dpdk_compile_spdk | dpdk_llvm_clang_compile | dpdk_msvc_compile | dpdk_mingw64_compile | +=====================+====================+==================+===================+=========================+===================+======================+ | CentOS Stream 9 | PASS | PASS | PASS | SKIPPED | SKIPPED | SKIPPED | +---------------------+--------------------+------------------+-------------------+-------------------------+-------------------+----------------------+ | Debian Bullseye | PASS | PASS | PASS | SKIPPED | SKIPPED | SKIPPED | +---------------------+--------------------+------------------+-------------------+-------------------------+-------------------+----------------------+ | Debian 12 | PASS | PASS | PASS | SKIPPED | SKIPPED | SKIPPED | +---------------------+--------------------+------------------+-------------------+-------------------------+-------------------+----------------------+ | Fedora 40 (Clang) | PASS | PASS | PASS | SKIPPED | SKIPPED | SKIPPED | +---------------------+--------------------+------------------+-------------------+-------------------------+-------------------+----------------------+ | Fedora 41 (Clang) | PASS | PASS | PASS | SKIPPED | SKIPPED | SKIPPED | +---------------------+--------------------+------------------+-------------------+-------------------------+-------------------+----------------------+ | Fedora 40 | PASS | PASS | PASS | SKIPPED | SKIPPED | SKIPPED | +---------------------+--------------------+------------------+-------------------+-------------------------+-------------------+----------------------+ | openSUSE Leap 15 | PASS | SKIPPED | SKIPPED | SKIPPED | SKIPPED | SKIPPED | +---------------------+--------------------+------------------+-------------------+-------------------------+-------------------+----------------------+ | Fedora 41 | PASS | PASS | PASS | SKIPPED | SKIPPED | SKIPPED | +---------------------+--------------------+------------------+-------------------+-------------------------+-------------------+----------------------+ | RHEL9 | PASS | PASS | SKIPPED | SKIPPED | SKIPPED | SKIPPED | +---------------------+--------------------+------------------+-------------------+-------------------------+-------------------+----------------------+ | RHEL8 | PASS | PASS | SKIPPED | SKIPPED | SKIPPED | SKIPPED | +---------------------+--------------------+------------------+-------------------+-------------------------+-------------------+----------------------+ | Ubuntu 20.04 | PASS | SKIPPED | SKIPPED | SKIPPED | SKIPPED | SKIPPED | +---------------------+--------------------+------------------+-------------------+-------------------------+-------------------+----------------------+ | Ubuntu 24.04 | PASS | PASS | PASS | SKIPPED | SKIPPED | SKIPPED | +---------------------+--------------------+------------------+-------------------+-------------------------+-------------------+----------------------+ | Ubuntu 22.04 | PASS | PASS | PASS | SKIPPED | SKIPPED | SKIPPED | +---------------------+--------------------+------------------+-------------------+-------------------------+-------------------+----------------------+ | Alpine | PASS | PASS | SKIPPED | SKIPPED | SKIPPED | SKIPPED | +---------------------+--------------------+------------------+-------------------+-------------------------+-------------------+----------------------+ | FreeBSD 13.4 | PASS | SKIPPED | SKIPPED | SKIPPED | SKIPPED | SKIPPED | +---------------------+--------------------+------------------+-------------------+-------------------------+-------------------+----------------------+ | FreeBSD 14.2 | PASS | SKIPPED | SKIPPED | SKIPPED | SKIPPED | SKIPPED | +---------------------+--------------------+------------------+-------------------+-------------------------+-------------------+----------------------+ | Windows Server 2022 | SKIPPED | SKIPPED | SKIPPED | PASS | PASS | PASS | +---------------------+--------------------+------------------+-------------------+-------------------------+-------------------+----------------------+ CentOS Stream 9 Kernel: Depends on container host Compiler: gcc 11.5.0 20240719 (Red Hat 11.5.0-2) Debian Bullseye Kernel: Depends on container host Compiler: gcc (Debian 10.2.1-6) 10.2.1 20210110 Debian 12 Kernel: Depends on container host Compiler: gcc (Debian 12.2.0-14) 12.2.0 Fedora 40 (Clang) Kernel: Depends on container host Compiler: clang 18.1.8 (Fedora 18.1.8-1.fc40) Fedora 41 (Clang) Kernel: Depends on container host Compiler: clang 19.1.5 (Fedora 19.1.5-1.fc41) Fedora 40 Kernel: Depends on container host Compiler: gcc 14.2.1 20240912 (Red Hat 14.2.1-3) openSUSE Leap 15 Kernel: Depends on container host Compiler: gcc (SUSE Linux) 7.5.0 Fedora 41 Kernel: Depends on container host Compiler: gcc 14.2.1 20240912 (Red Hat 14.2.1-3) RHEL9 Kernel: Depends on container host Compiler: gcc 11.5.0 20240719 (Red Hat 11.5.0-2) RHEL8 Kernel: Depends on container host Compiler: gcc 8.5.0 20210514 (Red Hat 8.5.0-22) Ubuntu 20.04 Kernel: Depends on container host Compiler: gcc (Ubuntu 9.4.0-1ubuntu1~20.04.2) 9.4.0 Ubuntu 24.04 Kernel: Depends on container host Compiler: gcc (Ubuntu 13.3.0-6ubuntu2~24.04) 13.3.0 Ubuntu 22.04 Kernel: Depends on container host Compiler: gcc (Ubuntu 11.4.0-1ubuntu1~22.04) 11.4.0 Alpine Kernel: Depends on container host Compiler: gcc (Alpine 14.2.0) 14.2.0 FreeBSD 13.4 Kernel: 13.4-RELEASE-p1 Compiler: clang 18.1.6 FreeBSD 14.2 Kernel: 14.2-RELEASE Compiler: clang 18.1.6 Windows Server 2022 Kernel: 10.0.20348.2031 Compiler: clang 15.0.7, gcc 14.1.0 (MinGW), and MSVC VS 19.39.33521 To view detailed results, visit: https://lab.dpdk.org/results/dashboard/patchsets/32303/ UNH-IOL DPDK Community Lab To manage your email subscriptions, visit: https://lab.dpdk.org/results/dashboard/preferences/subscriptions/