From mboxrd@z Thu Jan 1 00:00:00 1970 Return-Path: Received: from mails.dpdk.org (mails.dpdk.org [217.70.189.124]) by inbox.dpdk.org (Postfix) with ESMTP id 6B740461BE for ; Fri, 7 Feb 2025 18:50:22 +0100 (CET) Received: from mails.dpdk.org (localhost [127.0.0.1]) by mails.dpdk.org (Postfix) with ESMTP id 66EC942E90; Fri, 7 Feb 2025 18:50:22 +0100 (CET) Received: from mail-pl1-f227.google.com (mail-pl1-f227.google.com [209.85.214.227]) by mails.dpdk.org (Postfix) with ESMTP id 9241C40A7A for ; Fri, 7 Feb 2025 18:50:20 +0100 (CET) Received: by mail-pl1-f227.google.com with SMTP id d9443c01a7336-21661be2c2dso44196225ad.1 for ; Fri, 07 Feb 2025 09:50:20 -0800 (PST) DKIM-Signature: v=1; a=rsa-sha256; c=relaxed/relaxed; d=iol.unh.edu; s=unh-iol; t=1738950620; x=1739555420; darn=dpdk.org; h=references:in-reply-to:cc:to:from:subject:message-id:date:from:to :cc:subject:date:message-id:reply-to; bh=QqXHl3Oe+uc5jWxQrUOALjYSW2357FB/uAxOGf0Zjec=; b=iPh6gyQziqRhx2iTu6SSfPYhQcVf3FpciEsO4Wtzy4RFdUQ92v2JpFsiq4aRWcC6f1 XWXyVhelRaqpE8UUj9Ne+ejB/6Vv+ZSwCm8d/NqruWwnOI75jBvgo+OB3d7EhMgwu8QP Uq+tn362i80x6tQ0Wvt3QSViQF7vRoO7KjJvs= X-Google-DKIM-Signature: v=1; a=rsa-sha256; c=relaxed/relaxed; d=1e100.net; s=20230601; t=1738950620; x=1739555420; h=references:in-reply-to:cc:to:from:subject:message-id:date :x-gm-message-state:from:to:cc:subject:date:message-id:reply-to; bh=QqXHl3Oe+uc5jWxQrUOALjYSW2357FB/uAxOGf0Zjec=; b=n1SfuceXmMzOXfImEfrP93QVetmOIF3QQw5PK7RpXISNJrs2G+h9n3KOY1UWJs/j+U gFBpiV+4qPY5hdmjHXFxJeF1iPp5paKQ7KE1irZWxS//CF/cr1VGjsXpDNt0AcwLMH+K GE50C0EJndMSN4hgUA8MRo5Hz84SihxJ0oAETSKbliMkPv66Dv4gh5c688/palJQAPVK jiuHgP3r/onT/rze0Qgu3k/lzLSHUwY3jztlodMPJgWDvGTFZvJKVmUgyo3rxmVsX7Sm IxkC+RpQDpVrbQ3GcofIhxNsWD/LAIswj3GEz2upskN+kUt0zCqN0qX1Kfo2s632zC7O Z+Eg== X-Gm-Message-State: AOJu0YxDE4jAiKVguV1eFz4IbCuQbZKw9/1gD+/jZ5yw3+Mo00Hjq0LR vIZvYAmSrqgcLUkTWSzRC1X5Sqhc28nSyhG/NosjU9jXmtrM8BLcegU6gItQC1agmOZP05h6lif WvquTFGewIW4fqG1SQV/PXIBaqbZI13zNy/zadRng X-Gm-Gg: ASbGncvPMxkCgT5qIxe9XdhxLaMv3em8ujh92DNnyPhRGQfipXgZ8dNSeAW8MDtB4PD 7yk3G2dOvVkPI1s779qD1tgYKj8lxRrInxKKI9DDJZf9ASsLqbxyfZpgDkx9RuHUYga3jIjLfFA MquGHXdNXfASJ7baVK3f4CyiszDG6SHWfQ6kyZZvSBQxQHu2KigfvXIncrcfN11rJxwiMjfqIss WEL2j7Z0Q5GPP0Td1Jlc3UNtW2W1zKGwWMbSkThqHAnS40gQTaYyw20qyTd0J4z7KoFUQku0un5 IfmJPadz+x08iyDErM/NA22tKZ7xSQ== X-Google-Smtp-Source: AGHT+IHfnNdCXe5cVd45wJnIabAsh9iGbWXiBYa82x4S5CyQgprZBcK8j9wePdcKotMcw+qci3tRfxSu721N X-Received: by 2002:a17:902:cccb:b0:215:7446:2151 with SMTP id d9443c01a7336-21f4e1ce6cemr76858445ad.4.1738950619799; Fri, 07 Feb 2025 09:50:19 -0800 (PST) Received: from postal.iol.unh.edu (postal.iol.unh.edu. [132.177.123.84]) by smtp-relay.gmail.com with ESMTPS id d9443c01a7336-21f36839bc3sm2048355ad.93.2025.02.07.09.50.19 (version=TLS1_2 cipher=ECDHE-ECDSA-AES128-GCM-SHA256 bits=128/128); Fri, 07 Feb 2025 09:50:19 -0800 (PST) X-Relaying-Domain: iol.unh.edu Date: Fri, 07 Feb 2025 09:50:19 -0800 (PST) Message-ID: <67a647db.170a0220.37cb6a.a61aSMTPIN_ADDED_MISSING@mx.google.com> Received: from [172.21.0.15] (unknown [172.18.0.240]) by postal.iol.unh.edu (Postfix) with ESMTP id DCF9F6052472; Fri, 7 Feb 2025 12:49:48 -0500 (EST) Subject: |SUCCESS| pw149869-149891 [PATCH] [v11,30/30] eal/include: deprecate From: dpdklab@iol.unh.edu To: Test Report Cc: dpdk-test-reports@iol.unh.edu In-Reply-To: <1736547411-5895-31-git-send-email-andremue@linux.microsoft.com> References: <1736547411-5895-31-git-send-email-andremue@linux.microsoft.com> Content-Type: text/plain X-BeenThere: test-report@dpdk.org X-Mailman-Version: 2.1.29 Precedence: list List-Id: automatic DPDK test reports List-Unsubscribe: , List-Archive: List-Post: List-Help: List-Subscribe: , Errors-To: test-report-bounces@dpdk.org Test-Label: iol-compile-amd64-testing Test-Status: SUCCESS http://dpdk.org/patch/149891 _Testing PASS_ Submitter: Andre Muezerie Date: Friday, January 10 2025 22:16:51 DPDK git baseline: Repo:dpdk Branch: master CommitID:fd51012de5369679e807be1d6a81d63ef15015ce 149869-149891 --> testing pass Test environment and result as below: +---------------------+--------------------+------------------+-------------------+-------------------+-------------------------+----------------------+ | Environment | dpdk_meson_compile | dpdk_compile_ovs | dpdk_compile_spdk | dpdk_msvc_compile | dpdk_llvm_clang_compile | dpdk_mingw64_compile | +=====================+====================+==================+===================+===================+=========================+======================+ | Debian 12 | PASS | PASS | PASS | SKIPPED | SKIPPED | SKIPPED | +---------------------+--------------------+------------------+-------------------+-------------------+-------------------------+----------------------+ | Fedora 40 (Clang) | PASS | PASS | PASS | SKIPPED | SKIPPED | SKIPPED | +---------------------+--------------------+------------------+-------------------+-------------------+-------------------------+----------------------+ | CentOS Stream 9 | PASS | PASS | PASS | SKIPPED | SKIPPED | SKIPPED | +---------------------+--------------------+------------------+-------------------+-------------------+-------------------------+----------------------+ | Fedora 41 (Clang) | PASS | PASS | PASS | SKIPPED | SKIPPED | SKIPPED | +---------------------+--------------------+------------------+-------------------+-------------------+-------------------------+----------------------+ | Debian Bullseye | PASS | PASS | PASS | SKIPPED | SKIPPED | SKIPPED | +---------------------+--------------------+------------------+-------------------+-------------------+-------------------------+----------------------+ | Fedora 40 | PASS | PASS | PASS | SKIPPED | SKIPPED | SKIPPED | +---------------------+--------------------+------------------+-------------------+-------------------+-------------------------+----------------------+ | Ubuntu 20.04 | PASS | SKIPPED | SKIPPED | SKIPPED | SKIPPED | SKIPPED | +---------------------+--------------------+------------------+-------------------+-------------------+-------------------------+----------------------+ | Ubuntu 24.04 | PASS | PASS | PASS | SKIPPED | SKIPPED | SKIPPED | +---------------------+--------------------+------------------+-------------------+-------------------+-------------------------+----------------------+ | RHEL8 | PASS | PASS | SKIPPED | SKIPPED | SKIPPED | SKIPPED | +---------------------+--------------------+------------------+-------------------+-------------------+-------------------------+----------------------+ | openSUSE Leap 15 | PASS | SKIPPED | SKIPPED | SKIPPED | SKIPPED | SKIPPED | +---------------------+--------------------+------------------+-------------------+-------------------+-------------------------+----------------------+ | Ubuntu 22.04 | PASS | PASS | PASS | SKIPPED | SKIPPED | SKIPPED | +---------------------+--------------------+------------------+-------------------+-------------------+-------------------------+----------------------+ | RHEL9 | PASS | PASS | SKIPPED | SKIPPED | SKIPPED | SKIPPED | +---------------------+--------------------+------------------+-------------------+-------------------+-------------------------+----------------------+ | Alpine | PASS | PASS | SKIPPED | SKIPPED | SKIPPED | SKIPPED | +---------------------+--------------------+------------------+-------------------+-------------------+-------------------------+----------------------+ | FreeBSD 13.4 | PASS | SKIPPED | SKIPPED | SKIPPED | SKIPPED | SKIPPED | +---------------------+--------------------+------------------+-------------------+-------------------+-------------------------+----------------------+ | FreeBSD 14.2 | PASS | SKIPPED | SKIPPED | SKIPPED | SKIPPED | SKIPPED | +---------------------+--------------------+------------------+-------------------+-------------------+-------------------------+----------------------+ | Fedora 41 | PASS | PASS | PASS | SKIPPED | SKIPPED | SKIPPED | +---------------------+--------------------+------------------+-------------------+-------------------+-------------------------+----------------------+ | Windows Server 2022 | SKIPPED | SKIPPED | SKIPPED | PASS | PASS | PASS | +---------------------+--------------------+------------------+-------------------+-------------------+-------------------------+----------------------+ Debian 12 Kernel: Depends on container host Compiler: gcc (Debian 12.2.0-14) 12.2.0 Fedora 40 (Clang) Kernel: Depends on container host Compiler: clang 18.1.8 (Fedora 18.1.8-1.fc40) CentOS Stream 9 Kernel: Depends on container host Compiler: gcc 11.5.0 20240719 (Red Hat 11.5.0-2) Fedora 41 (Clang) Kernel: Depends on container host Compiler: clang 19.1.5 (Fedora 19.1.5-1.fc41) Debian Bullseye Kernel: Depends on container host Compiler: gcc (Debian 10.2.1-6) 10.2.1 20210110 Fedora 40 Kernel: Depends on container host Compiler: gcc 14.2.1 20240912 (Red Hat 14.2.1-3) Ubuntu 20.04 Kernel: Depends on container host Compiler: gcc (Ubuntu 9.4.0-1ubuntu1~20.04.2) 9.4.0 Ubuntu 24.04 Kernel: Depends on container host Compiler: gcc (Ubuntu 13.3.0-6ubuntu2~24.04) 13.3.0 RHEL8 Kernel: Depends on container host Compiler: gcc 8.5.0 20210514 (Red Hat 8.5.0-22) openSUSE Leap 15 Kernel: Depends on container host Compiler: gcc (SUSE Linux) 7.5.0 Ubuntu 22.04 Kernel: Depends on container host Compiler: gcc (Ubuntu 11.4.0-1ubuntu1~22.04) 11.4.0 RHEL9 Kernel: Depends on container host Compiler: gcc 11.5.0 20240719 (Red Hat 11.5.0-2) Alpine Kernel: Depends on container host Compiler: gcc (Alpine 14.2.0) 14.2.0 FreeBSD 13.4 Kernel: 13.4-RELEASE-p1 Compiler: clang 18.1.6 FreeBSD 14.2 Kernel: 14.2-RELEASE Compiler: clang 18.1.6 Fedora 41 Kernel: Depends on container host Compiler: gcc 14.2.1 20240912 (Red Hat 14.2.1-3) Windows Server 2022 Kernel: 10.0.20348.2031 Compiler: clang 15.0.7, gcc 14.1.0 (MinGW), and MSVC VS 19.39.33521 To view detailed results, visit: https://lab.dpdk.org/results/dashboard/patchsets/32296/ UNH-IOL DPDK Community Lab To manage your email subscriptions, visit: https://lab.dpdk.org/results/dashboard/preferences/subscriptions/