From mboxrd@z Thu Jan 1 00:00:00 1970 Return-Path: Received: from mails.dpdk.org (mails.dpdk.org [217.70.189.124]) by inbox.dpdk.org (Postfix) with ESMTP id C676F461BE for ; Fri, 7 Feb 2025 18:52:49 +0100 (CET) Received: from mails.dpdk.org (localhost [127.0.0.1]) by mails.dpdk.org (Postfix) with ESMTP id C2FEF42E90; Fri, 7 Feb 2025 18:52:49 +0100 (CET) Received: from mail-pl1-f228.google.com (mail-pl1-f228.google.com [209.85.214.228]) by mails.dpdk.org (Postfix) with ESMTP id 72F0140A7A for ; Fri, 7 Feb 2025 18:52:49 +0100 (CET) Received: by mail-pl1-f228.google.com with SMTP id d9443c01a7336-21f44e7eae4so32443185ad.2 for ; Fri, 07 Feb 2025 09:52:49 -0800 (PST) DKIM-Signature: v=1; a=rsa-sha256; c=relaxed/relaxed; d=iol.unh.edu; s=unh-iol; t=1738950768; x=1739555568; darn=dpdk.org; h=references:in-reply-to:cc:to:from:subject:message-id:date:from:to :cc:subject:date:message-id:reply-to; bh=VUEeSKUEEAxe3UZjuDIs/9ZYV2ChGPcplpqTrTN7G2I=; b=JFzE3rEQ+nGIniyhhb4ig2Sqw2FMq1b9UET3usTf1BZDWjcFiJF7rBfHvDx8vhcuZK KbIJP2lI6H51lAwP9PSCGfR9nFRunYS6x4Ui9yAu8m3ZqQqeMsW8kayCdSfM87effXLT lH15y/LNROCi5WX19BVOBKFG2NoOz+jeOYHvI= X-Google-DKIM-Signature: v=1; a=rsa-sha256; c=relaxed/relaxed; d=1e100.net; s=20230601; t=1738950768; x=1739555568; h=references:in-reply-to:cc:to:from:subject:message-id:date :x-gm-message-state:from:to:cc:subject:date:message-id:reply-to; bh=VUEeSKUEEAxe3UZjuDIs/9ZYV2ChGPcplpqTrTN7G2I=; b=MIbLdpiPT5gECEQ1KO9fW/gpATS7hlou6VGprSKSILfHqCW7BVLIdX19UH3XRX+BlY 6MPfy2jalj2QpV4Jc17o7Xas35cjzPo+ylwEydtayq/KF65BrkhLhEK4ktjkCxXGN4ce a1SmVPczW0hBtRckuasxbIi7W1lAIrM2hBPaBc8AWj3FwkiGnbtQA2vr/4hMNIUTC19A TsZJabnfZcOG8nQRUwP78CgARCQZ81cbqISgmG0/EXqj2+KSOm3Ah2eTdaqq4N//TvDs 8HQ8Eql3SYiJcNtOgXniwfdJqgaoIDUr7TKO0GdDoGBX5z6ZBQh93QeVAS7rXa2w+FhC qqJw== X-Gm-Message-State: AOJu0YwG0YibcsLSSp3TosZ9jE475Mq+qgyWMtlakdpprq+kjZkgNg+q Qgt2Ssu2T95NoM0LEfweAakATGfEPwzX2bX6pfhpEDD/cJV8NtZfA1dNr0A7XE5n4eiSWN77kx0 kwSi7zWiqmay5N7vxYgQbTKEDgdD/gid1ma8hWrtP X-Gm-Gg: ASbGncunBiEIoh+dCKX2qZOmLmTeMVTktRD2sOFzjty8vLIhF/9GuhqBWD56hh4wZI+ BgWe2b88Mbaly9si9BD+YDiPZQkMbywZyJ2fOunHSPHokurULo3kWb1j9Mp4bdppZOO17h6W04r mrK6Pb2255xCfzvOg3r+a10ZrAzVmP7AlH4rJR+ZCRy8bY9iGsOTsCFYeZWLUYDe6qPoYp8HMXC oz7yAT5OFihUUYWZXt8ojcC8YS9FI9yjnI/tZQuRSzl60v+fl0ZD+D1h4ZLfuEZRFe56QAn1DAb PfewnPJ3fNmW1EjzFkj3tkFxN4Urog== X-Google-Smtp-Source: AGHT+IExLeTKCSvyJse/9Iq4XOWZhMw6Sw0SrC0DFkI+3tDi4kcBT02cRY3OIzX/B9t1CNeiwRQlKIWZPZsB X-Received: by 2002:a17:902:ecc8:b0:21f:507b:9ad7 with SMTP id d9443c01a7336-21f507b9d6cmr55667865ad.25.1738950768594; Fri, 07 Feb 2025 09:52:48 -0800 (PST) Received: from postal.iol.unh.edu (postal.iol.unh.edu. [132.177.123.84]) by smtp-relay.gmail.com with ESMTPS id d9443c01a7336-21f5e6ffde6sm556945ad.95.2025.02.07.09.52.48 (version=TLS1_2 cipher=ECDHE-ECDSA-AES128-GCM-SHA256 bits=128/128); Fri, 07 Feb 2025 09:52:48 -0800 (PST) X-Relaying-Domain: iol.unh.edu Date: Fri, 07 Feb 2025 09:52:48 -0800 (PST) Message-ID: <67a64870.170a0220.2fae4a.29ffSMTPIN_ADDED_MISSING@mx.google.com> Received: from [172.21.0.8] (unknown [172.18.0.240]) by postal.iol.unh.edu (Postfix) with ESMTP id DE2F46052471; Fri, 7 Feb 2025 12:52:44 -0500 (EST) Subject: |SUCCESS| pw149783 [PATCH] crypto/cnxk: fix gcc 15 warning From: dpdklab@iol.unh.edu To: Test Report Cc: dpdk-test-reports@iol.unh.edu In-Reply-To: <20250110170603.538756-1-stephen@networkplumber.org> References: <20250110170603.538756-1-stephen@networkplumber.org> Content-Type: text/plain X-BeenThere: test-report@dpdk.org X-Mailman-Version: 2.1.29 Precedence: list List-Id: automatic DPDK test reports List-Unsubscribe: , List-Archive: List-Post: List-Help: List-Subscribe: , Errors-To: test-report-bounces@dpdk.org Test-Label: iol-compile-amd64-testing Test-Status: SUCCESS http://dpdk.org/patch/149783 _Testing PASS_ Submitter: Stephen Hemminger Date: Friday, January 10 2025 17:06:03 DPDK git baseline: Repo:dpdk Branch: master CommitID:cdf7f14fae72cdf64bcccff3ed4ab30accdf436e 149783 --> testing pass Test environment and result as below: +---------------------+--------------------+------------------+-------------------+-------------------------+-------------------+----------------------+ | Environment | dpdk_meson_compile | dpdk_compile_ovs | dpdk_compile_spdk | dpdk_llvm_clang_compile | dpdk_msvc_compile | dpdk_mingw64_compile | +=====================+====================+==================+===================+=========================+===================+======================+ | Debian Bullseye | PASS | PASS | PASS | SKIPPED | SKIPPED | SKIPPED | +---------------------+--------------------+------------------+-------------------+-------------------------+-------------------+----------------------+ | Debian 12 | PASS | PASS | PASS | SKIPPED | SKIPPED | SKIPPED | +---------------------+--------------------+------------------+-------------------+-------------------------+-------------------+----------------------+ | CentOS Stream 9 | PASS | PASS | PASS | SKIPPED | SKIPPED | SKIPPED | +---------------------+--------------------+------------------+-------------------+-------------------------+-------------------+----------------------+ | Fedora 41 (Clang) | PASS | PASS | PASS | SKIPPED | SKIPPED | SKIPPED | +---------------------+--------------------+------------------+-------------------+-------------------------+-------------------+----------------------+ | Ubuntu 22.04 | PASS | PASS | PASS | SKIPPED | SKIPPED | SKIPPED | +---------------------+--------------------+------------------+-------------------+-------------------------+-------------------+----------------------+ | Fedora 40 | PASS | PASS | PASS | SKIPPED | SKIPPED | SKIPPED | +---------------------+--------------------+------------------+-------------------+-------------------------+-------------------+----------------------+ | Fedora 40 (Clang) | PASS | PASS | PASS | SKIPPED | SKIPPED | SKIPPED | +---------------------+--------------------+------------------+-------------------+-------------------------+-------------------+----------------------+ | RHEL8 | PASS | PASS | SKIPPED | SKIPPED | SKIPPED | SKIPPED | +---------------------+--------------------+------------------+-------------------+-------------------------+-------------------+----------------------+ | Fedora 41 | PASS | PASS | PASS | SKIPPED | SKIPPED | SKIPPED | +---------------------+--------------------+------------------+-------------------+-------------------------+-------------------+----------------------+ | openSUSE Leap 15 | PASS | SKIPPED | SKIPPED | SKIPPED | SKIPPED | SKIPPED | +---------------------+--------------------+------------------+-------------------+-------------------------+-------------------+----------------------+ | Ubuntu 20.04 | PASS | SKIPPED | SKIPPED | SKIPPED | SKIPPED | SKIPPED | +---------------------+--------------------+------------------+-------------------+-------------------------+-------------------+----------------------+ | Ubuntu 24.04 | PASS | PASS | PASS | SKIPPED | SKIPPED | SKIPPED | +---------------------+--------------------+------------------+-------------------+-------------------------+-------------------+----------------------+ | RHEL9 | PASS | PASS | SKIPPED | SKIPPED | SKIPPED | SKIPPED | +---------------------+--------------------+------------------+-------------------+-------------------------+-------------------+----------------------+ | FreeBSD 13.4 | PASS | SKIPPED | SKIPPED | SKIPPED | SKIPPED | SKIPPED | +---------------------+--------------------+------------------+-------------------+-------------------------+-------------------+----------------------+ | FreeBSD 14.2 | PASS | SKIPPED | SKIPPED | SKIPPED | SKIPPED | SKIPPED | +---------------------+--------------------+------------------+-------------------+-------------------------+-------------------+----------------------+ | Alpine | PASS | PASS | SKIPPED | SKIPPED | SKIPPED | SKIPPED | +---------------------+--------------------+------------------+-------------------+-------------------------+-------------------+----------------------+ | Windows Server 2022 | SKIPPED | SKIPPED | SKIPPED | PASS | PASS | PASS | +---------------------+--------------------+------------------+-------------------+-------------------------+-------------------+----------------------+ Debian Bullseye Kernel: Depends on container host Compiler: gcc (Debian 10.2.1-6) 10.2.1 20210110 Debian 12 Kernel: Depends on container host Compiler: gcc (Debian 12.2.0-14) 12.2.0 CentOS Stream 9 Kernel: Depends on container host Compiler: gcc 11.5.0 20240719 (Red Hat 11.5.0-2) Fedora 41 (Clang) Kernel: Depends on container host Compiler: clang 19.1.5 (Fedora 19.1.5-1.fc41) Ubuntu 22.04 Kernel: Depends on container host Compiler: gcc (Ubuntu 11.4.0-1ubuntu1~22.04) 11.4.0 Fedora 40 Kernel: Depends on container host Compiler: gcc 14.2.1 20240912 (Red Hat 14.2.1-3) Fedora 40 (Clang) Kernel: Depends on container host Compiler: clang 18.1.8 (Fedora 18.1.8-1.fc40) RHEL8 Kernel: Depends on container host Compiler: gcc 8.5.0 20210514 (Red Hat 8.5.0-22) Fedora 41 Kernel: Depends on container host Compiler: gcc 14.2.1 20240912 (Red Hat 14.2.1-3) openSUSE Leap 15 Kernel: Depends on container host Compiler: gcc (SUSE Linux) 7.5.0 Ubuntu 20.04 Kernel: Depends on container host Compiler: gcc (Ubuntu 9.4.0-1ubuntu1~20.04.2) 9.4.0 Ubuntu 24.04 Kernel: Depends on container host Compiler: gcc (Ubuntu 13.3.0-6ubuntu2~24.04) 13.3.0 RHEL9 Kernel: Depends on container host Compiler: gcc 11.5.0 20240719 (Red Hat 11.5.0-2) FreeBSD 13.4 Kernel: 13.4-RELEASE-p1 Compiler: clang 18.1.6 FreeBSD 14.2 Kernel: 14.2-RELEASE Compiler: clang 18.1.6 Alpine Kernel: Depends on container host Compiler: gcc (Alpine 14.2.0) 14.2.0 Windows Server 2022 Kernel: 10.0.20348.2031 Compiler: clang 15.0.7, gcc 14.1.0 (MinGW), and MSVC VS 19.39.33521 To view detailed results, visit: https://lab.dpdk.org/results/dashboard/patchsets/32292/ UNH-IOL DPDK Community Lab To manage your email subscriptions, visit: https://lab.dpdk.org/results/dashboard/preferences/subscriptions/