From mboxrd@z Thu Jan  1 00:00:00 1970
Return-Path: <test-report-bounces@dpdk.org>
Received: from mails.dpdk.org (mails.dpdk.org [217.70.189.124])
	by inbox.dpdk.org (Postfix) with ESMTP id E1FC4461BE
	for <public@inbox.dpdk.org>; Fri,  7 Feb 2025 18:54:25 +0100 (CET)
Received: from mails.dpdk.org (localhost [127.0.0.1])
	by mails.dpdk.org (Postfix) with ESMTP id DBE0E42EE1;
	Fri,  7 Feb 2025 18:54:25 +0100 (CET)
Received: from mail-qt1-f227.google.com (mail-qt1-f227.google.com
 [209.85.160.227])
 by mails.dpdk.org (Postfix) with ESMTP id 238FD42EDA
 for <test-report@dpdk.org>; Fri,  7 Feb 2025 18:54:24 +0100 (CET)
Received: by mail-qt1-f227.google.com with SMTP id
 d75a77b69052e-467918c35easo39485461cf.2
 for <test-report@dpdk.org>; Fri, 07 Feb 2025 09:54:24 -0800 (PST)
DKIM-Signature: v=1; a=rsa-sha256; c=relaxed/relaxed;
 d=iol.unh.edu; s=unh-iol; t=1738950863; x=1739555663; darn=dpdk.org;
 h=references:in-reply-to:cc:to:from:subject:message-id:date:from:to
 :cc:subject:date:message-id:reply-to;
 bh=AcfEOj2xISU1hiQnucZONTC5Tafr6or4lsy+pO3PIh8=;
 b=FVLouUYI0gZWVkIbAswVkE7qzZzsZ6POtnRIF9ua6JvxbUmvMq4YYj/rPYMkJTT6vh
 zw1DBAQ9VHjOtm+A89Ztr/B41RPFtGXkJmi/kdiJINcm+JjhiqmE4BgTAMwKFlzLXIQP
 l7D/jsTlGLgpHe1jWXgH7A/N5VH/2c0NtK7y4=
X-Google-DKIM-Signature: v=1; a=rsa-sha256; c=relaxed/relaxed;
 d=1e100.net; s=20230601; t=1738950863; x=1739555663;
 h=references:in-reply-to:cc:to:from:subject:message-id:date
 :x-gm-message-state:from:to:cc:subject:date:message-id:reply-to;
 bh=AcfEOj2xISU1hiQnucZONTC5Tafr6or4lsy+pO3PIh8=;
 b=dTRJwyuWiT9c3e8gPFqnHV/zXMxGYzki0bUqb9e5drJammG0yHGIlmvFkDb5ULY0/H
 665tQAmz5/YJBj5mtRYYB95k0v+sfMHs0Dbcf1p8Ff8Kmy7oBWR0zJN2yGcnQ6eQ1gah
 RQLAYl6qp52W69jq9h4lKJXdYUXksGSIQgALGs/TFTgXenyhFyxNETvyVZQyRXHJqyka
 048XdQIu+JNNq8/OdKnrDd+M4IXfJ7U6m+iEgnc8Ez9LicOPa8nYKhXNGGUr1mIYPlBR
 VUHLSQ5kYa/HWBLibQ1JReyK9+ph2rbZX/Q0Ilb2/p84zjoPMDMa9e2EYb0tMwNsbLW1
 0fIQ==
X-Gm-Message-State: AOJu0YxjpPbBMWbwatu2y44zYVTwCpLkJv98Iknz2MD/LHzQIGWYi8Xc
 q8x1cnmSBYaPAeyL0VNkqE0iZPvter8OW1kYo+fi1O1ubZuxG6pvQg4XvlLnZC3lWt17qT4wKR7
 FM5GDoypTj8JMhDMdwhBDgtU9TO60pxN77tMSk2zD
X-Gm-Gg: ASbGnct1IeAC++aTvXz2nBNdOW+G3DtZmfh/eoQZk++pgoT/LWe7L8GTHLjdO9bFtH7
 X42BU0d0aDQObUCDTTiF8CGxF15Bk7RVnGD7lrQJi5Q4+EC2koARcDe8MZlU+C25a+JB+Wa7PF9
 TwwX+aGbCQHaX1laRkOoKRDuEoiovOX2ggli3dn7IVCBzbb9jsf0bTCOz87YWRgQT2zLd2zA/tt
 ie/sbX+TVgWCgWxb7cnY3dssMntIgnBmYL0QMaPieGWJOdcZuHDwXzfR9h1AcOYZJIG89lszMJQ
 wiqLzWkpoOmrqSyuIlURZ0COp0k+lQ==
X-Google-Smtp-Source: AGHT+IEGl3BMwpVg7GiapOiab21hJ3qu9t3z9CVKLBXxAFo9QPQ3aIXyWTs8x+uenMCPYcwWqaY+tFXYE0TC
X-Received: by 2002:ad4:5dea:0:b0:6d8:8d87:e5b4 with SMTP id
 6a1803df08f44-6e44563ca22mr64609536d6.19.1738950862065; 
 Fri, 07 Feb 2025 09:54:22 -0800 (PST)
Received: from postal.iol.unh.edu (postal.iol.unh.edu. [132.177.123.84])
 by smtp-relay.gmail.com with ESMTPS id
 6a1803df08f44-6e43ba4123csm2285386d6.25.2025.02.07.09.54.22
 (version=TLS1_2 cipher=ECDHE-ECDSA-AES128-GCM-SHA256 bits=128/128);
 Fri, 07 Feb 2025 09:54:22 -0800 (PST)
X-Relaying-Domain: iol.unh.edu
Date: Fri, 07 Feb 2025 09:54:22 -0800 (PST)
Message-ID: <67a648ce.050a0220.177405.bb54SMTPIN_ADDED_MISSING@mx.google.com>
Received: from [172.21.0.18] (unknown [172.18.0.240])
 by postal.iol.unh.edu (Postfix) with ESMTP id BF5BF6052471;
 Fri,  7 Feb 2025 12:54:21 -0500 (EST)
Subject: |WARNING| pw149776-149777 [PATCH] [v4,2/2] dts: add dual VLAN test s
From: dpdklab@iol.unh.edu
To: Test Report <test-report@dpdk.org>
Cc: dpdk-test-reports@iol.unh.edu
In-Reply-To: <20250109180124.1678253-2-paul.szczepanek@arm.com>
References: <20250109180124.1678253-2-paul.szczepanek@arm.com>
Content-Type: text/plain
X-BeenThere: test-report@dpdk.org
X-Mailman-Version: 2.1.29
Precedence: list
List-Id: automatic DPDK test reports <test-report.dpdk.org>
List-Unsubscribe: <https://mails.dpdk.org/options/test-report>,
 <mailto:test-report-request@dpdk.org?subject=unsubscribe>
List-Archive: <http://mails.dpdk.org/archives/test-report/>
List-Post: <mailto:test-report@dpdk.org>
List-Help: <mailto:test-report-request@dpdk.org?subject=help>
List-Subscribe: <https://mails.dpdk.org/listinfo/test-report>,
 <mailto:test-report-request@dpdk.org?subject=subscribe>
Errors-To: test-report-bounces@dpdk.org

Test-Label: iol-compile-amd64-testing
Test-Status: WARNING
http://dpdk.org/patch/149777

_Testing issues_

Submitter: Paul Szczepanek <paul.szczepanek@arm.com>
Date: Thursday, January 09 2025 18:01:24 
DPDK git baseline: Repo:dpdk
  Branch: master
  CommitID:fd51012de5369679e807be1d6a81d63ef15015ce

149776-149777 --> testing issues

Test environment and result as below:

+---------------------+--------------------+------------------+-------------------+-------------------+-------------------------+----------------------+
|     Environment     | dpdk_meson_compile | dpdk_compile_ovs | dpdk_compile_spdk | dpdk_msvc_compile | dpdk_llvm_clang_compile | dpdk_mingw64_compile |
+=====================+====================+==================+===================+===================+=========================+======================+
| CentOS Stream 9     | PASS               | PASS             | PASS              | SKIPPED           | SKIPPED                 | SKIPPED              |
+---------------------+--------------------+------------------+-------------------+-------------------+-------------------------+----------------------+
| Debian Bullseye     | PASS               | PASS             | PASS              | SKIPPED           | SKIPPED                 | SKIPPED              |
+---------------------+--------------------+------------------+-------------------+-------------------+-------------------------+----------------------+
| Debian 12           | PASS               | PASS             | PASS              | SKIPPED           | SKIPPED                 | SKIPPED              |
+---------------------+--------------------+------------------+-------------------+-------------------+-------------------------+----------------------+
| Fedora 40           | PASS               | PASS             | PASS              | SKIPPED           | SKIPPED                 | SKIPPED              |
+---------------------+--------------------+------------------+-------------------+-------------------+-------------------------+----------------------+
| Fedora 41           | PASS               | PASS             | PASS              | SKIPPED           | SKIPPED                 | SKIPPED              |
+---------------------+--------------------+------------------+-------------------+-------------------+-------------------------+----------------------+
| openSUSE Leap 15    | PASS               | WARN             | SKIPPED           | SKIPPED           | SKIPPED                 | SKIPPED              |
+---------------------+--------------------+------------------+-------------------+-------------------+-------------------------+----------------------+
| Fedora 41 (Clang)   | PASS               | PASS             | PASS              | SKIPPED           | SKIPPED                 | SKIPPED              |
+---------------------+--------------------+------------------+-------------------+-------------------+-------------------------+----------------------+
| RHEL9               | PASS               | PASS             | SKIPPED           | SKIPPED           | SKIPPED                 | SKIPPED              |
+---------------------+--------------------+------------------+-------------------+-------------------+-------------------------+----------------------+
| RHEL8               | PASS               | PASS             | SKIPPED           | SKIPPED           | SKIPPED                 | SKIPPED              |
+---------------------+--------------------+------------------+-------------------+-------------------+-------------------------+----------------------+
| Ubuntu 20.04        | PASS               | SKIPPED          | SKIPPED           | SKIPPED           | SKIPPED                 | SKIPPED              |
+---------------------+--------------------+------------------+-------------------+-------------------+-------------------------+----------------------+
| Ubuntu 24.04        | PASS               | PASS             | PASS              | SKIPPED           | SKIPPED                 | SKIPPED              |
+---------------------+--------------------+------------------+-------------------+-------------------+-------------------------+----------------------+
| Ubuntu 22.04        | PASS               | PASS             | PASS              | SKIPPED           | SKIPPED                 | SKIPPED              |
+---------------------+--------------------+------------------+-------------------+-------------------+-------------------------+----------------------+
| Alpine              | PASS               | PASS             | SKIPPED           | SKIPPED           | SKIPPED                 | SKIPPED              |
+---------------------+--------------------+------------------+-------------------+-------------------+-------------------------+----------------------+
| FreeBSD 13.4        | PASS               | SKIPPED          | SKIPPED           | SKIPPED           | SKIPPED                 | SKIPPED              |
+---------------------+--------------------+------------------+-------------------+-------------------+-------------------------+----------------------+
| FreeBSD 14.2        | PASS               | SKIPPED          | SKIPPED           | SKIPPED           | SKIPPED                 | SKIPPED              |
+---------------------+--------------------+------------------+-------------------+-------------------+-------------------------+----------------------+
| Fedora 40 (Clang)   | PASS               | PASS             | PASS              | SKIPPED           | SKIPPED                 | SKIPPED              |
+---------------------+--------------------+------------------+-------------------+-------------------+-------------------------+----------------------+
| Windows Server 2022 | SKIPPED            | SKIPPED          | SKIPPED           | PASS              | PASS                    | PASS                 |
+---------------------+--------------------+------------------+-------------------+-------------------+-------------------------+----------------------+

==== 20 line log output for openSUSE Leap 15 (dpdk_compile_ovs): ====
 --- Failed to get log output --- 
==== End log output ====

CentOS Stream 9
	Kernel: Depends on container host
	Compiler: gcc 11.5.0 20240719 (Red Hat 11.5.0-2)

Debian Bullseye
	Kernel: Depends on container host
	Compiler: gcc (Debian 10.2.1-6) 10.2.1 20210110

Debian 12
	Kernel: Depends on container host
	Compiler: gcc (Debian 12.2.0-14) 12.2.0

Fedora 40
	Kernel: Depends on container host
	Compiler: gcc 14.2.1 20240912 (Red Hat 14.2.1-3)

Fedora 41
	Kernel: Depends on container host
	Compiler: gcc 14.2.1 20240912 (Red Hat 14.2.1-3)

openSUSE Leap 15
	Kernel: Depends on container host
	Compiler: gcc (SUSE Linux) 7.5.0

Fedora 41 (Clang)
	Kernel: Depends on container host
	Compiler: clang 19.1.5 (Fedora 19.1.5-1.fc41)

RHEL9
	Kernel: Depends on container host
	Compiler: gcc 11.5.0 20240719 (Red Hat 11.5.0-2)

RHEL8
	Kernel: Depends on container host
	Compiler: gcc 8.5.0 20210514 (Red Hat 8.5.0-22)

Ubuntu 20.04
	Kernel: Depends on container host
	Compiler: gcc (Ubuntu 9.4.0-1ubuntu1~20.04.2) 9.4.0

Ubuntu 24.04
	Kernel: Depends on container host
	Compiler: gcc (Ubuntu 13.3.0-6ubuntu2~24.04) 13.3.0

Ubuntu 22.04
	Kernel: Depends on container host
	Compiler: gcc (Ubuntu 11.4.0-1ubuntu1~22.04) 11.4.0

Alpine
	Kernel: Depends on container host
	Compiler: gcc (Alpine 14.2.0) 14.2.0

FreeBSD 13.4
	Kernel: 13.4-RELEASE-p1
	Compiler: clang 18.1.6

FreeBSD 14.2
	Kernel: 14.2-RELEASE
	Compiler: clang 18.1.6

Fedora 40 (Clang)
	Kernel: Depends on container host
	Compiler: clang 18.1.8 (Fedora 18.1.8-1.fc40)

Windows Server 2022
	Kernel: 10.0.20348.2031
	Compiler: clang 15.0.7, gcc 14.1.0 (MinGW), and MSVC VS 19.39.33521

To view detailed results, visit:
https://lab.dpdk.org/results/dashboard/patchsets/32286/

UNH-IOL DPDK Community Lab

To manage your email subscriptions, visit: 
https://lab.dpdk.org/results/dashboard/preferences/subscriptions/