From mboxrd@z Thu Jan 1 00:00:00 1970 Return-Path: Received: from mails.dpdk.org (mails.dpdk.org [217.70.189.124]) by inbox.dpdk.org (Postfix) with ESMTP id 221E4461BE for ; Fri, 7 Feb 2025 18:54:50 +0100 (CET) Received: from mails.dpdk.org (localhost [127.0.0.1]) by mails.dpdk.org (Postfix) with ESMTP id 17DD542ED7; Fri, 7 Feb 2025 18:54:50 +0100 (CET) Received: from mail-pj1-f98.google.com (mail-pj1-f98.google.com [209.85.216.98]) by mails.dpdk.org (Postfix) with ESMTP id 5377342ED5 for ; Fri, 7 Feb 2025 18:54:48 +0100 (CET) Received: by mail-pj1-f98.google.com with SMTP id 98e67ed59e1d1-2fa345713a8so1177850a91.2 for ; Fri, 07 Feb 2025 09:54:48 -0800 (PST) DKIM-Signature: v=1; a=rsa-sha256; c=relaxed/relaxed; d=iol.unh.edu; s=unh-iol; t=1738950887; x=1739555687; darn=dpdk.org; h=references:in-reply-to:cc:to:from:subject:message-id:date:from:to :cc:subject:date:message-id:reply-to; bh=I6AHmV/1fn1OUaVurWj7uUIjLArs038ZWC25Ez5+0GM=; b=O5Hx3bu+L4zSLNrU+/75PcE/xAu6V3uYvUbMgPMVhWAImqFolHsors7qJD5xzFlRN1 bliX1s9bMN7+OzjjhgR3f+J/ASN6PIadT0CW+nB+Mj4pBgmb78/jObP9112ZixZqn/0y XXabYckciLk0RxnJe+mi1TvUcjHlfnacJWYzs= X-Google-DKIM-Signature: v=1; a=rsa-sha256; c=relaxed/relaxed; d=1e100.net; s=20230601; t=1738950887; x=1739555687; h=references:in-reply-to:cc:to:from:subject:message-id:date :x-gm-message-state:from:to:cc:subject:date:message-id:reply-to; bh=I6AHmV/1fn1OUaVurWj7uUIjLArs038ZWC25Ez5+0GM=; b=n5EEIeMFBofBsB6K5E0W9hMuqqFkVBOUJJIMCKo4z86kMY8gH9xyMdysettu15DJun LsIiYOCsQ56VRXXOfWMoQ5bIdGQSXtAzxHwcOD8wkzK7npOImyNwlaDP8qCh3xh1cgFg 8NdFkL+tgVOgAjQmWElPtQh9iMI4Vj9XQx1kwIAYkar6nEAbcWo6yqzkKgOYciOGwURi LQD6h0M+cG46q6PIzaMfGO1LBZUq/A3+NqLr8jcDKQSei+9FuDUkj9i7jP2JwYzH3bT/ MOrcaoDTAqGDgAWUVXpiDRFb54bMITnQ6EOIjI2DT9BwbyCEnc3JEmituxAWOYglKxEt BB7w== X-Gm-Message-State: AOJu0YzhCqp3RGz9y69rpXe3J53JHtVAKNEW7VjnDlZAcr4PfWqsz3PZ jm/AN2bMzHqy2axIIxIDZlE3GQYLhHMeHMD5U3LcezP/PdffbrvhgTTzMkbVsL9WrtW8we46pjU sk4K5o8GQHQGqjZpo1Yr2vN2TFPwZ+vgCOQdh15L6 X-Gm-Gg: ASbGncuk0q/xFB1ANR4ltV0LGKAy1Aj85kTFZnhVvpjB5HOZOgtDbPfDmg9WKn0uWOu kOoW79pGlABdwjbspfy9FcAixSHt4u37+J+RDWMinYJ3Vut2TFIj/VX95v68WBJgbvou3lnwwCD 0hKFX1awUgI0AgSOGeD3vb8oc8yAF1kzqXhL63j7llknDa4tkJuvNm7WD+81piqZkzn4NvgutUn /VmGfTgQs3BgjB71oFRvYA3toHZqLL8VyycrsnvIbLWDSRyxo/ovB8eHC7c/hBy0UwBhR2bCdTX UUwjyyRq2+ujXwLokvVG6rw/zE+KnQ== X-Google-Smtp-Source: AGHT+IEPRzzaEXJ7FvlkLnEqwenHUA4IPXlUmOnBXzCGuQFiNszjdJxmhWPyPi0tDyVZqQiozZM04X+2FecD X-Received: by 2002:a17:90b:4c02:b0:2ef:2f49:7d7f with SMTP id 98e67ed59e1d1-2fa2417be92mr7307286a91.18.1738950887578; Fri, 07 Feb 2025 09:54:47 -0800 (PST) Received: from postal.iol.unh.edu (postal.iol.unh.edu. [132.177.123.84]) by smtp-relay.gmail.com with ESMTPS id 98e67ed59e1d1-2f9e1d7ba30sm466248a91.6.2025.02.07.09.54.47 (version=TLS1_2 cipher=ECDHE-ECDSA-AES128-GCM-SHA256 bits=128/128); Fri, 07 Feb 2025 09:54:47 -0800 (PST) X-Relaying-Domain: iol.unh.edu Date: Fri, 07 Feb 2025 09:54:47 -0800 (PST) Message-ID: <67a648e7.170a0220.2262cc.7462SMTPIN_ADDED_MISSING@mx.google.com> Received: from [172.21.0.20] (unknown [172.18.0.240]) by postal.iol.unh.edu (Postfix) with ESMTP id B9CAB6052471; Fri, 7 Feb 2025 12:54:46 -0500 (EST) Subject: |WARNING| pw149773-149774 [PATCH] [v3,2/2] dts: add softnic test From: dpdklab@iol.unh.edu To: Test Report Cc: dpdk-test-reports@iol.unh.edu In-Reply-To: <20250109134421.160262-3-thomas.wilks@arm.com> References: <20250109134421.160262-3-thomas.wilks@arm.com> Content-Type: text/plain X-BeenThere: test-report@dpdk.org X-Mailman-Version: 2.1.29 Precedence: list List-Id: automatic DPDK test reports List-Unsubscribe: , List-Archive: List-Post: List-Help: List-Subscribe: , Errors-To: test-report-bounces@dpdk.org Test-Label: iol-compile-amd64-testing Test-Status: WARNING http://dpdk.org/patch/149774 _Testing issues_ Submitter: Thomas Wilks Date: Thursday, January 09 2025 13:44:21 DPDK git baseline: Repo:dpdk Branch: master CommitID:fd51012de5369679e807be1d6a81d63ef15015ce 149773-149774 --> testing issues Test environment and result as below: +---------------------+--------------------+------------------+-------------------+-------------------------+----------------------+ | Environment | dpdk_meson_compile | dpdk_compile_ovs | dpdk_compile_spdk | dpdk_llvm_clang_compile | dpdk_mingw64_compile | +=====================+====================+==================+===================+=========================+======================+ | CentOS Stream 9 | PASS | PASS | PASS | SKIPPED | SKIPPED | +---------------------+--------------------+------------------+-------------------+-------------------------+----------------------+ | Debian 12 | PASS | PASS | PASS | SKIPPED | SKIPPED | +---------------------+--------------------+------------------+-------------------+-------------------------+----------------------+ | Debian Bullseye | PASS | PASS | PASS | SKIPPED | SKIPPED | +---------------------+--------------------+------------------+-------------------+-------------------------+----------------------+ | Fedora 41 | PASS | PASS | PASS | SKIPPED | SKIPPED | +---------------------+--------------------+------------------+-------------------+-------------------------+----------------------+ | Fedora 40 | PASS | PASS | PASS | SKIPPED | SKIPPED | +---------------------+--------------------+------------------+-------------------+-------------------------+----------------------+ | Fedora 40 (Clang) | PASS | PASS | PASS | SKIPPED | SKIPPED | +---------------------+--------------------+------------------+-------------------+-------------------------+----------------------+ | Fedora 41 (Clang) | PASS | PASS | PASS | SKIPPED | SKIPPED | +---------------------+--------------------+------------------+-------------------+-------------------------+----------------------+ | RHEL9 | PASS | PASS | SKIPPED | SKIPPED | SKIPPED | +---------------------+--------------------+------------------+-------------------+-------------------------+----------------------+ | RHEL8 | PASS | PASS | SKIPPED | SKIPPED | SKIPPED | +---------------------+--------------------+------------------+-------------------+-------------------------+----------------------+ | openSUSE Leap 15 | PASS | WARN | SKIPPED | SKIPPED | SKIPPED | +---------------------+--------------------+------------------+-------------------+-------------------------+----------------------+ | Ubuntu 20.04 | PASS | SKIPPED | SKIPPED | SKIPPED | SKIPPED | +---------------------+--------------------+------------------+-------------------+-------------------------+----------------------+ | Ubuntu 22.04 | PASS | PASS | PASS | SKIPPED | SKIPPED | +---------------------+--------------------+------------------+-------------------+-------------------------+----------------------+ | Ubuntu 24.04 | PASS | PASS | PASS | SKIPPED | SKIPPED | +---------------------+--------------------+------------------+-------------------+-------------------------+----------------------+ | Alpine | PASS | PASS | SKIPPED | SKIPPED | SKIPPED | +---------------------+--------------------+------------------+-------------------+-------------------------+----------------------+ | FreeBSD 13.4 | PASS | SKIPPED | SKIPPED | SKIPPED | SKIPPED | +---------------------+--------------------+------------------+-------------------+-------------------------+----------------------+ | FreeBSD 14.2 | PASS | SKIPPED | SKIPPED | SKIPPED | SKIPPED | +---------------------+--------------------+------------------+-------------------+-------------------------+----------------------+ | Windows Server 2022 | SKIPPED | SKIPPED | SKIPPED | PASS | PASS | +---------------------+--------------------+------------------+-------------------+-------------------------+----------------------+ ==== 20 line log output for openSUSE Leap 15 (dpdk_compile_ovs): ==== --- Failed to get log output --- ==== End log output ==== CentOS Stream 9 Kernel: Depends on container host Compiler: gcc 11.5.0 20240719 (Red Hat 11.5.0-2) Debian 12 Kernel: Depends on container host Compiler: gcc (Debian 12.2.0-14) 12.2.0 Debian Bullseye Kernel: Depends on container host Compiler: gcc (Debian 10.2.1-6) 10.2.1 20210110 Fedora 41 Kernel: Depends on container host Compiler: gcc 14.2.1 20240912 (Red Hat 14.2.1-3) Fedora 40 Kernel: Depends on container host Compiler: gcc 14.2.1 20240912 (Red Hat 14.2.1-3) Fedora 40 (Clang) Kernel: Depends on container host Compiler: clang 18.1.8 (Fedora 18.1.8-1.fc40) Fedora 41 (Clang) Kernel: Depends on container host Compiler: clang 19.1.5 (Fedora 19.1.5-1.fc41) RHEL9 Kernel: Depends on container host Compiler: gcc 11.5.0 20240719 (Red Hat 11.5.0-2) RHEL8 Kernel: Depends on container host Compiler: gcc 8.5.0 20210514 (Red Hat 8.5.0-22) openSUSE Leap 15 Kernel: Depends on container host Compiler: gcc (SUSE Linux) 7.5.0 Ubuntu 20.04 Kernel: Depends on container host Compiler: gcc (Ubuntu 9.4.0-1ubuntu1~20.04.2) 9.4.0 Ubuntu 22.04 Kernel: Depends on container host Compiler: gcc (Ubuntu 11.4.0-1ubuntu1~22.04) 11.4.0 Ubuntu 24.04 Kernel: Depends on container host Compiler: gcc (Ubuntu 13.3.0-6ubuntu2~24.04) 13.3.0 Alpine Kernel: Depends on container host Compiler: gcc (Alpine 14.2.0) 14.2.0 FreeBSD 13.4 Kernel: 13.4-RELEASE-p1 Compiler: clang 18.1.6 FreeBSD 14.2 Kernel: 14.2-RELEASE Compiler: clang 18.1.6 Windows Server 2022 Kernel: 10.0.20348.2031 Compiler: clang 15.0.7, gcc 14.1.0 (MinGW), and MSVC VS 19.39.33521 To view detailed results, visit: https://lab.dpdk.org/results/dashboard/patchsets/32284/ UNH-IOL DPDK Community Lab To manage your email subscriptions, visit: https://lab.dpdk.org/results/dashboard/preferences/subscriptions/