From mboxrd@z Thu Jan 1 00:00:00 1970 Return-Path: Received: from mails.dpdk.org (mails.dpdk.org [217.70.189.124]) by inbox.dpdk.org (Postfix) with ESMTP id 50EF4461BE for ; Fri, 7 Feb 2025 18:55:24 +0100 (CET) Received: from mails.dpdk.org (localhost [127.0.0.1]) by mails.dpdk.org (Postfix) with ESMTP id 46D5742ED5; Fri, 7 Feb 2025 18:55:24 +0100 (CET) Received: from mail-il1-f227.google.com (mail-il1-f227.google.com [209.85.166.227]) by mails.dpdk.org (Postfix) with ESMTP id BDF1242E90 for ; Fri, 7 Feb 2025 18:55:22 +0100 (CET) Received: by mail-il1-f227.google.com with SMTP id e9e14a558f8ab-3ce886a2d5bso20806955ab.1 for ; Fri, 07 Feb 2025 09:55:22 -0800 (PST) DKIM-Signature: v=1; a=rsa-sha256; c=relaxed/relaxed; d=iol.unh.edu; s=unh-iol; t=1738950922; x=1739555722; darn=dpdk.org; h=references:in-reply-to:cc:to:from:subject:message-id:date:from:to :cc:subject:date:message-id:reply-to; bh=4ikYHoZAcAaqtYDNXHjJscSVhnQuiov9Gh82HWcQqdg=; b=Px2Dhk0gWIYXccSSBF/VspgZAv+XibXzgn8EzM0c0AhN2WTbcHtCgC9l2OGyjAW+aH RYGzbtkLccK7V5WWqVHt+pj4ZANyM0ZNUbqsbZKVDPvXLILm8EVWCKRG7Li54BTkxFgO yWwbEyRIST/0YvFzZaolC7E1Jb/OJwiPtfTuw= X-Google-DKIM-Signature: v=1; a=rsa-sha256; c=relaxed/relaxed; d=1e100.net; s=20230601; t=1738950922; x=1739555722; h=references:in-reply-to:cc:to:from:subject:message-id:date :x-gm-message-state:from:to:cc:subject:date:message-id:reply-to; bh=4ikYHoZAcAaqtYDNXHjJscSVhnQuiov9Gh82HWcQqdg=; b=Q9E5X2gPc4YsYKSWsImJUMsPJyjMll3kBQ8/U0/RDO7VFIeXhS83JuM8KmHala8xb0 LXWAZLXMouJ51TAjOseMWnJcH2Ga1biR385MgZiIpDMVlatTlfIoyuKIYyILzcuDFrRw sWmHlq+Ks3szdWOFR1IiOcee9A+BfkdMZ3Hy9NBL2iSvfhDOdpG/KY6Edp7GjJrNaxVK XdFKwW8MZL2MxrPpLT/nGXid6haPgNQJedD+a5Nk1Jlqjdmn8+Sjl8Bfeks27H9iNPg1 7RgUNagt69rUzCm12iG6MeG/0etIQj7w3E5/cCrootx9J7SR6PJt5glGtGhEUxmJ0s4n 5LVg== X-Gm-Message-State: AOJu0YwqP/lJAPnkhTdCfQ1Tk/1eX3iTZ0d8Qxxhtr50Pw0YZRPdHX4D Kb+qdyX7lneK+p/p27iR86543b1XTHspKIXFUr8GiGlrOutpY/BAy3qlJirD6PDFg5chrCya653 HHiKvLkxtj43xfehm6bYPuwkIFsbmio3YR3mpawYP X-Gm-Gg: ASbGncv6AnJLeJqFHkWTN5ifLWGMDsHsxAP9xnkmn+uZvk2UHlESX3Nps1hiXFRqQPQ LB+bLBbJMydjaKtpfO2btaAZkRNaI1WCNH0QnaaDibm+nfZiPJPPo1NQadnVl1LZMMusgeB56ND tdqHqsn9T0nINJcWkKvc+wSy4MxGGIEubDOQ3VQqswz+sOzIn2Xrgrq2ogVxLj3bk2f1EmrOgjJ O1nlKOzkH7YDCbxI0i4IbSuMBUThuDNR9acz+kzTcM9NWk0c3LnE5bZX8/7eAYJkm4A1MmwVppj 2fMK88koTD1CJqVaUY1VRVL3EWZW7w== X-Google-Smtp-Source: AGHT+IHKH5+pn2V3RedVDsSFh56oxeS93QNc3Abei8k0MbjRG1mPM26Vwa+DFPtlQLcFLnOZ7XJ36OvVBQ+W X-Received: by 2002:a05:6e02:1a69:b0:3d0:2477:83ec with SMTP id e9e14a558f8ab-3d13dfa8591mr28073435ab.14.1738950922106; Fri, 07 Feb 2025 09:55:22 -0800 (PST) Received: from postal.iol.unh.edu (postal.iol.unh.edu. [132.177.123.84]) by smtp-relay.gmail.com with ESMTPS id e9e14a558f8ab-3d05e8da08dsm2649965ab.2.2025.02.07.09.55.22 (version=TLS1_2 cipher=ECDHE-ECDSA-AES128-GCM-SHA256 bits=128/128); Fri, 07 Feb 2025 09:55:22 -0800 (PST) X-Relaying-Domain: iol.unh.edu Date: Fri, 07 Feb 2025 09:55:22 -0800 (PST) Message-ID: <67a6490a.920a0220.3ab1f8.e00cSMTPIN_ADDED_MISSING@mx.google.com> Received: from [172.21.0.7] (unknown [172.18.0.240]) by postal.iol.unh.edu (Postfix) with ESMTP id 9C35E6052471; Fri, 7 Feb 2025 12:55:21 -0500 (EST) Subject: |WARNING| pw149666-149667 [PATCH] [v2,2/2] test/crypto: add asymmetr From: dpdklab@iol.unh.edu To: Test Report Cc: dpdk-test-reports@iol.unh.edu In-Reply-To: References: Content-Type: text/plain X-BeenThere: test-report@dpdk.org X-Mailman-Version: 2.1.29 Precedence: list List-Id: automatic DPDK test reports List-Unsubscribe: , List-Archive: List-Post: List-Help: List-Subscribe: , Errors-To: test-report-bounces@dpdk.org Test-Label: iol-compile-amd64-testing Test-Status: WARNING http://dpdk.org/patch/149667 _Testing issues_ Submitter: Gowrishankar Muthukrishnan Date: Tuesday, January 07 2025 17:52:38 DPDK git baseline: Repo:dpdk Branch: master CommitID:fd51012de5369679e807be1d6a81d63ef15015ce 149666-149667 --> testing issues Test environment and result as below: +---------------------+-------------------+--------------------+------------------+-------------------+-------------------------+----------------------+ | Environment | dpdk_msvc_compile | dpdk_meson_compile | dpdk_compile_ovs | dpdk_compile_spdk | dpdk_llvm_clang_compile | dpdk_mingw64_compile | +=====================+===================+====================+==================+===================+=========================+======================+ | Windows Server 2022 | PASS | SKIPPED | SKIPPED | SKIPPED | PASS | PASS | +---------------------+-------------------+--------------------+------------------+-------------------+-------------------------+----------------------+ | FreeBSD 13.4 | SKIPPED | PASS | SKIPPED | SKIPPED | SKIPPED | SKIPPED | +---------------------+-------------------+--------------------+------------------+-------------------+-------------------------+----------------------+ | FreeBSD 14.2 | SKIPPED | PASS | SKIPPED | SKIPPED | SKIPPED | SKIPPED | +---------------------+-------------------+--------------------+------------------+-------------------+-------------------------+----------------------+ | CentOS Stream 9 | SKIPPED | PASS | PASS | PASS | SKIPPED | SKIPPED | +---------------------+-------------------+--------------------+------------------+-------------------+-------------------------+----------------------+ | Debian Bullseye | SKIPPED | PASS | PASS | PASS | SKIPPED | SKIPPED | +---------------------+-------------------+--------------------+------------------+-------------------+-------------------------+----------------------+ | Debian 12 | SKIPPED | PASS | PASS | PASS | SKIPPED | SKIPPED | +---------------------+-------------------+--------------------+------------------+-------------------+-------------------------+----------------------+ | Fedora 40 (Clang) | SKIPPED | PASS | PASS | PASS | SKIPPED | SKIPPED | +---------------------+-------------------+--------------------+------------------+-------------------+-------------------------+----------------------+ | Fedora 40 | SKIPPED | PASS | PASS | PEND | SKIPPED | SKIPPED | +---------------------+-------------------+--------------------+------------------+-------------------+-------------------------+----------------------+ | Fedora 41 (Clang) | SKIPPED | PASS | PASS | PASS | SKIPPED | SKIPPED | +---------------------+-------------------+--------------------+------------------+-------------------+-------------------------+----------------------+ | Fedora 41 | SKIPPED | PASS | PASS | PASS | SKIPPED | SKIPPED | +---------------------+-------------------+--------------------+------------------+-------------------+-------------------------+----------------------+ | openSUSE Leap 15 | SKIPPED | PASS | WARN | SKIPPED | SKIPPED | SKIPPED | +---------------------+-------------------+--------------------+------------------+-------------------+-------------------------+----------------------+ | RHEL8 | SKIPPED | PASS | PASS | SKIPPED | SKIPPED | SKIPPED | +---------------------+-------------------+--------------------+------------------+-------------------+-------------------------+----------------------+ | RHEL9 | SKIPPED | PASS | PASS | SKIPPED | SKIPPED | SKIPPED | +---------------------+-------------------+--------------------+------------------+-------------------+-------------------------+----------------------+ | Ubuntu 20.04 | SKIPPED | PASS | SKIPPED | SKIPPED | SKIPPED | SKIPPED | +---------------------+-------------------+--------------------+------------------+-------------------+-------------------------+----------------------+ | Ubuntu 22.04 | SKIPPED | PASS | PASS | PASS | SKIPPED | SKIPPED | +---------------------+-------------------+--------------------+------------------+-------------------+-------------------------+----------------------+ | Ubuntu 24.04 | SKIPPED | PASS | PASS | PASS | SKIPPED | SKIPPED | +---------------------+-------------------+--------------------+------------------+-------------------+-------------------------+----------------------+ | Alpine | SKIPPED | PASS | PASS | SKIPPED | SKIPPED | SKIPPED | +---------------------+-------------------+--------------------+------------------+-------------------+-------------------------+----------------------+ ==== 20 line log output for openSUSE Leap 15 (dpdk_compile_ovs): ==== --- Failed to get log output --- ==== End log output ==== Windows Server 2022 Kernel: 10.0.20348.2031 Compiler: clang 15.0.7, gcc 14.1.0 (MinGW), and MSVC VS 19.39.33521 FreeBSD 13.4 Kernel: 13.4-RELEASE-p1 Compiler: clang 18.1.6 FreeBSD 14.2 Kernel: 14.2-RELEASE Compiler: clang 18.1.6 CentOS Stream 9 Kernel: Depends on container host Compiler: gcc 11.5.0 20240719 (Red Hat 11.5.0-2) Debian Bullseye Kernel: Depends on container host Compiler: gcc (Debian 10.2.1-6) 10.2.1 20210110 Debian 12 Kernel: Depends on container host Compiler: gcc (Debian 12.2.0-14) 12.2.0 Fedora 40 (Clang) Kernel: Depends on container host Compiler: clang 18.1.8 (Fedora 18.1.8-1.fc40) Fedora 40 Kernel: Depends on container host Compiler: gcc 14.2.1 20240912 (Red Hat 14.2.1-3) Fedora 41 (Clang) Kernel: Depends on container host Compiler: clang 19.1.5 (Fedora 19.1.5-1.fc41) Fedora 41 Kernel: Depends on container host Compiler: gcc 14.2.1 20240912 (Red Hat 14.2.1-3) openSUSE Leap 15 Kernel: Depends on container host Compiler: gcc (SUSE Linux) 7.5.0 RHEL8 Kernel: Depends on container host Compiler: gcc 8.5.0 20210514 (Red Hat 8.5.0-22) RHEL9 Kernel: Depends on container host Compiler: gcc 11.5.0 20240719 (Red Hat 11.5.0-2) Ubuntu 20.04 Kernel: Depends on container host Compiler: gcc (Ubuntu 9.4.0-1ubuntu1~20.04.2) 9.4.0 Ubuntu 22.04 Kernel: Depends on container host Compiler: gcc (Ubuntu 11.4.0-1ubuntu1~22.04) 11.4.0 Ubuntu 24.04 Kernel: Depends on container host Compiler: gcc (Ubuntu 13.3.0-6ubuntu2~24.04) 13.3.0 Alpine Kernel: Depends on container host Compiler: gcc (Alpine 14.2.0) 14.2.0 To view detailed results, visit: https://lab.dpdk.org/results/dashboard/patchsets/32269/ UNH-IOL DPDK Community Lab To manage your email subscriptions, visit: https://lab.dpdk.org/results/dashboard/preferences/subscriptions/