From mboxrd@z Thu Jan 1 00:00:00 1970 Return-Path: Received: from mails.dpdk.org (mails.dpdk.org [217.70.189.124]) by inbox.dpdk.org (Postfix) with ESMTP id A0F6E461BE for ; Fri, 7 Feb 2025 18:57:12 +0100 (CET) Received: from mails.dpdk.org (localhost [127.0.0.1]) by mails.dpdk.org (Postfix) with ESMTP id 97CCD42ED5; Fri, 7 Feb 2025 18:57:12 +0100 (CET) Received: from mail-qk1-f227.google.com (mail-qk1-f227.google.com [209.85.222.227]) by mails.dpdk.org (Postfix) with ESMTP id ECB9142E90 for ; Fri, 7 Feb 2025 18:57:11 +0100 (CET) Received: by mail-qk1-f227.google.com with SMTP id af79cd13be357-7c0155af484so314643485a.0 for ; Fri, 07 Feb 2025 09:57:11 -0800 (PST) DKIM-Signature: v=1; a=rsa-sha256; c=relaxed/relaxed; d=iol.unh.edu; s=unh-iol; t=1738951031; x=1739555831; darn=dpdk.org; h=cc:to:from:subject:message-id:date:from:to:cc:subject:date :message-id:reply-to; bh=EaDoeQt31WaDysa9UofASAuUntLfGNII47Ufgwejmew=; b=L8JuK8Ft57bTqkrEMr32PpVvHZgn1gKRFdl7HqQNpWJCrPSfD43fZOQ9ByAJ5NT/hg mfII5HYv3O16bEbMXdt8vcGxSuiCvg1T9HmHiZLYjEuiLsfHyaf6xX8OnRwBOnZU1nNE HQD4z8n157SwTU+D6B8wrWgR/oSmKXNciCE6U= X-Google-DKIM-Signature: v=1; a=rsa-sha256; c=relaxed/relaxed; d=1e100.net; s=20230601; t=1738951031; x=1739555831; h=cc:to:from:subject:message-id:date:x-gm-message-state:from:to:cc :subject:date:message-id:reply-to; bh=EaDoeQt31WaDysa9UofASAuUntLfGNII47Ufgwejmew=; b=bqcu++dpkJr5BaYaR1r1YEbuLA0MfvIP47tLJO234x4aGPW4DwN7868LLGOwShwsVA NHKI8TUKg/fkKXPljo6msqzK5NBcBMufSv3yhJkoOH+o/mLc3bNlVXJ1XbatzIcO+JPZ 24MSldSiarfdo8GV4GhpszqF3B3GGTuvQdWN+9HMLgAPiSoDwqktxsgrJ99ZQvTIin9Z p1Ri/gwkzGOPl1Z96PsZMmPeSBKs8pwdKfhmiFPCu4+Z2JVRAZhlFDyeThazFowkSWHT yFyPBUfBF+oPzR+9hVIew5yMy5SWCVEUCTi712o/WjNpPGfb0EGpy4DSkngcySSaFhrV nndg== X-Gm-Message-State: AOJu0Yz+S/NQm+9YKZmOurInRujRJbwBjMxGkiZsnphOSXuEwi+I1WF4 JjdzRXGUvNxZ+hdaAVjKEN3PfKLqPv++g+rR9JzNAgVkVyIXoqe89zVmCpbuv/q5wNNPDX+72lF byZUB/cGDERmRqtC65FVUZzjAX6J9MW8Y X-Gm-Gg: ASbGncu6K+cY+oQZKEZem1szi98P8Xawg0aXBe+MQvYaqtOYZZbtI8vtbRAehxBRwdb XI6PAu46xrYntnXiNNOuk/2FErNpq/aNqvPL0v0q6Jx2dOZSYGcVWy70A83SiNUDm4s9mavI+9a rMTN+/PYc1f0hQ3RyjJZzL2IsKY0AdMVk+T2UlWSfGZfoZXTs8p4rGEGBYH6F2O1xXVI2VKaHjl rmyUoCDnMgZcDMqYhfQBYonn79ObEEJTBd2xA5G+KMKNvK3vI7psZM1j5U9qqi3ms0JBQoQ4FV7 7QmjKfALwbF/zsUW6MLdP2zTBvsqSw== X-Google-Smtp-Source: AGHT+IE39eZpw/hizTyIOdN+Uqh4rCdoc9bRbX2QcwMCNrgeIDB7t9D2cfuWZCvRPpo+/UQFMw3bRi2Z9vEa X-Received: by 2002:a05:6214:240b:b0:6d1:7433:3670 with SMTP id 6a1803df08f44-6e4455c9154mr62783536d6.4.1738951031252; Fri, 07 Feb 2025 09:57:11 -0800 (PST) Received: from postal.iol.unh.edu (postal.iol.unh.edu. [132.177.123.84]) by smtp-relay.gmail.com with ESMTPS id 6a1803df08f44-6e4490afbfesm1023276d6.4.2025.02.07.09.57.11 (version=TLS1_2 cipher=ECDHE-ECDSA-AES128-GCM-SHA256 bits=128/128); Fri, 07 Feb 2025 09:57:11 -0800 (PST) X-Relaying-Domain: iol.unh.edu Date: Fri, 07 Feb 2025 09:57:11 -0800 (PST) Message-ID: <67a64977.050a0220.366b5.51e3SMTPIN_ADDED_MISSING@mx.google.com> Received: from [172.21.0.8] (unknown [172.18.0.240]) by postal.iol.unh.edu (Postfix) with ESMTP id E4BE66052471; Fri, 7 Feb 2025 12:57:10 -0500 (EST) Subject: |WARNING| [GIT MASTER] c66daa12e76d7b4912cfb7109a761856a7a873ab From: dpdklab@iol.unh.edu To: Test Report Cc: dpdk-test-reports@iol.unh.edu, Xueming Li , Christian Ehrhardt , Kevin Traynor , Luca Boccassi Content-Type: text/plain X-BeenThere: test-report@dpdk.org X-Mailman-Version: 2.1.29 Precedence: list List-Id: automatic DPDK test reports List-Unsubscribe: , List-Archive: List-Post: List-Help: List-Subscribe: , Errors-To: test-report-bounces@dpdk.org _Testing issues_ Branch: tags/v23.11 c66daa12e76d7b4912cfb7109a761856a7a873ab --> testing issues Test environment and result as below: +---------------------+--------------------+------------------+-------------------+-------------------+-------------------------+----------------------+ | Environment | dpdk_meson_compile | dpdk_compile_ovs | dpdk_compile_spdk | dpdk_msvc_compile | dpdk_llvm_clang_compile | dpdk_mingw64_compile | +=====================+====================+==================+===================+===================+=========================+======================+ | FreeBSD 13.4 | PASS | SKIPPED | SKIPPED | SKIPPED | SKIPPED | SKIPPED | +---------------------+--------------------+------------------+-------------------+-------------------+-------------------------+----------------------+ | FreeBSD 14.2 | PASS | SKIPPED | SKIPPED | SKIPPED | SKIPPED | SKIPPED | +---------------------+--------------------+------------------+-------------------+-------------------+-------------------------+----------------------+ | CentOS Stream 9 | PASS | PASS | PASS | SKIPPED | SKIPPED | SKIPPED | +---------------------+--------------------+------------------+-------------------+-------------------+-------------------------+----------------------+ | Debian Bullseye | PASS | PASS | PASS | SKIPPED | SKIPPED | SKIPPED | +---------------------+--------------------+------------------+-------------------+-------------------+-------------------------+----------------------+ | Debian 12 | PASS | PASS | PASS | SKIPPED | SKIPPED | SKIPPED | +---------------------+--------------------+------------------+-------------------+-------------------+-------------------------+----------------------+ | Fedora 40 (Clang) | PASS | PASS | PASS | SKIPPED | SKIPPED | SKIPPED | +---------------------+--------------------+------------------+-------------------+-------------------+-------------------------+----------------------+ | Fedora 40 | PASS | PASS | PASS | SKIPPED | SKIPPED | SKIPPED | +---------------------+--------------------+------------------+-------------------+-------------------+-------------------------+----------------------+ | Fedora 41 (Clang) | PASS | PASS | PASS | SKIPPED | SKIPPED | SKIPPED | +---------------------+--------------------+------------------+-------------------+-------------------+-------------------------+----------------------+ | Fedora 41 | PASS | PASS | PASS | SKIPPED | SKIPPED | SKIPPED | +---------------------+--------------------+------------------+-------------------+-------------------+-------------------------+----------------------+ | openSUSE Leap 15 | PASS | WARN | SKIPPED | SKIPPED | SKIPPED | SKIPPED | +---------------------+--------------------+------------------+-------------------+-------------------+-------------------------+----------------------+ | RHEL8 | PASS | PASS | SKIPPED | SKIPPED | SKIPPED | SKIPPED | +---------------------+--------------------+------------------+-------------------+-------------------+-------------------------+----------------------+ | RHEL9 | PASS | PASS | SKIPPED | SKIPPED | SKIPPED | SKIPPED | +---------------------+--------------------+------------------+-------------------+-------------------+-------------------------+----------------------+ | Ubuntu 20.04 | PASS | SKIPPED | SKIPPED | SKIPPED | SKIPPED | SKIPPED | +---------------------+--------------------+------------------+-------------------+-------------------+-------------------------+----------------------+ | Ubuntu 22.04 | PASS | PASS | PASS | SKIPPED | SKIPPED | SKIPPED | +---------------------+--------------------+------------------+-------------------+-------------------+-------------------------+----------------------+ | Alpine | PASS | PASS | SKIPPED | SKIPPED | SKIPPED | SKIPPED | +---------------------+--------------------+------------------+-------------------+-------------------+-------------------------+----------------------+ | Ubuntu 24.04 | PASS | PASS | PASS | SKIPPED | SKIPPED | SKIPPED | +---------------------+--------------------+------------------+-------------------+-------------------+-------------------------+----------------------+ | Windows Server 2022 | SKIPPED | SKIPPED | SKIPPED | PASS | PASS | PASS | +---------------------+--------------------+------------------+-------------------+-------------------+-------------------------+----------------------+ ==== 20 line log output for openSUSE Leap 15 (dpdk_compile_ovs): ==== --- Failed to get log output --- ==== End log output ==== FreeBSD 13.4 Kernel: 13.4-RELEASE-p1 Compiler: clang 18.1.6 FreeBSD 14.2 Kernel: 14.2-RELEASE Compiler: clang 18.1.6 CentOS Stream 9 Kernel: Depends on container host Compiler: gcc 11.5.0 20240719 (Red Hat 11.5.0-2) Debian Bullseye Kernel: Depends on container host Compiler: gcc (Debian 10.2.1-6) 10.2.1 20210110 Debian 12 Kernel: Depends on container host Compiler: gcc (Debian 12.2.0-14) 12.2.0 Fedora 40 (Clang) Kernel: Depends on container host Compiler: clang 18.1.8 (Fedora 18.1.8-1.fc40) Fedora 40 Kernel: Depends on container host Compiler: gcc 14.2.1 20240912 (Red Hat 14.2.1-3) Fedora 41 (Clang) Kernel: Depends on container host Compiler: clang 19.1.5 (Fedora 19.1.5-1.fc41) Fedora 41 Kernel: Depends on container host Compiler: gcc 14.2.1 20240912 (Red Hat 14.2.1-3) openSUSE Leap 15 Kernel: Depends on container host Compiler: gcc (SUSE Linux) 7.5.0 RHEL8 Kernel: Depends on container host Compiler: gcc 8.5.0 20210514 (Red Hat 8.5.0-22) RHEL9 Kernel: Depends on container host Compiler: gcc 11.5.0 20240719 (Red Hat 11.5.0-2) Ubuntu 20.04 Kernel: Depends on container host Compiler: gcc (Ubuntu 9.4.0-1ubuntu1~20.04.2) 9.4.0 Ubuntu 22.04 Kernel: Depends on container host Compiler: gcc (Ubuntu 11.4.0-1ubuntu1~22.04) 11.4.0 Alpine Kernel: Depends on container host Compiler: gcc (Alpine 14.2.0) 14.2.0 Ubuntu 24.04 Kernel: Depends on container host Compiler: gcc (Ubuntu 13.3.0-6ubuntu2~24.04) 13.3.0 Windows Server 2022 Kernel: 10.0.20348.2031 Compiler: clang 15.0.7, gcc 14.1.0 (MinGW), and MSVC VS 19.39.33521 To view detailed results, visit: https://lab.dpdk.org/results/dashboard/tarballs/32148/ UNH-IOL DPDK Community Lab To manage your email subscriptions, visit: https://lab.dpdk.org/results/dashboard/preferences/subscriptions/