From mboxrd@z Thu Jan 1 00:00:00 1970 Return-Path: Received: from mails.dpdk.org (mails.dpdk.org [217.70.189.124]) by inbox.dpdk.org (Postfix) with ESMTP id 57C34461BE for ; Fri, 7 Feb 2025 19:00:29 +0100 (CET) Received: from mails.dpdk.org (localhost [127.0.0.1]) by mails.dpdk.org (Postfix) with ESMTP id 3A57B42ED5; Fri, 7 Feb 2025 19:00:29 +0100 (CET) Received: from mail-pl1-f226.google.com (mail-pl1-f226.google.com [209.85.214.226]) by mails.dpdk.org (Postfix) with ESMTP id BE08B42E90 for ; Fri, 7 Feb 2025 19:00:27 +0100 (CET) Received: by mail-pl1-f226.google.com with SMTP id d9443c01a7336-219f8263ae0so47346465ad.0 for ; Fri, 07 Feb 2025 10:00:27 -0800 (PST) DKIM-Signature: v=1; a=rsa-sha256; c=relaxed/relaxed; d=iol.unh.edu; s=unh-iol; t=1738951227; x=1739556027; darn=dpdk.org; h=cc:to:from:subject:message-id:date:from:to:cc:subject:date :message-id:reply-to; bh=qHiLzE4ak+Jbrtxg82F7AS+LrjczI7SCmQ36HPZNUFc=; b=JTvRpp2ZJdZ6mwaL2APRMToRBY1xRH8wKGMpyVaoTueh/+AG3xRY+uhF+/aDm9iRYQ gXT4GOiDBBQ4hrp0LD4Qgx9kNjOCwMbZBkTo2auv9dY7LrkIo8esca7tDth/hGmbunO0 W8+cbOYU7JPziL+jHqsfMmtg22HaqiMG2AkGc= X-Google-DKIM-Signature: v=1; a=rsa-sha256; c=relaxed/relaxed; d=1e100.net; s=20230601; t=1738951227; x=1739556027; h=cc:to:from:subject:message-id:date:x-gm-message-state:from:to:cc :subject:date:message-id:reply-to; bh=qHiLzE4ak+Jbrtxg82F7AS+LrjczI7SCmQ36HPZNUFc=; b=osYanK/vDEnR5gn3GAaBY0OGm7NeoJLbsXt6k0JQSSS6s/n6Y24oFewQETFhSTucvW nSSSOQiG1pWeyKSTywSSV+l7pYNOq7VUPpbjlnHfHKM482y3i56V0pHjAPw0znVq44aG V+Xzxl9Tu+gV/MdBQW4pKOIbeVGeQANslbqREVXS3oAZUDrOdIbQXZrrac5XfTCMCcMe PFfa6XrT6GEg9ouDENKmxqCDuFGnIXesc9SRrIqxG1oSB/i3FjKdWLuizi/F8B7grTRP /uzUmtGK+A4UlfkTaz9A1B/ZSoVgFO2QNCOP+D8xSUZbSj63gZda5aAboFcVu9qhm7xj ovLA== X-Gm-Message-State: AOJu0YzhhdpDTntNSb9i24ocb3UeoPkTF9JwndDBz/ch8p3Q9BR+lV2h GOhZIAU42E5NSjaVE1l2EJnAOpUS+eEy5AvCg9GLcyulY9FK7Bb0Ni/PAQUn9Ba1hDmZ87qHtUx RuubZhxvnAgU8egNe3qeOnbwaKFdatguP X-Gm-Gg: ASbGncvU5dPheJCvmpl8i6/W1Oz2U+obONym+gFuWyRYzJvwgc19RkTvgGZrvq/58MH ut500/cq0FVmnrmjLJxFqZIdQ1ywsQUB1h0tjTsws0gpb1T7R1jN92WaGFaTAj26Vuj24QDbrTb x5vniGx7hyNjOHzTCem60qkoHo8whzu2lJX6ALjELXDxzvRZpEO1tMafDfpZpNDi2IWV5E9oH9F AGr8OUZmKuvN0y10/uGAyCf9NqULJAX2RUs1bM5nW/xXHMAmnA64YbvDIxxChH3C23eMiuYYkv2 SxDI0NL95yqDTpF95x0lR2vcaWiIWg== X-Google-Smtp-Source: AGHT+IGhZleVkAWTILL8Y9VUXzwjF9c7PJIIbKF9C+XYvvdN2bd4NFSNk/kdhM3+SwtW0/cIFcyl21vaYd9c X-Received: by 2002:a17:902:ce03:b0:21f:324:a2f1 with SMTP id d9443c01a7336-21f4e6ca37fmr65086515ad.23.1738951226805; Fri, 07 Feb 2025 10:00:26 -0800 (PST) Received: from postal.iol.unh.edu (postal.iol.unh.edu. [132.177.123.84]) by smtp-relay.gmail.com with ESMTPS id 41be03b00d2f7-ad51aee7f8dsm234808a12.17.2025.02.07.10.00.26 (version=TLS1_2 cipher=ECDHE-ECDSA-AES128-GCM-SHA256 bits=128/128); Fri, 07 Feb 2025 10:00:26 -0800 (PST) X-Relaying-Domain: iol.unh.edu Date: Fri, 07 Feb 2025 10:00:26 -0800 (PST) Message-ID: <67a64a3a.630a0220.9be8d.d0f7SMTPIN_ADDED_MISSING@mx.google.com> Received: from [172.21.0.12] (unknown [172.18.0.240]) by postal.iol.unh.edu (Postfix) with ESMTP id E2FB16052471; Fri, 7 Feb 2025 12:59:55 -0500 (EST) Subject: |WARNING| [GIT MASTER] f2eea2f37a82bb73fb01d56350708f7d70e21379 From: dpdklab@iol.unh.edu To: Test Report Cc: dpdk-test-reports@iol.unh.edu, Xueming Li , Christian Ehrhardt , Kevin Traynor , Luca Boccassi Content-Type: text/plain X-BeenThere: test-report@dpdk.org X-Mailman-Version: 2.1.29 Precedence: list List-Id: automatic DPDK test reports List-Unsubscribe: , List-Archive: List-Post: List-Help: List-Subscribe: , Errors-To: test-report-bounces@dpdk.org _Testing issues_ Branch: tags/v24.11 f2eea2f37a82bb73fb01d56350708f7d70e21379 --> testing issues Test environment and result as below: +---------------------+--------------------+------------------+-------------------+-------------------------+----------------------+ | Environment | dpdk_meson_compile | dpdk_compile_ovs | dpdk_compile_spdk | dpdk_llvm_clang_compile | dpdk_mingw64_compile | +=====================+====================+==================+===================+=========================+======================+ | CentOS Stream 9 | PASS | PASS | PASS | SKIPPED | SKIPPED | +---------------------+--------------------+------------------+-------------------+-------------------------+----------------------+ | Debian Bullseye | PASS | PASS | PASS | SKIPPED | SKIPPED | +---------------------+--------------------+------------------+-------------------+-------------------------+----------------------+ | Debian 12 | PASS | PASS | PASS | SKIPPED | SKIPPED | +---------------------+--------------------+------------------+-------------------+-------------------------+----------------------+ | Fedora 40 (Clang) | PASS | PASS | PASS | SKIPPED | SKIPPED | +---------------------+--------------------+------------------+-------------------+-------------------------+----------------------+ | Fedora 41 (Clang) | PASS | PASS | PASS | SKIPPED | SKIPPED | +---------------------+--------------------+------------------+-------------------+-------------------------+----------------------+ | Fedora 41 | PASS | PASS | PASS | SKIPPED | SKIPPED | +---------------------+--------------------+------------------+-------------------+-------------------------+----------------------+ | openSUSE Leap 15 | PASS | WARN | SKIPPED | SKIPPED | SKIPPED | +---------------------+--------------------+------------------+-------------------+-------------------------+----------------------+ | RHEL8 | PASS | PASS | SKIPPED | SKIPPED | SKIPPED | +---------------------+--------------------+------------------+-------------------+-------------------------+----------------------+ | RHEL9 | PASS | PASS | SKIPPED | SKIPPED | SKIPPED | +---------------------+--------------------+------------------+-------------------+-------------------------+----------------------+ | Ubuntu 20.04 | PASS | SKIPPED | SKIPPED | SKIPPED | SKIPPED | +---------------------+--------------------+------------------+-------------------+-------------------------+----------------------+ | Ubuntu 22.04 | PASS | PASS | PASS | SKIPPED | SKIPPED | +---------------------+--------------------+------------------+-------------------+-------------------------+----------------------+ | Ubuntu 24.04 | PASS | PASS | PASS | SKIPPED | SKIPPED | +---------------------+--------------------+------------------+-------------------+-------------------------+----------------------+ | Alpine | PASS | PASS | SKIPPED | SKIPPED | SKIPPED | +---------------------+--------------------+------------------+-------------------+-------------------------+----------------------+ | FreeBSD 13.4 | PASS | SKIPPED | SKIPPED | SKIPPED | SKIPPED | +---------------------+--------------------+------------------+-------------------+-------------------------+----------------------+ | FreeBSD 14.2 | PASS | SKIPPED | SKIPPED | SKIPPED | SKIPPED | +---------------------+--------------------+------------------+-------------------+-------------------------+----------------------+ | Windows Server 2022 | SKIPPED | SKIPPED | SKIPPED | PASS | PASS | +---------------------+--------------------+------------------+-------------------+-------------------------+----------------------+ ==== 20 line log output for openSUSE Leap 15 (dpdk_compile_ovs): ==== --- Failed to get log output --- ==== End log output ==== CentOS Stream 9 Kernel: Depends on container host Compiler: gcc 11.5.0 20240719 (Red Hat 11.5.0-2) Debian Bullseye Kernel: Depends on container host Compiler: gcc (Debian 10.2.1-6) 10.2.1 20210110 Debian 12 Kernel: Depends on container host Compiler: gcc (Debian 12.2.0-14) 12.2.0 Fedora 40 (Clang) Kernel: Depends on container host Compiler: clang 18.1.8 (Fedora 18.1.8-1.fc40) Fedora 41 (Clang) Kernel: Depends on container host Compiler: clang 19.1.5 (Fedora 19.1.5-1.fc41) Fedora 41 Kernel: Depends on container host Compiler: gcc 14.2.1 20240912 (Red Hat 14.2.1-3) openSUSE Leap 15 Kernel: Depends on container host Compiler: gcc (SUSE Linux) 7.5.0 RHEL8 Kernel: Depends on container host Compiler: gcc 8.5.0 20210514 (Red Hat 8.5.0-22) RHEL9 Kernel: Depends on container host Compiler: gcc 11.5.0 20240719 (Red Hat 11.5.0-2) Ubuntu 20.04 Kernel: Depends on container host Compiler: gcc (Ubuntu 9.4.0-1ubuntu1~20.04.2) 9.4.0 Ubuntu 22.04 Kernel: Depends on container host Compiler: gcc (Ubuntu 11.4.0-1ubuntu1~22.04) 11.4.0 Ubuntu 24.04 Kernel: Depends on container host Compiler: gcc (Ubuntu 13.3.0-6ubuntu2~24.04) 13.3.0 Alpine Kernel: Depends on container host Compiler: gcc (Alpine 14.2.0) 14.2.0 FreeBSD 13.4 Kernel: 13.4-RELEASE-p1 Compiler: clang 18.1.6 FreeBSD 14.2 Kernel: 14.2-RELEASE Compiler: clang 18.1.6 Windows Server 2022 Kernel: 10.0.20348.2031 Compiler: clang 15.0.7, gcc 14.1.0 (MinGW), and MSVC VS 19.39.33521 To view detailed results, visit: https://lab.dpdk.org/results/dashboard/tarballs/32124/ UNH-IOL DPDK Community Lab To manage your email subscriptions, visit: https://lab.dpdk.org/results/dashboard/preferences/subscriptions/