From mboxrd@z Thu Jan  1 00:00:00 1970
Return-Path: <test-report-bounces@dpdk.org>
Received: from mails.dpdk.org (mails.dpdk.org [217.70.189.124])
	by inbox.dpdk.org (Postfix) with ESMTP id 2FF02461BE
	for <public@inbox.dpdk.org>; Fri,  7 Feb 2025 19:08:58 +0100 (CET)
Received: from mails.dpdk.org (localhost [127.0.0.1])
	by mails.dpdk.org (Postfix) with ESMTP id 1DCCA42ED5;
	Fri,  7 Feb 2025 19:08:58 +0100 (CET)
Received: from mail-ot1-f100.google.com (mail-ot1-f100.google.com
 [209.85.210.100])
 by mails.dpdk.org (Postfix) with ESMTP id 2E9C942E90
 for <test-report@dpdk.org>; Fri,  7 Feb 2025 19:08:57 +0100 (CET)
Received: by mail-ot1-f100.google.com with SMTP id
 46e09a7af769-726819aa3fcso1415228a34.0
 for <test-report@dpdk.org>; Fri, 07 Feb 2025 10:08:57 -0800 (PST)
DKIM-Signature: v=1; a=rsa-sha256; c=relaxed/relaxed;
 d=iol.unh.edu; s=unh-iol; t=1738951736; x=1739556536; darn=dpdk.org;
 h=references:in-reply-to:cc:to:from:subject:message-id:date:from:to
 :cc:subject:date:message-id:reply-to;
 bh=D5vGc87r9iGr2+reVU4IGMWPc9MwBtnxHHUVFETRmA8=;
 b=FQIKp4yFXQiyIdcP6MBFVNpBlbb8DeBMr7SDIQfv0VqsPF+Jd0hpMinNancq1MrDsj
 RmsT7Xr5cGpyWXBM37huUcyCbmiDJ4vxvopb/R1lzHuxIu5V3B/n36ehlIFzFmACUBVP
 rvays0iYNM2P8K0rR+ajzAb40luOWwmavctCs=
X-Google-DKIM-Signature: v=1; a=rsa-sha256; c=relaxed/relaxed;
 d=1e100.net; s=20230601; t=1738951736; x=1739556536;
 h=references:in-reply-to:cc:to:from:subject:message-id:date
 :x-gm-message-state:from:to:cc:subject:date:message-id:reply-to;
 bh=D5vGc87r9iGr2+reVU4IGMWPc9MwBtnxHHUVFETRmA8=;
 b=bOCu/pvy11i2UweKUj9CVme3hIUGGa1WHP4lk3EaYfBTH6O7X2zvGd1FoRwH2JWqfu
 DFFd9nwzjDzLyj/RqQ2ulIefWvseqYS05PpZhMm/1jj09zCXsI+8p8bLkCHymnL6QE+s
 2C56BsOpHNslkyRGrBO11nIwvtfqamAr6lu7j93J5FMIjWS50lQImEtaxlGpOF3O/RL2
 cJu1nFBGCPyUCsNIrTAFz6DqchELFwYS7i1cvJ4sZEDPC71V0R0eDrDj0Zrw//OtIYnP
 xO0X7ghvsI9BqzwpJFkvwxct1gP1YRzXK8V8U4jX8lzRATRf0DEijnpmzwIOFDNadQWA
 aaPA==
X-Gm-Message-State: AOJu0YwFk5ukBk3846azP3o0kL/nY5PHtMRFmgYPg4uXht5kRpAHyF5M
 sSCUgLQDHKcNqc+MzfmImJAFCt+YsgjmRO/FPI9yqJNw0G8mbRlDX7hC0JFxNgVxTIux3zZHIZY
 Kl6C3sMLDsGKSOh6XfYsSmmeLN6RFa3mE5fWjIG5j
X-Gm-Gg: ASbGnctwa+vhzP5AgtY4qIU5NyrKR3rZZFUsQcL9/6qrvDhHdRVuGa1rlNBQglBYq+0
 sQ01oHYSbKr09yRzdXcK+QOt4Z8IFo+AqGSBi4bDgo9DP7nPzkxUjOXyXNHnfdCwXBcw1pV4mnf
 8P826Tq1folpJEm765Vu0YB/8C199xo3H2herlP8XwV5AZdcmXZpZNNzzc/ONg0Hshjhk0msnld
 3rzEiIHjee4KCfOb8pYui2z++qsaXkpV89ulIbxB21Fpqs931ZuctH3x0+D3KdzdsSVT8uITA4U
 jiVAiBb822pnwDrfhWAJqhspTPRdlA==
X-Google-Smtp-Source: AGHT+IH+XqvnuAD59fXAFlMwu5gNJTYbA4UqwzkvT0oENNzZH4HsYp8Rw+2vnaV4ck0735a8FaSvnQVQYhLe
X-Received: by 2002:a05:6830:698d:b0:71d:fc52:1ab6 with SMTP id
 46e09a7af769-726b88a3e27mr2536703a34.23.1738951736240; 
 Fri, 07 Feb 2025 10:08:56 -0800 (PST)
Received: from postal.iol.unh.edu (postal.iol.unh.edu. [132.177.123.84])
 by smtp-relay.gmail.com with ESMTPS id
 006d021491bc7-5fc5458c348sm126378eaf.15.2025.02.07.10.08.56
 (version=TLS1_2 cipher=ECDHE-ECDSA-AES128-GCM-SHA256 bits=128/128);
 Fri, 07 Feb 2025 10:08:56 -0800 (PST)
X-Relaying-Domain: iol.unh.edu
Date: Fri, 07 Feb 2025 10:08:56 -0800 (PST)
Message-ID: <67a64c38.050a0220.1f84d8.66aeSMTPIN_ADDED_MISSING@mx.google.com>
Received: from [172.21.0.15] (unknown [172.18.0.240])
 by postal.iol.unh.edu (Postfix) with ESMTP id B4F126052471;
 Fri,  7 Feb 2025 13:08:55 -0500 (EST)
Subject: |WARNING| pw149642-149643 [PATCH] [v3,2/2] config/arm: sort SOCs alp
From: dpdklab@iol.unh.edu
To: Test Report <test-report@dpdk.org>
Cc: dpdk-test-reports@iol.unh.edu
In-Reply-To: <20250106183146.540161-2-wathsala.vithanage@arm.com>
References: <20250106183146.540161-2-wathsala.vithanage@arm.com>
Content-Type: text/plain
X-BeenThere: test-report@dpdk.org
X-Mailman-Version: 2.1.29
Precedence: list
List-Id: automatic DPDK test reports <test-report.dpdk.org>
List-Unsubscribe: <https://mails.dpdk.org/options/test-report>,
 <mailto:test-report-request@dpdk.org?subject=unsubscribe>
List-Archive: <http://mails.dpdk.org/archives/test-report/>
List-Post: <mailto:test-report@dpdk.org>
List-Help: <mailto:test-report-request@dpdk.org?subject=help>
List-Subscribe: <https://mails.dpdk.org/listinfo/test-report>,
 <mailto:test-report-request@dpdk.org?subject=subscribe>
Errors-To: test-report-bounces@dpdk.org

Test-Label: iol-compile-amd64-testing
Test-Status: WARNING
http://dpdk.org/patch/149643

_Testing issues RETEST #1_

Submitter: Wathsala Vithanage <wathsala.vithanage@arm.com>
Date: Monday, January 06 2025 18:31:46 
DPDK git baseline: Repo:dpdk
  Branch: master
  CommitID:fd51012de5369679e807be1d6a81d63ef15015ce

149642-149643 --> testing issues

Test environment and result as below:

+---------------------+--------------------+------------------+-------------------+-------------------------+-------------------+----------------------+
|     Environment     | dpdk_meson_compile | dpdk_compile_ovs | dpdk_compile_spdk | dpdk_llvm_clang_compile | dpdk_msvc_compile | dpdk_mingw64_compile |
+=====================+====================+==================+===================+=========================+===================+======================+
| Debian Bullseye     | PASS               | PASS             | PASS              | SKIPPED                 | SKIPPED           | SKIPPED              |
+---------------------+--------------------+------------------+-------------------+-------------------------+-------------------+----------------------+
| CentOS Stream 9     | PASS               | PASS             | PASS              | SKIPPED                 | SKIPPED           | SKIPPED              |
+---------------------+--------------------+------------------+-------------------+-------------------------+-------------------+----------------------+
| Debian 12           | PASS               | PASS             | PASS              | SKIPPED                 | SKIPPED           | SKIPPED              |
+---------------------+--------------------+------------------+-------------------+-------------------------+-------------------+----------------------+
| Fedora 40 (Clang)   | PASS               | PASS             | PASS              | SKIPPED                 | SKIPPED           | SKIPPED              |
+---------------------+--------------------+------------------+-------------------+-------------------------+-------------------+----------------------+
| Fedora 40           | PASS               | PASS             | PASS              | SKIPPED                 | SKIPPED           | SKIPPED              |
+---------------------+--------------------+------------------+-------------------+-------------------------+-------------------+----------------------+
| Fedora 41 (Clang)   | PASS               | PASS             | PASS              | SKIPPED                 | SKIPPED           | SKIPPED              |
+---------------------+--------------------+------------------+-------------------+-------------------------+-------------------+----------------------+
| Fedora 41           | PASS               | PASS             | PASS              | SKIPPED                 | SKIPPED           | SKIPPED              |
+---------------------+--------------------+------------------+-------------------+-------------------------+-------------------+----------------------+
| openSUSE Leap 15    | PASS               | WARN             | SKIPPED           | SKIPPED                 | SKIPPED           | SKIPPED              |
+---------------------+--------------------+------------------+-------------------+-------------------------+-------------------+----------------------+
| RHEL8               | PASS               | PASS             | SKIPPED           | SKIPPED                 | SKIPPED           | SKIPPED              |
+---------------------+--------------------+------------------+-------------------+-------------------------+-------------------+----------------------+
| RHEL9               | PASS               | PASS             | SKIPPED           | SKIPPED                 | SKIPPED           | SKIPPED              |
+---------------------+--------------------+------------------+-------------------+-------------------------+-------------------+----------------------+
| Ubuntu 22.04        | PASS               | PASS             | PASS              | SKIPPED                 | SKIPPED           | SKIPPED              |
+---------------------+--------------------+------------------+-------------------+-------------------------+-------------------+----------------------+
| Ubuntu 24.04        | PASS               | PASS             | PASS              | SKIPPED                 | SKIPPED           | SKIPPED              |
+---------------------+--------------------+------------------+-------------------+-------------------------+-------------------+----------------------+
| Alpine              | PASS               | PASS             | SKIPPED           | SKIPPED                 | SKIPPED           | SKIPPED              |
+---------------------+--------------------+------------------+-------------------+-------------------------+-------------------+----------------------+
| FreeBSD 13.4        | PASS               | SKIPPED          | SKIPPED           | SKIPPED                 | SKIPPED           | SKIPPED              |
+---------------------+--------------------+------------------+-------------------+-------------------------+-------------------+----------------------+
| FreeBSD 14.2        | PASS               | SKIPPED          | SKIPPED           | SKIPPED                 | SKIPPED           | SKIPPED              |
+---------------------+--------------------+------------------+-------------------+-------------------------+-------------------+----------------------+
| Ubuntu 20.04        | PASS               | SKIPPED          | SKIPPED           | SKIPPED                 | SKIPPED           | SKIPPED              |
+---------------------+--------------------+------------------+-------------------+-------------------------+-------------------+----------------------+
| Windows Server 2022 | SKIPPED            | SKIPPED          | SKIPPED           | PASS                    | PASS              | PASS                 |
+---------------------+--------------------+------------------+-------------------+-------------------------+-------------------+----------------------+

==== 20 line log output for openSUSE Leap 15 (dpdk_compile_ovs): ====
 --- Failed to get log output --- 
==== End log output ====

Debian Bullseye
	Kernel: Depends on container host
	Compiler: gcc (Debian 10.2.1-6) 10.2.1 20210110

CentOS Stream 9
	Kernel: Depends on container host
	Compiler: gcc 11.5.0 20240719 (Red Hat 11.5.0-2)

Debian 12
	Kernel: Depends on container host
	Compiler: gcc (Debian 12.2.0-14) 12.2.0

Fedora 40 (Clang)
	Kernel: Depends on container host
	Compiler: clang 18.1.8 (Fedora 18.1.8-1.fc40)

Fedora 40
	Kernel: Depends on container host
	Compiler: gcc 14.2.1 20240912 (Red Hat 14.2.1-3)

Fedora 41 (Clang)
	Kernel: Depends on container host
	Compiler: clang 19.1.5 (Fedora 19.1.5-1.fc41)

Fedora 41
	Kernel: Depends on container host
	Compiler: gcc 14.2.1 20240912 (Red Hat 14.2.1-3)

openSUSE Leap 15
	Kernel: Depends on container host
	Compiler: gcc (SUSE Linux) 7.5.0

RHEL8
	Kernel: Depends on container host
	Compiler: gcc 8.5.0 20210514 (Red Hat 8.5.0-22)

RHEL9
	Kernel: Depends on container host
	Compiler: gcc 11.5.0 20240719 (Red Hat 11.5.0-2)

Ubuntu 22.04
	Kernel: Depends on container host
	Compiler: gcc (Ubuntu 11.4.0-1ubuntu1~22.04) 11.4.0

Ubuntu 24.04
	Kernel: Depends on container host
	Compiler: gcc (Ubuntu 13.3.0-6ubuntu2~24.04) 13.3.0

Alpine
	Kernel: Depends on container host
	Compiler: gcc (Alpine 14.2.0) 14.2.0

FreeBSD 13.4
	Kernel: 13.4-RELEASE-p1
	Compiler: clang 18.1.6

FreeBSD 14.2
	Kernel: 14.2-RELEASE
	Compiler: clang 18.1.6

Ubuntu 20.04
	Kernel: Depends on container host
	Compiler: gcc (Ubuntu 9.4.0-1ubuntu1~20.04.2) 9.4.0

Windows Server 2022
	Kernel: 10.0.20348.2031
	Compiler: clang 15.0.7, gcc 14.1.0 (MinGW), and MSVC VS 19.39.33521

To view detailed results, visit:
https://lab.dpdk.org/results/dashboard/patchsets/32260/

UNH-IOL DPDK Community Lab

To manage your email subscriptions, visit: 
https://lab.dpdk.org/results/dashboard/preferences/subscriptions/