From mboxrd@z Thu Jan 1 00:00:00 1970 Return-Path: Received: from mails.dpdk.org (mails.dpdk.org [217.70.189.124]) by inbox.dpdk.org (Postfix) with ESMTP id 587E6461BE for ; Fri, 7 Feb 2025 19:09:25 +0100 (CET) Received: from mails.dpdk.org (localhost [127.0.0.1]) by mails.dpdk.org (Postfix) with ESMTP id 555AC42ED5; Fri, 7 Feb 2025 19:09:25 +0100 (CET) Received: from mail-io1-f99.google.com (mail-io1-f99.google.com [209.85.166.99]) by mails.dpdk.org (Postfix) with ESMTP id D671242E90 for ; Fri, 7 Feb 2025 19:09:23 +0100 (CET) Received: by mail-io1-f99.google.com with SMTP id ca18e2360f4ac-844dfe4b136so63615239f.3 for ; Fri, 07 Feb 2025 10:09:23 -0800 (PST) DKIM-Signature: v=1; a=rsa-sha256; c=relaxed/relaxed; d=iol.unh.edu; s=unh-iol; t=1738951763; x=1739556563; darn=dpdk.org; h=references:in-reply-to:cc:to:from:subject:message-id:date:from:to :cc:subject:date:message-id:reply-to; bh=p90sYIwCB+6RuGsaFMp9Tqc9l6dAjrILRG3Tv0Ab+gY=; b=c7674OJGwn+mdrxSHB9wZuwXS7Kj05S4GWdir3avhLvSrXLO4hzDEUJN6o6I4KMGvy C0lqvUAo1ew6pTooxIaSx0riPg2sp91pzfy/rP6hgHfzFGhDI4ZFpnWeFNaGbv1cR2Wa JadDlXdKfmFW4KpIXkJ4E5dJSWmWG40ZmnSH0= X-Google-DKIM-Signature: v=1; a=rsa-sha256; c=relaxed/relaxed; d=1e100.net; s=20230601; t=1738951763; x=1739556563; h=references:in-reply-to:cc:to:from:subject:message-id:date :x-gm-message-state:from:to:cc:subject:date:message-id:reply-to; bh=p90sYIwCB+6RuGsaFMp9Tqc9l6dAjrILRG3Tv0Ab+gY=; b=YBXD2sqozrhTgQH079Lo0Blihc4bw6UJuUCnCZD9TYKlP8UHNoeRmj0KcEQ4mw+ShM XRpRYyebw3Tlpu+zhaeuTqDXmbyrMWnsCbo1OGjyng6VtN4jX5s5DaEuQZuhHzQe9Vza 2HM7z0fLG9GLZ2t0UvTyZJYzL4YWd9CzYUvXmgb5Mc3nPbEcEv5KEg6W8HrjUP9B4XJA /qNZk+RCLxVxOvcb88lZaWKXBK49741kkoIJcmwsabFQwrKqqVIlooGQ/LrB9yb5Xq3U Mod2Jn9ElEL8rC7oINkoZSHgGmANxMWfARCOX6f23kHSWKqWm6BvLy4K3w6dywjtZF72 +tNQ== X-Gm-Message-State: AOJu0YzU2yzFCXdfC92RS3bv3aPBI2RTszm64yiUcXyq8jQsBuVMA+Pn cM5S/9MrlGH6auD/Jtv7xktWmNf1idYe1L4XHIuO2F0xn3T9nBvXHcYBfGhgR7h8Wl1aH2Gl77u Li+usJfCclfmJUIcPuPW8VFH7ml9n4h0IQk0BAQfj X-Gm-Gg: ASbGncvP2dFCFieVBV9l7jlJUZXM/hn5lNPWqApRZd8Ks8fW49ra1uzDGHHwAd1JiFc L97fY4S7N+vURxpR9TUmR0LaF3u37fgVwjwgF8cYhg9WQWFZ5cjcf1kFkNoDWCIUjgeNEhv0BnN Y0yAPCaHG4BBb/hQrLOCiLynRfwCvpBvIXlul8PSC48tDynDnCzrJRJUxr3gZip/IQ0I6gi/s1B daQefHHpABuW9QZd0LDYpfvqskOQCLhyaZ/FNt6krg856F6X+UXDJ4Af2o51xKNg1UgyUt48kqk AiYu2wCpkT8ew8yi0MdWHN2GKwjWPg== X-Google-Smtp-Source: AGHT+IH6naQIxhLzzLsa1kyMjiVRBsXXujetm6AQMr6ZtlUCIdWEAZalStwPxHnL2aDdpEqSviuKRGca/DPf X-Received: by 2002:a05:6602:400d:b0:843:e9c1:930b with SMTP id ca18e2360f4ac-854fd92ae2amr529988839f.14.1738951762820; Fri, 07 Feb 2025 10:09:22 -0800 (PST) Received: from postal.iol.unh.edu (postal.iol.unh.edu. [132.177.123.84]) by smtp-relay.gmail.com with ESMTPS id 8926c6da1cb9f-4ecda7d7724sm129897173.25.2025.02.07.10.09.22 (version=TLS1_2 cipher=ECDHE-ECDSA-AES128-GCM-SHA256 bits=128/128); Fri, 07 Feb 2025 10:09:22 -0800 (PST) X-Relaying-Domain: iol.unh.edu Date: Fri, 07 Feb 2025 10:09:22 -0800 (PST) Message-ID: <67a64c52.050a0220.245b9e.628aSMTPIN_ADDED_MISSING@mx.google.com> Received: from [172.21.0.8] (unknown [172.18.0.240]) by postal.iol.unh.edu (Postfix) with ESMTP id 56F42605247D; Fri, 7 Feb 2025 13:09:22 -0500 (EST) Subject: |WARNING| pw149588 [PATCH] [RFC] net/virtio-user: implement MAC sett From: dpdklab@iol.unh.edu To: Test Report Cc: dpdk-test-reports@iol.unh.edu In-Reply-To: <20250103144127.1438904-1-maxime.coquelin@redhat.com> References: <20250103144127.1438904-1-maxime.coquelin@redhat.com> Content-Type: text/plain X-BeenThere: test-report@dpdk.org X-Mailman-Version: 2.1.29 Precedence: list List-Id: automatic DPDK test reports List-Unsubscribe: , List-Archive: List-Post: List-Help: List-Subscribe: , Errors-To: test-report-bounces@dpdk.org Test-Label: iol-compile-amd64-testing Test-Status: WARNING http://dpdk.org/patch/149588 _Testing issues_ Submitter: Maxime Coquelin Date: Friday, January 03 2025 14:41:27 DPDK git baseline: Repo:dpdk Branch: master CommitID:07604f264417959d76aa9fcb8cb0c3665f62f0d3 149588 --> testing issues Test environment and result as below: +---------------------+--------------------+------------------+-------------------+-------------------------+-------------------+----------------------+ | Environment | dpdk_meson_compile | dpdk_compile_ovs | dpdk_compile_spdk | dpdk_llvm_clang_compile | dpdk_msvc_compile | dpdk_mingw64_compile | +=====================+====================+==================+===================+=========================+===================+======================+ | CentOS Stream 9 | PASS | PASS | PASS | SKIPPED | SKIPPED | SKIPPED | +---------------------+--------------------+------------------+-------------------+-------------------------+-------------------+----------------------+ | Debian Bullseye | PASS | PASS | PASS | SKIPPED | SKIPPED | SKIPPED | +---------------------+--------------------+------------------+-------------------+-------------------------+-------------------+----------------------+ | Debian 12 | PASS | PASS | PASS | SKIPPED | SKIPPED | SKIPPED | +---------------------+--------------------+------------------+-------------------+-------------------------+-------------------+----------------------+ | Fedora 40 (Clang) | PASS | PASS | PASS | SKIPPED | SKIPPED | SKIPPED | +---------------------+--------------------+------------------+-------------------+-------------------------+-------------------+----------------------+ | Fedora 40 | PASS | PASS | PASS | SKIPPED | SKIPPED | SKIPPED | +---------------------+--------------------+------------------+-------------------+-------------------------+-------------------+----------------------+ | Fedora 41 (Clang) | PASS | PASS | PASS | SKIPPED | SKIPPED | SKIPPED | +---------------------+--------------------+------------------+-------------------+-------------------------+-------------------+----------------------+ | Fedora 41 | PASS | PASS | PASS | SKIPPED | SKIPPED | SKIPPED | +---------------------+--------------------+------------------+-------------------+-------------------------+-------------------+----------------------+ | openSUSE Leap 15 | PASS | WARN | SKIPPED | SKIPPED | SKIPPED | SKIPPED | +---------------------+--------------------+------------------+-------------------+-------------------------+-------------------+----------------------+ | RHEL9 | PASS | PASS | SKIPPED | SKIPPED | SKIPPED | SKIPPED | +---------------------+--------------------+------------------+-------------------+-------------------------+-------------------+----------------------+ | Ubuntu 20.04 | PASS | SKIPPED | SKIPPED | SKIPPED | SKIPPED | SKIPPED | +---------------------+--------------------+------------------+-------------------+-------------------------+-------------------+----------------------+ | Ubuntu 22.04 | PASS | PASS | PASS | SKIPPED | SKIPPED | SKIPPED | +---------------------+--------------------+------------------+-------------------+-------------------------+-------------------+----------------------+ | Ubuntu 24.04 | PASS | PASS | PASS | SKIPPED | SKIPPED | SKIPPED | +---------------------+--------------------+------------------+-------------------+-------------------------+-------------------+----------------------+ | Alpine | PASS | PASS | SKIPPED | SKIPPED | SKIPPED | SKIPPED | +---------------------+--------------------+------------------+-------------------+-------------------------+-------------------+----------------------+ | FreeBSD 13.4 | PASS | SKIPPED | SKIPPED | SKIPPED | SKIPPED | SKIPPED | +---------------------+--------------------+------------------+-------------------+-------------------------+-------------------+----------------------+ | FreeBSD 14.2 | PASS | SKIPPED | SKIPPED | SKIPPED | SKIPPED | SKIPPED | +---------------------+--------------------+------------------+-------------------+-------------------------+-------------------+----------------------+ | RHEL8 | PASS | PASS | SKIPPED | SKIPPED | SKIPPED | SKIPPED | +---------------------+--------------------+------------------+-------------------+-------------------------+-------------------+----------------------+ | Windows Server 2022 | SKIPPED | SKIPPED | SKIPPED | PASS | PASS | PASS | +---------------------+--------------------+------------------+-------------------+-------------------------+-------------------+----------------------+ ==== 20 line log output for openSUSE Leap 15 (dpdk_compile_ovs): ==== --- Failed to get log output --- ==== End log output ==== CentOS Stream 9 Kernel: Depends on container host Compiler: gcc 11.5.0 20240719 (Red Hat 11.5.0-2) Debian Bullseye Kernel: Depends on container host Compiler: gcc (Debian 10.2.1-6) 10.2.1 20210110 Debian 12 Kernel: Depends on container host Compiler: gcc (Debian 12.2.0-14) 12.2.0 Fedora 40 (Clang) Kernel: Depends on container host Compiler: clang 18.1.8 (Fedora 18.1.8-1.fc40) Fedora 40 Kernel: Depends on container host Compiler: gcc 14.2.1 20240912 (Red Hat 14.2.1-3) Fedora 41 (Clang) Kernel: Depends on container host Compiler: clang 19.1.5 (Fedora 19.1.5-1.fc41) Fedora 41 Kernel: Depends on container host Compiler: gcc 14.2.1 20240912 (Red Hat 14.2.1-3) openSUSE Leap 15 Kernel: Depends on container host Compiler: gcc (SUSE Linux) 7.5.0 RHEL9 Kernel: Depends on container host Compiler: gcc 11.5.0 20240719 (Red Hat 11.5.0-2) Ubuntu 20.04 Kernel: Depends on container host Compiler: gcc (Ubuntu 9.4.0-1ubuntu1~20.04.2) 9.4.0 Ubuntu 22.04 Kernel: Depends on container host Compiler: gcc (Ubuntu 11.4.0-1ubuntu1~22.04) 11.4.0 Ubuntu 24.04 Kernel: Depends on container host Compiler: gcc (Ubuntu 13.3.0-6ubuntu2~24.04) 13.3.0 Alpine Kernel: Depends on container host Compiler: gcc (Alpine 14.2.0) 14.2.0 FreeBSD 13.4 Kernel: 13.4-RELEASE-p1 Compiler: clang 18.1.6 FreeBSD 14.2 Kernel: 14.2-RELEASE Compiler: clang 18.1.6 RHEL8 Kernel: Depends on container host Compiler: gcc 8.5.0 20210514 (Red Hat 8.5.0-22) Windows Server 2022 Kernel: 10.0.20348.2031 Compiler: clang 15.0.7, gcc 14.1.0 (MinGW), and MSVC VS 19.39.33521 To view detailed results, visit: https://lab.dpdk.org/results/dashboard/patchsets/32247/ UNH-IOL DPDK Community Lab To manage your email subscriptions, visit: https://lab.dpdk.org/results/dashboard/preferences/subscriptions/