From mboxrd@z Thu Jan 1 00:00:00 1970 Return-Path: Received: from mails.dpdk.org (mails.dpdk.org [217.70.189.124]) by inbox.dpdk.org (Postfix) with ESMTP id 797F9461BE for ; Fri, 7 Feb 2025 19:09:31 +0100 (CET) Received: from mails.dpdk.org (localhost [127.0.0.1]) by mails.dpdk.org (Postfix) with ESMTP id 7430B42ED5; Fri, 7 Feb 2025 19:09:31 +0100 (CET) Received: from mail-qv1-f98.google.com (mail-qv1-f98.google.com [209.85.219.98]) by mails.dpdk.org (Postfix) with ESMTP id 7AAFC42E90 for ; Fri, 7 Feb 2025 19:09:30 +0100 (CET) Received: by mail-qv1-f98.google.com with SMTP id 6a1803df08f44-6e43c9c8d08so19998666d6.3 for ; Fri, 07 Feb 2025 10:09:30 -0800 (PST) DKIM-Signature: v=1; a=rsa-sha256; c=relaxed/relaxed; d=iol.unh.edu; s=unh-iol; t=1738951770; x=1739556570; darn=dpdk.org; h=references:in-reply-to:cc:to:from:subject:message-id:date:from:to :cc:subject:date:message-id:reply-to; bh=OSn4NcelEHdF+WFFDnm+nok7A8NpG9xYSS/35Sf0QaA=; b=JPJHhR13vGdYTaaF9IQloE6TTB+atwvP6WqFeML//OVv8Ey4jHTEGpPc1pm30nCt8I y08iT9d3z/dX9fjXHs8WL1z48kjEhN6r/9ctBrem8hwLFCivnwQTvywAGWEx+lJewAAn VZcyzVJfCJdyf5loBQ2eE/4chNKX2SiM0SkWA= X-Google-DKIM-Signature: v=1; a=rsa-sha256; c=relaxed/relaxed; d=1e100.net; s=20230601; t=1738951770; x=1739556570; h=references:in-reply-to:cc:to:from:subject:message-id:date :x-gm-message-state:from:to:cc:subject:date:message-id:reply-to; bh=OSn4NcelEHdF+WFFDnm+nok7A8NpG9xYSS/35Sf0QaA=; b=b5G4IFYK0kGqRZKK7ojmzRNWCWe6z/e1dgWU0SI6jtJfb05WNCpt/oDKTqATVCxbHl kjqqqhunDx1uTwzQhDXOXyNon7nFkTZFPfiC1e2mtLFsW9RBJ7qXF7hKXePFcp0xQCV/ FVEwUKobKJ+H0gIKuhEhSEuhyHVJKjgSjFlORYlY/ogbuaV67+iGczT5oPLL//kWvhg2 xAFqsbnqRiYgrzVu1XqPJw5yFvK9jFAsjNXZISQ4wcGWSGd7ymLfqOzH+5RFSlY+9piw xDIYgWZdZVhPOet9s+2uPh8Na262R9se7jIvNYT9W1DVWFrWYEWA/eQkAIg3wH2sPz6i 2SaQ== X-Gm-Message-State: AOJu0YyFb1d/erpMe3B3mQ2TSOoK+SqX89vUwhOsQbhX9y0zPXnwYv61 iBWAlqHiDScayrfmr9uTdbOYqxtrkIpYW9FdPPgG0l4K7lXiGDVc7jlWDWdYPhqb8Nl1jehZf6C TjikXPggib/G/GPAiFe0Ckb4bppZ2ZMmD/z82QTrf X-Gm-Gg: ASbGnctyiinNK9Xq5nKjNvtCNd4sBtq5XfK/rKqJWs0prw72l988GAJtaVUhpmKmOUe 5iRz5rQtHxxrbZZuKg7J7RGWqYRIW+MP0iF0Y4xewztOP/F4KLH+WtsTUBEEkvLpvin51UxRrIl IxlZKbUzWn6k+MLUl7RwbU5p7aEpIS+4rdRQgWdHNzdKolRfO5EKvMjAu2EZU2dtM5cxecQIh+R vYuxgErTyz/oNNiFXTn6UveGd/8RogYjTVk/5UyHOXP8u3Q461/7J2KK+zRcs+AMonBHjqL20Mu pJgvzcu3Wxx08L6hvU2RixghWhRabw== X-Google-Smtp-Source: AGHT+IH3mE9FtWASSefY0eKYTXmAFhludN6lnB1X/pPL3XGLXG9BCtWWgQoL6VN87XaGepXtVqIRFbQaI7ZY X-Received: by 2002:a05:6214:2125:b0:6e4:3fa5:46b with SMTP id 6a1803df08f44-6e4456e05fcmr55650226d6.35.1738951769869; Fri, 07 Feb 2025 10:09:29 -0800 (PST) Received: from postal.iol.unh.edu (postal.iol.unh.edu. [132.177.123.84]) by smtp-relay.gmail.com with ESMTPS id 6a1803df08f44-6e43baf0755sm2286116d6.46.2025.02.07.10.09.29 (version=TLS1_2 cipher=ECDHE-ECDSA-AES128-GCM-SHA256 bits=128/128); Fri, 07 Feb 2025 10:09:29 -0800 (PST) X-Relaying-Domain: iol.unh.edu Date: Fri, 07 Feb 2025 10:09:29 -0800 (PST) Message-ID: <67a64c59.050a0220.81f86.c309SMTPIN_ADDED_MISSING@mx.google.com> Received: from [172.21.0.6] (unknown [172.18.0.240]) by postal.iol.unh.edu (Postfix) with ESMTP id 9C416605247D; Fri, 7 Feb 2025 13:09:29 -0500 (EST) Subject: |WARNING| pw149518-149519 [PATCH] [v2,2/2] dts: add softnic test From: dpdklab@iol.unh.edu To: Test Report Cc: dpdk-test-reports@iol.unh.edu In-Reply-To: <20241231113116.1510537-2-paul.szczepanek@arm.com> References: <20241231113116.1510537-2-paul.szczepanek@arm.com> Content-Type: text/plain X-BeenThere: test-report@dpdk.org X-Mailman-Version: 2.1.29 Precedence: list List-Id: automatic DPDK test reports List-Unsubscribe: , List-Archive: List-Post: List-Help: List-Subscribe: , Errors-To: test-report-bounces@dpdk.org Test-Label: iol-compile-amd64-testing Test-Status: WARNING http://dpdk.org/patch/149519 _Testing issues_ Submitter: Paul Szczepanek Date: Tuesday, December 31 2024 11:31:16 DPDK git baseline: Repo:dpdk Branch: master CommitID:fd51012de5369679e807be1d6a81d63ef15015ce 149518-149519 --> testing issues Test environment and result as below: +---------------------+--------------------+------------------+-------------------+-------------------+-------------------------+----------------------+ | Environment | dpdk_meson_compile | dpdk_compile_ovs | dpdk_compile_spdk | dpdk_msvc_compile | dpdk_llvm_clang_compile | dpdk_mingw64_compile | +=====================+====================+==================+===================+===================+=========================+======================+ | CentOS Stream 9 | PASS | PASS | PASS | SKIPPED | SKIPPED | SKIPPED | +---------------------+--------------------+------------------+-------------------+-------------------+-------------------------+----------------------+ | Debian Bullseye | PASS | PASS | PASS | SKIPPED | SKIPPED | SKIPPED | +---------------------+--------------------+------------------+-------------------+-------------------+-------------------------+----------------------+ | Debian 12 | PASS | PASS | PASS | SKIPPED | SKIPPED | SKIPPED | +---------------------+--------------------+------------------+-------------------+-------------------+-------------------------+----------------------+ | Fedora 40 (Clang) | PASS | PASS | PASS | SKIPPED | SKIPPED | SKIPPED | +---------------------+--------------------+------------------+-------------------+-------------------+-------------------------+----------------------+ | Fedora 41 (Clang) | PASS | PASS | PASS | SKIPPED | SKIPPED | SKIPPED | +---------------------+--------------------+------------------+-------------------+-------------------+-------------------------+----------------------+ | Fedora 40 | PASS | PASS | PASS | SKIPPED | SKIPPED | SKIPPED | +---------------------+--------------------+------------------+-------------------+-------------------+-------------------------+----------------------+ | RHEL8 | PASS | PASS | SKIPPED | SKIPPED | SKIPPED | SKIPPED | +---------------------+--------------------+------------------+-------------------+-------------------+-------------------------+----------------------+ | Fedora 41 | PASS | PASS | PASS | SKIPPED | SKIPPED | SKIPPED | +---------------------+--------------------+------------------+-------------------+-------------------+-------------------------+----------------------+ | openSUSE Leap 15 | PASS | WARN | SKIPPED | SKIPPED | SKIPPED | SKIPPED | +---------------------+--------------------+------------------+-------------------+-------------------+-------------------------+----------------------+ | RHEL9 | PASS | PASS | SKIPPED | SKIPPED | SKIPPED | SKIPPED | +---------------------+--------------------+------------------+-------------------+-------------------+-------------------------+----------------------+ | Ubuntu 20.04 | PASS | SKIPPED | SKIPPED | SKIPPED | SKIPPED | SKIPPED | +---------------------+--------------------+------------------+-------------------+-------------------+-------------------------+----------------------+ | Ubuntu 24.04 | PASS | PASS | PASS | SKIPPED | SKIPPED | SKIPPED | +---------------------+--------------------+------------------+-------------------+-------------------+-------------------------+----------------------+ | Alpine | PASS | PASS | SKIPPED | SKIPPED | SKIPPED | SKIPPED | +---------------------+--------------------+------------------+-------------------+-------------------+-------------------------+----------------------+ | FreeBSD 13.4 | PASS | SKIPPED | SKIPPED | SKIPPED | SKIPPED | SKIPPED | +---------------------+--------------------+------------------+-------------------+-------------------+-------------------------+----------------------+ | FreeBSD 14.2 | PASS | SKIPPED | SKIPPED | SKIPPED | SKIPPED | SKIPPED | +---------------------+--------------------+------------------+-------------------+-------------------+-------------------------+----------------------+ | Ubuntu 22.04 | PASS | PASS | PASS | SKIPPED | SKIPPED | SKIPPED | +---------------------+--------------------+------------------+-------------------+-------------------+-------------------------+----------------------+ | Windows Server 2022 | SKIPPED | SKIPPED | SKIPPED | PASS | PASS | PASS | +---------------------+--------------------+------------------+-------------------+-------------------+-------------------------+----------------------+ ==== 20 line log output for openSUSE Leap 15 (dpdk_compile_ovs): ==== --- Failed to get log output --- ==== End log output ==== CentOS Stream 9 Kernel: Depends on container host Compiler: gcc 11.5.0 20240719 (Red Hat 11.5.0-2) Debian Bullseye Kernel: Depends on container host Compiler: gcc (Debian 10.2.1-6) 10.2.1 20210110 Debian 12 Kernel: Depends on container host Compiler: gcc (Debian 12.2.0-14) 12.2.0 Fedora 40 (Clang) Kernel: Depends on container host Compiler: clang 18.1.8 (Fedora 18.1.8-1.fc40) Fedora 41 (Clang) Kernel: Depends on container host Compiler: clang 19.1.5 (Fedora 19.1.5-1.fc41) Fedora 40 Kernel: Depends on container host Compiler: gcc 14.2.1 20240912 (Red Hat 14.2.1-3) RHEL8 Kernel: Depends on container host Compiler: gcc 8.5.0 20210514 (Red Hat 8.5.0-22) Fedora 41 Kernel: Depends on container host Compiler: gcc 14.2.1 20240912 (Red Hat 14.2.1-3) openSUSE Leap 15 Kernel: Depends on container host Compiler: gcc (SUSE Linux) 7.5.0 RHEL9 Kernel: Depends on container host Compiler: gcc 11.5.0 20240719 (Red Hat 11.5.0-2) Ubuntu 20.04 Kernel: Depends on container host Compiler: gcc (Ubuntu 9.4.0-1ubuntu1~20.04.2) 9.4.0 Ubuntu 24.04 Kernel: Depends on container host Compiler: gcc (Ubuntu 13.3.0-6ubuntu2~24.04) 13.3.0 Alpine Kernel: Depends on container host Compiler: gcc (Alpine 14.2.0) 14.2.0 FreeBSD 13.4 Kernel: 13.4-RELEASE-p1 Compiler: clang 18.1.6 FreeBSD 14.2 Kernel: 14.2-RELEASE Compiler: clang 18.1.6 Ubuntu 22.04 Kernel: Depends on container host Compiler: gcc (Ubuntu 11.4.0-1ubuntu1~22.04) 11.4.0 Windows Server 2022 Kernel: 10.0.20348.2031 Compiler: clang 15.0.7, gcc 14.1.0 (MinGW), and MSVC VS 19.39.33521 To view detailed results, visit: https://lab.dpdk.org/results/dashboard/patchsets/32229/ UNH-IOL DPDK Community Lab To manage your email subscriptions, visit: https://lab.dpdk.org/results/dashboard/preferences/subscriptions/