From mboxrd@z Thu Jan 1 00:00:00 1970 Return-Path: Received: from mails.dpdk.org (mails.dpdk.org [217.70.189.124]) by inbox.dpdk.org (Postfix) with ESMTP id 98428461BE for ; Fri, 7 Feb 2025 19:09:49 +0100 (CET) Received: from mails.dpdk.org (localhost [127.0.0.1]) by mails.dpdk.org (Postfix) with ESMTP id 9484742ED5; Fri, 7 Feb 2025 19:09:49 +0100 (CET) Received: from mail-vs1-f98.google.com (mail-vs1-f98.google.com [209.85.217.98]) by mails.dpdk.org (Postfix) with ESMTP id E135842EE1 for ; Fri, 7 Feb 2025 19:09:47 +0100 (CET) Received: by mail-vs1-f98.google.com with SMTP id ada2fe7eead31-4ba890339feso796200137.1 for ; Fri, 07 Feb 2025 10:09:47 -0800 (PST) DKIM-Signature: v=1; a=rsa-sha256; c=relaxed/relaxed; d=iol.unh.edu; s=unh-iol; t=1738951787; x=1739556587; darn=dpdk.org; h=references:in-reply-to:cc:to:from:subject:message-id:date:from:to :cc:subject:date:message-id:reply-to; bh=a2xACJUiPD+IfBo7FRF0Yplr1icsGpi0HiJ1wfhfejE=; b=H8Lsjn2H/9ImLeLadfMK/6+OzIEWBBHnEbUrwh1O1SLRD/ogQeMr2UOFbfQ0UoMnYl dOGOTyCaSM7iN7/32/jtQwVitLH3r07eNoJvN1zUwn1cRK54E3kJcTB1LuCyL+dniTLI UDE1YYC3MdliRYHjpFz2PYFCEPIcp8U5CGdjg= X-Google-DKIM-Signature: v=1; a=rsa-sha256; c=relaxed/relaxed; d=1e100.net; s=20230601; t=1738951787; x=1739556587; h=references:in-reply-to:cc:to:from:subject:message-id:date :x-gm-message-state:from:to:cc:subject:date:message-id:reply-to; bh=a2xACJUiPD+IfBo7FRF0Yplr1icsGpi0HiJ1wfhfejE=; b=RoQPMs1cLgImSUSMeXGKwEykBG3XrgqzBpJCSTa6g66kQY+BUf34qR4kiIKoI4Gwgs DPqyB9sYxdN8qHzj/mQQLk4nYiOeNymLWxW2rq8DTIYeQyRjuHZREMmkpfkMISS3POPX 3ogt23OATGaGTpK/E7K1gjy17zMkymqgIHcR/iQxMj8TqdEu1SysP/+n7puGGoHGe22i tA4vIvwMrc4oe1kIv36f7njGkOqCeTYKZWcZY8CP25eBJ4SPtj1cA61D3b2B2UZloWmI M08Nf1yVvZPlS4auXU9xWGmK7QiQhwgw3p/jFibsbMndL3cNI/N8+DNCumpEPVyBKgS3 HhiA== X-Gm-Message-State: AOJu0YxGJgkSmi0jy0Tg/weEIThntVQVElj/BY0kmZf/m4X8EKSfI2ve OAeFB4xqZtPKD5cJkXFArCEur0VqlwByRF6bDbwbOaviVVefnfpDRFxXuRPhipYrXGKEy4rgB8p JTa2sqsMpaT1/Gg8BrilpOvQgaBiznhy+iDMguCtX X-Gm-Gg: ASbGncubTg3ZZnLiGhpzPX1sFxGt0UsAVLzYjIWXejdItXKMTPKuOnAu4a4rDctWfp9 SZlpH4D+TUzXY+t0HHJ5XdNkVLRG5mURN61buKNlF5vES/3z9+qlzDrPX4w5lOXLCZcYjRJdeFA eJgRrCQgsIE+IGxca3OklNO7ihECjv35TFAehrEUO7SKJiybEEzBxGyE4nTjCwChv9Q0CxTNk/T w+ElpOdBVHBVDZMH9U8YZiivqZU94uCFkN92A3fEtfvUK9Wl8nKcFSLjBfLwKR+mZgnF15phUF8 sVdnvwq733rqhrT7LKlHXnN8YKEKLg== X-Google-Smtp-Source: AGHT+IGBhetJ2dJo3fAD5TIXOAv3ekVWj1G901mIozN8l3t8CZ15ApZzb6aZ2PJ71lOKa4Rwaa+TkvbJs5+c X-Received: by 2002:a05:6102:21c6:b0:4ba:9689:870e with SMTP id ada2fe7eead31-4ba96898acfmr1446459137.21.1738951787236; Fri, 07 Feb 2025 10:09:47 -0800 (PST) Received: from postal.iol.unh.edu (postal.iol.unh.edu. [132.177.123.84]) by smtp-relay.gmail.com with ESMTPS id ada2fe7eead31-4ba7af42d47sm83564137.1.2025.02.07.10.09.47 (version=TLS1_2 cipher=ECDHE-ECDSA-AES128-GCM-SHA256 bits=128/128); Fri, 07 Feb 2025 10:09:47 -0800 (PST) X-Relaying-Domain: iol.unh.edu Date: Fri, 07 Feb 2025 10:09:47 -0800 (PST) Message-ID: <67a64c6b.050a0220.162ccb.38fcSMTPIN_ADDED_MISSING@mx.google.com> Received: from [172.21.0.12] (unknown [172.18.0.240]) by postal.iol.unh.edu (Postfix) with ESMTP id D712F6052471; Fri, 7 Feb 2025 13:09:16 -0500 (EST) Subject: |WARNING| pw149582 [PATCH] net/sxe: add base driver directory and do From: dpdklab@iol.unh.edu To: Test Report Cc: dpdk-test-reports@iol.unh.edu In-Reply-To: <20250103061118.6824-1-liujie5@linkdatatechnology.com> References: <20250103061118.6824-1-liujie5@linkdatatechnology.com> Content-Type: text/plain X-BeenThere: test-report@dpdk.org X-Mailman-Version: 2.1.29 Precedence: list List-Id: automatic DPDK test reports List-Unsubscribe: , List-Archive: List-Post: List-Help: List-Subscribe: , Errors-To: test-report-bounces@dpdk.org Test-Label: iol-compile-amd64-testing Test-Status: WARNING http://dpdk.org/patch/149582 _Testing issues_ Submitter: Jie Liu Date: Friday, January 03 2025 06:11:18 DPDK git baseline: Repo:dpdk Branch: master CommitID:fd51012de5369679e807be1d6a81d63ef15015ce 149582 --> testing issues Test environment and result as below: +---------------------+--------------------+------------------+-------------------+-------------------+-------------------------+----------------------+ | Environment | dpdk_meson_compile | dpdk_compile_ovs | dpdk_compile_spdk | dpdk_msvc_compile | dpdk_llvm_clang_compile | dpdk_mingw64_compile | +=====================+====================+==================+===================+===================+=========================+======================+ | CentOS Stream 9 | PASS | PASS | PASS | SKIPPED | SKIPPED | SKIPPED | +---------------------+--------------------+------------------+-------------------+-------------------+-------------------------+----------------------+ | Debian Bullseye | PASS | PASS | PASS | SKIPPED | SKIPPED | SKIPPED | +---------------------+--------------------+------------------+-------------------+-------------------+-------------------------+----------------------+ | Debian 12 | PASS | PASS | PASS | SKIPPED | SKIPPED | SKIPPED | +---------------------+--------------------+------------------+-------------------+-------------------+-------------------------+----------------------+ | Fedora 40 (Clang) | PASS | PASS | PASS | SKIPPED | SKIPPED | SKIPPED | +---------------------+--------------------+------------------+-------------------+-------------------+-------------------------+----------------------+ | Fedora 41 | PASS | PASS | PASS | SKIPPED | SKIPPED | SKIPPED | +---------------------+--------------------+------------------+-------------------+-------------------+-------------------------+----------------------+ | Fedora 41 (Clang) | PASS | PASS | PASS | SKIPPED | SKIPPED | SKIPPED | +---------------------+--------------------+------------------+-------------------+-------------------+-------------------------+----------------------+ | RHEL8 | PASS | PASS | SKIPPED | SKIPPED | SKIPPED | SKIPPED | +---------------------+--------------------+------------------+-------------------+-------------------+-------------------------+----------------------+ | openSUSE Leap 15 | PASS | WARN | SKIPPED | SKIPPED | SKIPPED | SKIPPED | +---------------------+--------------------+------------------+-------------------+-------------------+-------------------------+----------------------+ | RHEL9 | PASS | PASS | SKIPPED | SKIPPED | SKIPPED | SKIPPED | +---------------------+--------------------+------------------+-------------------+-------------------+-------------------------+----------------------+ | Ubuntu 20.04 | PASS | SKIPPED | SKIPPED | SKIPPED | SKIPPED | SKIPPED | +---------------------+--------------------+------------------+-------------------+-------------------+-------------------------+----------------------+ | Ubuntu 24.04 | PASS | PASS | PASS | SKIPPED | SKIPPED | SKIPPED | +---------------------+--------------------+------------------+-------------------+-------------------+-------------------------+----------------------+ | FreeBSD 14.2 | PASS | SKIPPED | SKIPPED | SKIPPED | SKIPPED | SKIPPED | +---------------------+--------------------+------------------+-------------------+-------------------+-------------------------+----------------------+ | Fedora 40 | PASS | PASS | PASS | SKIPPED | SKIPPED | SKIPPED | +---------------------+--------------------+------------------+-------------------+-------------------+-------------------------+----------------------+ | Windows Server 2022 | SKIPPED | SKIPPED | SKIPPED | PASS | PASS | PASS | +---------------------+--------------------+------------------+-------------------+-------------------+-------------------------+----------------------+ ==== 20 line log output for openSUSE Leap 15 (dpdk_compile_ovs): ==== --- Failed to get log output --- ==== End log output ==== CentOS Stream 9 Kernel: Depends on container host Compiler: gcc 11.5.0 20240719 (Red Hat 11.5.0-2) Debian Bullseye Kernel: Depends on container host Compiler: gcc (Debian 10.2.1-6) 10.2.1 20210110 Debian 12 Kernel: Depends on container host Compiler: gcc (Debian 12.2.0-14) 12.2.0 Fedora 40 (Clang) Kernel: Depends on container host Compiler: clang 18.1.8 (Fedora 18.1.8-1.fc40) Fedora 41 Kernel: Depends on container host Compiler: gcc 14.2.1 20240912 (Red Hat 14.2.1-3) Fedora 41 (Clang) Kernel: Depends on container host Compiler: clang 19.1.5 (Fedora 19.1.5-1.fc41) RHEL8 Kernel: Depends on container host Compiler: gcc 8.5.0 20210514 (Red Hat 8.5.0-22) openSUSE Leap 15 Kernel: Depends on container host Compiler: gcc (SUSE Linux) 7.5.0 RHEL9 Kernel: Depends on container host Compiler: gcc 11.5.0 20240719 (Red Hat 11.5.0-2) Ubuntu 20.04 Kernel: Depends on container host Compiler: gcc (Ubuntu 9.4.0-1ubuntu1~20.04.2) 9.4.0 Ubuntu 24.04 Kernel: Depends on container host Compiler: gcc (Ubuntu 13.3.0-6ubuntu2~24.04) 13.3.0 FreeBSD 14.2 Kernel: 14.2-RELEASE Compiler: clang 18.1.6 Fedora 40 Kernel: Depends on container host Compiler: gcc 14.2.1 20240912 (Red Hat 14.2.1-3) Windows Server 2022 Kernel: 10.0.20348.2031 Compiler: clang 15.0.7, gcc 14.1.0 (MinGW), and MSVC VS 19.39.33521 To view detailed results, visit: https://lab.dpdk.org/results/dashboard/patchsets/32243/ UNH-IOL DPDK Community Lab To manage your email subscriptions, visit: https://lab.dpdk.org/results/dashboard/preferences/subscriptions/