From mboxrd@z Thu Jan 1 00:00:00 1970 Return-Path: Received: from mails.dpdk.org (mails.dpdk.org [217.70.189.124]) by inbox.dpdk.org (Postfix) with ESMTP id 13E33461BE for ; Fri, 7 Feb 2025 19:10:28 +0100 (CET) Received: from mails.dpdk.org (localhost [127.0.0.1]) by mails.dpdk.org (Postfix) with ESMTP id 0FB0A42EDD; Fri, 7 Feb 2025 19:10:28 +0100 (CET) Received: from mail-oa1-f99.google.com (mail-oa1-f99.google.com [209.85.160.99]) by mails.dpdk.org (Postfix) with ESMTP id EEB9242E90 for ; Fri, 7 Feb 2025 19:10:26 +0100 (CET) Received: by mail-oa1-f99.google.com with SMTP id 586e51a60fabf-2b846648996so536167fac.1 for ; Fri, 07 Feb 2025 10:10:26 -0800 (PST) DKIM-Signature: v=1; a=rsa-sha256; c=relaxed/relaxed; d=iol.unh.edu; s=unh-iol; t=1738951826; x=1739556626; darn=dpdk.org; h=references:in-reply-to:cc:to:from:subject:message-id:date:from:to :cc:subject:date:message-id:reply-to; bh=lTGUSIcodhgWnTcd1YV6VQX9MxsxSix564i+2Byl5L4=; b=QMLBOLUPGDExofyOM0wkrvveuhcStDuMVcFJy6IhSMT0+Y28f5nWFjQoEkN1Emff5C bRxODLWDPlyOmMhOoTqxm556QlYkePSI+P0g9gM6+GL0k/1sqXVKUBKaPABePOflIljK F8tfqBgEuKMjGfAa4GYPud4pSrLmvCdJzH5m4= X-Google-DKIM-Signature: v=1; a=rsa-sha256; c=relaxed/relaxed; d=1e100.net; s=20230601; t=1738951826; x=1739556626; h=references:in-reply-to:cc:to:from:subject:message-id:date :x-gm-message-state:from:to:cc:subject:date:message-id:reply-to; bh=lTGUSIcodhgWnTcd1YV6VQX9MxsxSix564i+2Byl5L4=; b=QwJR6fPeYsW14MKm212K3a8SpouTtjrpuuPfl3cgML14b50/D2OvFseoEWtGpU3qff 0O/ZOD+4rLEaJv9VfM+ac+DIi7dIFCZJhb/RGSaBkgQsvCl0Uo1no1OMJFZ06ePeS9Yu 26uDeQPY1JXGiATECQa73ke81vdweOQTsH9EviSLHpL8G92DR4/rojgDr8CCXR5/xCbK Bhc993+aYdqJ9CyQ9kohkKLPHOZVklAQ/g2qblOoQRsqEFJ/oD8jTDnu/4vj+w9YCdOB N7wi4U4RMMonE+dvbzgy8Xb0SyIkwqF4vZKPULfbLDTJURWOPwRVNYfkJrpsVBDMxnUs hASw== X-Gm-Message-State: AOJu0YyBO/4UuNnHfrMP0gXm23hcaOnHLpIO5CTUSBUSJayhsdtCVE0q VESh1ZJedi/t+/5q8uSTw8pQ+K+rN2DkVd0JfyxIBVOkzUMBKSSoZ/Md1HBcap30LnQXAdc0Olr iAxQ6zAm4Oe4BKQ1wOrfhoADAvBk1F+Uom7jTnP63 X-Gm-Gg: ASbGnctilej8obev239AvjhUugb0qt4nOglo3UcgV4mSQJty7i0oDD6W5MoYVuvq9RJ 4oeRA4NwOeHYjG3pLkgr5Vtv21Lv6aDe5htHN1er1l9W4BiaQK3p+ue3Q30aufSrv4V26awo/yl 3Q2zDlH4j/pSKf83nfT7+i17L2uPSArJw4ic2kG5JJ44C2X//xIA/zBcktG/lZNAWxVT9TizZB4 U03s9bmkiVrfB0S2YBnWnM0y41X5iXm0Nq5tiAtqL+P/UV8y80vdr8FaywF7IOK6taWw5m1rN7x 6Qpze3UVHgVQTPbRz2CJmScCJCXZEA== X-Google-Smtp-Source: AGHT+IGZeB2Hj6XZ7WAWRtjbf3KPq88VPZImr/un5xssC1NjXi9Vy7EIbxse4x4L29H+XceagpQTZax5WOgt X-Received: by 2002:a05:6871:71c1:b0:296:9c08:51a3 with SMTP id 586e51a60fabf-2b83ef1cbebmr2505932fac.39.1738951826227; Fri, 07 Feb 2025 10:10:26 -0800 (PST) Received: from postal.iol.unh.edu (postal.iol.unh.edu. [132.177.123.84]) by smtp-relay.gmail.com with ESMTPS id 586e51a60fabf-2b825fb7906sm165776fac.9.2025.02.07.10.10.26 (version=TLS1_2 cipher=ECDHE-ECDSA-AES128-GCM-SHA256 bits=128/128); Fri, 07 Feb 2025 10:10:26 -0800 (PST) X-Relaying-Domain: iol.unh.edu Date: Fri, 07 Feb 2025 10:10:26 -0800 (PST) Message-ID: <67a64c92.050a0220.f6ced.81f5SMTPIN_ADDED_MISSING@mx.google.com> Received: from [172.21.0.11] (unknown [172.18.0.240]) by postal.iol.unh.edu (Postfix) with ESMTP id A66B16052483; Fri, 7 Feb 2025 13:10:25 -0500 (EST) Subject: |WARNING| pw149511 [PATCH] service: add service maintenance callback From: dpdklab@iol.unh.edu To: Test Report Cc: dpdk-test-reports@iol.unh.edu In-Reply-To: <20241230153222.484894-1-piotr.krzewinski@ericsson.com> References: <20241230153222.484894-1-piotr.krzewinski@ericsson.com> Content-Type: text/plain X-BeenThere: test-report@dpdk.org X-Mailman-Version: 2.1.29 Precedence: list List-Id: automatic DPDK test reports List-Unsubscribe: , List-Archive: List-Post: List-Help: List-Subscribe: , Errors-To: test-report-bounces@dpdk.org Test-Label: iol-compile-amd64-testing Test-Status: WARNING http://dpdk.org/patch/149511 _Testing issues_ Submitter: Piotr Krzewinski Date: Monday, December 30 2024 15:32:22 DPDK git baseline: Repo:dpdk Branch: master CommitID:fd51012de5369679e807be1d6a81d63ef15015ce 149511 --> testing issues Test environment and result as below: +---------------------+--------------------+------------------+-------------------+-------------------------+-------------------+----------------------+ | Environment | dpdk_meson_compile | dpdk_compile_ovs | dpdk_compile_spdk | dpdk_llvm_clang_compile | dpdk_msvc_compile | dpdk_mingw64_compile | +=====================+====================+==================+===================+=========================+===================+======================+ | Debian Bullseye | PASS | PASS | PASS | SKIPPED | SKIPPED | SKIPPED | +---------------------+--------------------+------------------+-------------------+-------------------------+-------------------+----------------------+ | CentOS Stream 9 | PASS | PASS | PASS | SKIPPED | SKIPPED | SKIPPED | +---------------------+--------------------+------------------+-------------------+-------------------------+-------------------+----------------------+ | Fedora 40 | PASS | PASS | PASS | SKIPPED | SKIPPED | SKIPPED | +---------------------+--------------------+------------------+-------------------+-------------------------+-------------------+----------------------+ | Debian 12 | PASS | PASS | PASS | SKIPPED | SKIPPED | SKIPPED | +---------------------+--------------------+------------------+-------------------+-------------------------+-------------------+----------------------+ | Fedora 40 (Clang) | PASS | PASS | PASS | SKIPPED | SKIPPED | SKIPPED | +---------------------+--------------------+------------------+-------------------+-------------------------+-------------------+----------------------+ | RHEL8 | PASS | PASS | SKIPPED | SKIPPED | SKIPPED | SKIPPED | +---------------------+--------------------+------------------+-------------------+-------------------------+-------------------+----------------------+ | openSUSE Leap 15 | PASS | WARN | SKIPPED | SKIPPED | SKIPPED | SKIPPED | +---------------------+--------------------+------------------+-------------------+-------------------------+-------------------+----------------------+ | Fedora 41 (Clang) | PASS | PASS | PASS | SKIPPED | SKIPPED | SKIPPED | +---------------------+--------------------+------------------+-------------------+-------------------------+-------------------+----------------------+ | Fedora 41 | PASS | PASS | PASS | SKIPPED | SKIPPED | SKIPPED | +---------------------+--------------------+------------------+-------------------+-------------------------+-------------------+----------------------+ | RHEL9 | PASS | PASS | SKIPPED | SKIPPED | SKIPPED | SKIPPED | +---------------------+--------------------+------------------+-------------------+-------------------------+-------------------+----------------------+ | Ubuntu 20.04 | PASS | SKIPPED | SKIPPED | SKIPPED | SKIPPED | SKIPPED | +---------------------+--------------------+------------------+-------------------+-------------------------+-------------------+----------------------+ | Alpine | PASS | PASS | SKIPPED | SKIPPED | SKIPPED | SKIPPED | +---------------------+--------------------+------------------+-------------------+-------------------------+-------------------+----------------------+ | Ubuntu 22.04 | PASS | PASS | PASS | SKIPPED | SKIPPED | SKIPPED | +---------------------+--------------------+------------------+-------------------+-------------------------+-------------------+----------------------+ | Ubuntu 24.04 | PASS | PASS | PASS | SKIPPED | SKIPPED | SKIPPED | +---------------------+--------------------+------------------+-------------------+-------------------------+-------------------+----------------------+ | FreeBSD 13.4 | PASS | SKIPPED | SKIPPED | SKIPPED | SKIPPED | SKIPPED | +---------------------+--------------------+------------------+-------------------+-------------------------+-------------------+----------------------+ | FreeBSD 14.2 | PASS | SKIPPED | SKIPPED | SKIPPED | SKIPPED | SKIPPED | +---------------------+--------------------+------------------+-------------------+-------------------------+-------------------+----------------------+ | Windows Server 2022 | SKIPPED | SKIPPED | SKIPPED | PASS | PASS | PASS | +---------------------+--------------------+------------------+-------------------+-------------------------+-------------------+----------------------+ ==== 20 line log output for openSUSE Leap 15 (dpdk_compile_ovs): ==== --- Failed to get log output --- ==== End log output ==== Debian Bullseye Kernel: Depends on container host Compiler: gcc (Debian 10.2.1-6) 10.2.1 20210110 CentOS Stream 9 Kernel: Depends on container host Compiler: gcc 11.5.0 20240719 (Red Hat 11.5.0-2) Fedora 40 Kernel: Depends on container host Compiler: gcc 14.2.1 20240912 (Red Hat 14.2.1-3) Debian 12 Kernel: Depends on container host Compiler: gcc (Debian 12.2.0-14) 12.2.0 Fedora 40 (Clang) Kernel: Depends on container host Compiler: clang 18.1.8 (Fedora 18.1.8-1.fc40) RHEL8 Kernel: Depends on container host Compiler: gcc 8.5.0 20210514 (Red Hat 8.5.0-22) openSUSE Leap 15 Kernel: Depends on container host Compiler: gcc (SUSE Linux) 7.5.0 Fedora 41 (Clang) Kernel: Depends on container host Compiler: clang 19.1.5 (Fedora 19.1.5-1.fc41) Fedora 41 Kernel: Depends on container host Compiler: gcc 14.2.1 20240912 (Red Hat 14.2.1-3) RHEL9 Kernel: Depends on container host Compiler: gcc 11.5.0 20240719 (Red Hat 11.5.0-2) Ubuntu 20.04 Kernel: Depends on container host Compiler: gcc (Ubuntu 9.4.0-1ubuntu1~20.04.2) 9.4.0 Alpine Kernel: Depends on container host Compiler: gcc (Alpine 14.2.0) 14.2.0 Ubuntu 22.04 Kernel: Depends on container host Compiler: gcc (Ubuntu 11.4.0-1ubuntu1~22.04) 11.4.0 Ubuntu 24.04 Kernel: Depends on container host Compiler: gcc (Ubuntu 13.3.0-6ubuntu2~24.04) 13.3.0 FreeBSD 13.4 Kernel: 13.4-RELEASE-p1 Compiler: clang 18.1.6 FreeBSD 14.2 Kernel: 14.2-RELEASE Compiler: clang 18.1.6 Windows Server 2022 Kernel: 10.0.20348.2031 Compiler: clang 15.0.7, gcc 14.1.0 (MinGW), and MSVC VS 19.39.33521 To view detailed results, visit: https://lab.dpdk.org/results/dashboard/patchsets/32225/ UNH-IOL DPDK Community Lab To manage your email subscriptions, visit: https://lab.dpdk.org/results/dashboard/preferences/subscriptions/