From mboxrd@z Thu Jan 1 00:00:00 1970 Return-Path: Received: from mails.dpdk.org (mails.dpdk.org [217.70.189.124]) by inbox.dpdk.org (Postfix) with ESMTP id 42ED4461BE for ; Fri, 7 Feb 2025 19:10:31 +0100 (CET) Received: from mails.dpdk.org (localhost [127.0.0.1]) by mails.dpdk.org (Postfix) with ESMTP id 3BD9E42EE7; Fri, 7 Feb 2025 19:10:31 +0100 (CET) Received: from mail-il1-f228.google.com (mail-il1-f228.google.com [209.85.166.228]) by mails.dpdk.org (Postfix) with ESMTP id 5C47042E90 for ; Fri, 7 Feb 2025 19:10:28 +0100 (CET) Received: by mail-il1-f228.google.com with SMTP id e9e14a558f8ab-3d04d767d3aso18054775ab.2 for ; Fri, 07 Feb 2025 10:10:28 -0800 (PST) DKIM-Signature: v=1; a=rsa-sha256; c=relaxed/relaxed; d=iol.unh.edu; s=unh-iol; t=1738951827; x=1739556627; darn=dpdk.org; h=cc:to:from:subject:message-id:date:from:to:cc:subject:date :message-id:reply-to; bh=jixVq0HnYbzFw9M+7PgSexsjBbWtqAGURiOEDis6ZLA=; b=RpUZ/ysYS1QmbZeWfeIofbKmvx1d3F2AbR+h/jYOgkWY5dY87n0Rq0iYwgBirEdraW qTgU6vtFT5JmviZNSZdiFtLIV9SHT8fKAKlIIqj28wB4Qaa3EWD4EHDgNK8XR3AadM9/ UcWdNVESzgnbEOSKrc+tLw+i62P3OW4US5AE8= X-Google-DKIM-Signature: v=1; a=rsa-sha256; c=relaxed/relaxed; d=1e100.net; s=20230601; t=1738951827; x=1739556627; h=cc:to:from:subject:message-id:date:x-gm-message-state:from:to:cc :subject:date:message-id:reply-to; bh=jixVq0HnYbzFw9M+7PgSexsjBbWtqAGURiOEDis6ZLA=; b=Q6Sh1htBgz72qHfzU7vkwJfyNqygfaCA2q6Iqfah20ekYWRMWIJyUjJf0ODa6MtzDI rX+d++yUNeTAuW6O4aRa5McaueDyPqm+KHWagZf2Lz4dd2Bp/VENw5/pX9VVEEenVzsQ Olanl7cCiGo92noaBX+gvfigCoc1+nG+W0vWr8+zMnguT7HAgSD0zHi7UcqVpqcy3h5T pONiRtWAVHaeEpPGNrTyhhCT0RRZIYjYPxPyhN+z+m94XbIHcoTJgmIrFurAr1HOiF0v 7oMELTZGgLA1KpWcCxFOugvBwOUAvn/9D86uKLkB3YiIMevebb5cH/0hvSQLygtuumEX OkRA== X-Gm-Message-State: AOJu0YwLvbV6EoQ7aRNAJ10BuMcjBodFfLWSuOffEQXCFD6vGMIuiuIy +4QkxrCgbzFq4tRKU1fu53CtLZSX3NmekqvBW80UtoShIzE82shnrM6UuyKaw+/CZPONUMdF0Sd 1wYzT/E+vkdrsmiq2zxafLKLxZQdGfx8K X-Gm-Gg: ASbGncueO5PM24wx5VqSJ9Emjjc5uF7oXwmxEddSeavnkyf+3NLhlZj6pFJQ4359hm+ xPsvDNDxMh6Z9aMfNzwP0DKuKOOgibG2z+7UyZM8pQfl8wr7Aq5Z2QchLaXwg00RphNwF/6rz2V ohYGlc5LtddszUkYXmIJREzjZyGBK6NVPwBNGUJyY38oJSz42O+NQXqBqP8y5L7ahccl/YvJyvg 8IhR3GzRbbD5hyk3rKIOYXHhHcMEXlsioFB48YzXGrzX4rJkifO4znyRnmzcRy16rma/NIAOiPA RgC4t1DE6TplZav+aEjdT6Dr1D2xDg== X-Google-Smtp-Source: AGHT+IG4hunfh3y8hk0jNOLegCjkRo3TPGjxto+5z/KnIzzNFrUWl9KbTv7HpxtoxuZiLIj3HNLrVOMVQmd4 X-Received: by 2002:a05:6e02:1a41:b0:3d0:147a:b5da with SMTP id e9e14a558f8ab-3d13de77c41mr34343915ab.5.1738951827760; Fri, 07 Feb 2025 10:10:27 -0800 (PST) Received: from postal.iol.unh.edu (postal.iol.unh.edu. [132.177.123.84]) by smtp-relay.gmail.com with ESMTPS id e9e14a558f8ab-3d14aa0bf33sm258775ab.35.2025.02.07.10.10.27 (version=TLS1_2 cipher=ECDHE-ECDSA-AES128-GCM-SHA256 bits=128/128); Fri, 07 Feb 2025 10:10:27 -0800 (PST) X-Relaying-Domain: iol.unh.edu Date: Fri, 07 Feb 2025 10:10:27 -0800 (PST) Message-ID: <67a64c93.050a0220.2513cc.124fSMTPIN_ADDED_MISSING@mx.google.com> Received: from [172.21.0.13] (unknown [172.18.0.240]) by postal.iol.unh.edu (Postfix) with ESMTP id 3FBFA6052483; Fri, 7 Feb 2025 13:10:27 -0500 (EST) Subject: |WARNING| [GIT MASTER] c66daa12e76d7b4912cfb7109a761856a7a873ab From: dpdklab@iol.unh.edu To: Test Report Cc: dpdk-test-reports@iol.unh.edu, Xueming Li , Christian Ehrhardt , Kevin Traynor , Luca Boccassi Content-Type: text/plain X-BeenThere: test-report@dpdk.org X-Mailman-Version: 2.1.29 Precedence: list List-Id: automatic DPDK test reports List-Unsubscribe: , List-Archive: List-Post: List-Help: List-Subscribe: , Errors-To: test-report-bounces@dpdk.org _Testing issues_ Branch: tags/v23.11 c66daa12e76d7b4912cfb7109a761856a7a873ab --> testing issues Test environment and result as below: +---------------------+--------------------+------------------+-------------------+-------------------+-------------------------+----------------------+ | Environment | dpdk_meson_compile | dpdk_compile_ovs | dpdk_compile_spdk | dpdk_msvc_compile | dpdk_llvm_clang_compile | dpdk_mingw64_compile | +=====================+====================+==================+===================+===================+=========================+======================+ | CentOS Stream 9 | PASS | PASS | PASS | SKIPPED | SKIPPED | SKIPPED | +---------------------+--------------------+------------------+-------------------+-------------------+-------------------------+----------------------+ | Debian Bullseye | PASS | PASS | PASS | SKIPPED | SKIPPED | SKIPPED | +---------------------+--------------------+------------------+-------------------+-------------------+-------------------------+----------------------+ | Fedora 40 (Clang) | PASS | PASS | PASS | SKIPPED | SKIPPED | SKIPPED | +---------------------+--------------------+------------------+-------------------+-------------------+-------------------------+----------------------+ | Debian 12 | PASS | PASS | PASS | SKIPPED | SKIPPED | SKIPPED | +---------------------+--------------------+------------------+-------------------+-------------------+-------------------------+----------------------+ | Fedora 40 | PASS | PASS | PASS | SKIPPED | SKIPPED | SKIPPED | +---------------------+--------------------+------------------+-------------------+-------------------+-------------------------+----------------------+ | Fedora 41 (Clang) | PASS | PASS | PASS | SKIPPED | SKIPPED | SKIPPED | +---------------------+--------------------+------------------+-------------------+-------------------+-------------------------+----------------------+ | Fedora 41 | PASS | PASS | PASS | SKIPPED | SKIPPED | SKIPPED | +---------------------+--------------------+------------------+-------------------+-------------------+-------------------------+----------------------+ | RHEL8 | PASS | PASS | SKIPPED | SKIPPED | SKIPPED | SKIPPED | +---------------------+--------------------+------------------+-------------------+-------------------+-------------------------+----------------------+ | RHEL9 | PASS | PASS | SKIPPED | SKIPPED | SKIPPED | SKIPPED | +---------------------+--------------------+------------------+-------------------+-------------------+-------------------------+----------------------+ | Ubuntu 20.04 | PASS | SKIPPED | SKIPPED | SKIPPED | SKIPPED | SKIPPED | +---------------------+--------------------+------------------+-------------------+-------------------+-------------------------+----------------------+ | Ubuntu 22.04 | PASS | PASS | PASS | SKIPPED | SKIPPED | SKIPPED | +---------------------+--------------------+------------------+-------------------+-------------------+-------------------------+----------------------+ | Ubuntu 24.04 | PASS | PASS | PASS | SKIPPED | SKIPPED | SKIPPED | +---------------------+--------------------+------------------+-------------------+-------------------+-------------------------+----------------------+ | Alpine | PASS | PASS | SKIPPED | SKIPPED | SKIPPED | SKIPPED | +---------------------+--------------------+------------------+-------------------+-------------------+-------------------------+----------------------+ | FreeBSD 14.2 | PASS | SKIPPED | SKIPPED | SKIPPED | SKIPPED | SKIPPED | +---------------------+--------------------+------------------+-------------------+-------------------+-------------------------+----------------------+ | openSUSE Leap 15 | PASS | WARN | SKIPPED | SKIPPED | SKIPPED | SKIPPED | +---------------------+--------------------+------------------+-------------------+-------------------+-------------------------+----------------------+ | FreeBSD 13.4 | PASS | SKIPPED | SKIPPED | SKIPPED | SKIPPED | SKIPPED | +---------------------+--------------------+------------------+-------------------+-------------------+-------------------------+----------------------+ | Windows Server 2022 | SKIPPED | SKIPPED | SKIPPED | PASS | PASS | PASS | +---------------------+--------------------+------------------+-------------------+-------------------+-------------------------+----------------------+ ==== 20 line log output for openSUSE Leap 15 (dpdk_compile_ovs): ==== --- Failed to get log output --- ==== End log output ==== CentOS Stream 9 Kernel: Depends on container host Compiler: gcc 11.5.0 20240719 (Red Hat 11.5.0-2) Debian Bullseye Kernel: Depends on container host Compiler: gcc (Debian 10.2.1-6) 10.2.1 20210110 Fedora 40 (Clang) Kernel: Depends on container host Compiler: clang 18.1.8 (Fedora 18.1.8-1.fc40) Debian 12 Kernel: Depends on container host Compiler: gcc (Debian 12.2.0-14) 12.2.0 Fedora 40 Kernel: Depends on container host Compiler: gcc 14.2.1 20240912 (Red Hat 14.2.1-3) Fedora 41 (Clang) Kernel: Depends on container host Compiler: clang 19.1.5 (Fedora 19.1.5-1.fc41) Fedora 41 Kernel: Depends on container host Compiler: gcc 14.2.1 20240912 (Red Hat 14.2.1-3) RHEL8 Kernel: Depends on container host Compiler: gcc 8.5.0 20210514 (Red Hat 8.5.0-22) RHEL9 Kernel: Depends on container host Compiler: gcc 11.5.0 20240719 (Red Hat 11.5.0-2) Ubuntu 20.04 Kernel: Depends on container host Compiler: gcc (Ubuntu 9.4.0-1ubuntu1~20.04.2) 9.4.0 Ubuntu 22.04 Kernel: Depends on container host Compiler: gcc (Ubuntu 11.4.0-1ubuntu1~22.04) 11.4.0 Ubuntu 24.04 Kernel: Depends on container host Compiler: gcc (Ubuntu 13.3.0-6ubuntu2~24.04) 13.3.0 Alpine Kernel: Depends on container host Compiler: gcc (Alpine 14.2.0) 14.2.0 FreeBSD 14.2 Kernel: 14.2-RELEASE Compiler: clang 18.1.6 openSUSE Leap 15 Kernel: Depends on container host Compiler: gcc (SUSE Linux) 7.5.0 FreeBSD 13.4 Kernel: 13.4-RELEASE-p1 Compiler: clang 18.1.6 Windows Server 2022 Kernel: 10.0.20348.2031 Compiler: clang 15.0.7, gcc 14.1.0 (MinGW), and MSVC VS 19.39.33521 To view detailed results, visit: https://lab.dpdk.org/results/dashboard/tarballs/32076/ UNH-IOL DPDK Community Lab To manage your email subscriptions, visit: https://lab.dpdk.org/results/dashboard/preferences/subscriptions/