From mboxrd@z Thu Jan 1 00:00:00 1970 Return-Path: Received: from mails.dpdk.org (mails.dpdk.org [217.70.189.124]) by inbox.dpdk.org (Postfix) with ESMTP id 67B32461BE for ; Fri, 7 Feb 2025 19:10:42 +0100 (CET) Received: from mails.dpdk.org (localhost [127.0.0.1]) by mails.dpdk.org (Postfix) with ESMTP id 61B3342ED5; Fri, 7 Feb 2025 19:10:42 +0100 (CET) Received: from mail-oa1-f98.google.com (mail-oa1-f98.google.com [209.85.160.98]) by mails.dpdk.org (Postfix) with ESMTP id 1CBBF42E90 for ; Fri, 7 Feb 2025 19:10:41 +0100 (CET) Received: by mail-oa1-f98.google.com with SMTP id 586e51a60fabf-2b7f9158b97so700440fac.2 for ; Fri, 07 Feb 2025 10:10:41 -0800 (PST) DKIM-Signature: v=1; a=rsa-sha256; c=relaxed/relaxed; d=iol.unh.edu; s=unh-iol; t=1738951840; x=1739556640; darn=dpdk.org; h=references:in-reply-to:cc:to:from:subject:message-id:date:from:to :cc:subject:date:message-id:reply-to; bh=LcsWJXOKxtTutV2O9F+Zc687vh8opbrRDltEVytlen8=; b=cL2vh/RqIb0i5hNfh64c2aSO0T14TVAgfx21+MRlgw71xM0BMx1OVbSvWkpLQL7MzM m+TWWrdKs/5crVQOIJLWongXKeHFEenOHR3KnhrRYd1uEIjjYwUSmQxvc5gZlSJul3vx 1m0owQJS9jnCHvTmNXdRhE533UUBzL4dXIAO0= X-Google-DKIM-Signature: v=1; a=rsa-sha256; c=relaxed/relaxed; d=1e100.net; s=20230601; t=1738951840; x=1739556640; h=references:in-reply-to:cc:to:from:subject:message-id:date :x-gm-message-state:from:to:cc:subject:date:message-id:reply-to; bh=LcsWJXOKxtTutV2O9F+Zc687vh8opbrRDltEVytlen8=; b=NE2hji7yBp50eXsosfyd3jbWMTl78eVtp6dT8Yqfg8MKR7x00ppZc6vXkTIGo1sSCD 2Y541dhupmNW8FlMxZKzrRRB7xuFlak4zMJ8nmsQqniDY8rRgcVvpgqgC5Xl9215sFrh 7q9er5mT8qyhU6nVT/pdxFdkycih+kBjHxu+XPL0Ae+D5EqLFob6jbhBPCtegMNMx/qv KA+ukQUeLq2pXdFYvqtzpITwHaxK3Zf8DJwjbJ6AwDjyt/JgXS7n+wmcEB2dxQcNzdtI EB8t5BQ2B2+FdSmpOFw+ilJShbeWR3PCdgBXRSQmeb1VK9AeqzGlnrarpINy0oAbwdDz 1PjA== X-Gm-Message-State: AOJu0Yz+5FiK/bNC7oUckkY4v0mRj9d7KWCopHLHrDkFcdvReCbeGJ3m jLhdWz0JCY6T6UdU4nr2MswXTXA8btx6SyUzH+cE68qiDly8ew6S1XKkYQq/gG795VDAiS33c2f DliimnBFIsE4BndOVPN+sO8aJ5dP+xbW0fIDO45x8 X-Gm-Gg: ASbGncuc6rnZkeFszhUGPpc8qVZer3YG4VsmvNvgq4k7h4L7k1dmKBHvKJsPkTVOxrD b9uZ9tgkz2Esr4agIamryfRz0fYLZB3tFs8TRo0gPDjWpUAR8nc+p5sn5leO9QtxYWk+qCsGqQ/ uyw66RqH+6k37+hynYnidE8GB9Ak1+ISwVsCoMl+uO3JtGBvhV+WhiaNwLVmEszT1eHVs9HuP2D PZ58evDnj17SjSJps/VhzidRBUwcgWINWur0wxEGffp8QGqrcabMv3V4l5tJfWuS81Lr3Dlft9c cAXYsTBvoaCFgjzxUync572+k8n4DA== X-Google-Smtp-Source: AGHT+IFCMosyP2x2efPquSpvi2GP7/rIGM/N9bv25g/nLSx0rUKEMyJdexEINanc4QTaGLe8jNbIoDp39ygK X-Received: by 2002:a05:6871:3a0d:b0:29e:503a:7ea3 with SMTP id 586e51a60fabf-2b83ef36650mr2834263fac.36.1738951840492; Fri, 07 Feb 2025 10:10:40 -0800 (PST) Received: from postal.iol.unh.edu (postal.iol.unh.edu. [132.177.123.84]) by smtp-relay.gmail.com with ESMTPS id 586e51a60fabf-2b82601f99fsm196264fac.23.2025.02.07.10.10.40 (version=TLS1_2 cipher=ECDHE-ECDSA-AES128-GCM-SHA256 bits=128/128); Fri, 07 Feb 2025 10:10:40 -0800 (PST) X-Relaying-Domain: iol.unh.edu Date: Fri, 07 Feb 2025 10:10:40 -0800 (PST) Message-ID: <67a64ca0.050a0220.a6f9f.9bccSMTPIN_ADDED_MISSING@mx.google.com> Received: from [172.21.0.14] (unknown [172.18.0.240]) by postal.iol.unh.edu (Postfix) with ESMTP id D6FA46052477; Fri, 7 Feb 2025 13:10:21 -0500 (EST) Subject: |WARNING| pw149509-149508 [PATCH] [3/3] net/hns3: rename RAS module From: dpdklab@iol.unh.edu To: Test Report Cc: dpdk-test-reports@iol.unh.edu In-Reply-To: <20241230065405.18552-4-haijie1@huawei.com> References: <20241230065405.18552-4-haijie1@huawei.com> Content-Type: text/plain X-BeenThere: test-report@dpdk.org X-Mailman-Version: 2.1.29 Precedence: list List-Id: automatic DPDK test reports List-Unsubscribe: , List-Archive: List-Post: List-Help: List-Subscribe: , Errors-To: test-report-bounces@dpdk.org Test-Label: iol-compile-amd64-testing Test-Status: WARNING http://dpdk.org/patch/149508 _Testing issues_ Submitter: Jie Hai Date: Monday, December 30 2024 06:54:05 DPDK git baseline: Repo:dpdk Branch: master CommitID:94ad302b4ebba4a5b6706a1c43ea0505e5098169 149509-149508 --> testing issues Test environment and result as below: +---------------------+--------------------+------------------+-------------------+-------------------------+-------------------+----------------------+ | Environment | dpdk_meson_compile | dpdk_compile_ovs | dpdk_compile_spdk | dpdk_llvm_clang_compile | dpdk_msvc_compile | dpdk_mingw64_compile | +=====================+====================+==================+===================+=========================+===================+======================+ | CentOS Stream 9 | PASS | PASS | PASS | SKIPPED | SKIPPED | SKIPPED | +---------------------+--------------------+------------------+-------------------+-------------------------+-------------------+----------------------+ | Debian Bullseye | PASS | PASS | PASS | SKIPPED | SKIPPED | SKIPPED | +---------------------+--------------------+------------------+-------------------+-------------------------+-------------------+----------------------+ | Debian 12 | PASS | PASS | PASS | SKIPPED | SKIPPED | SKIPPED | +---------------------+--------------------+------------------+-------------------+-------------------------+-------------------+----------------------+ | Fedora 40 | PASS | PASS | PASS | SKIPPED | SKIPPED | SKIPPED | +---------------------+--------------------+------------------+-------------------+-------------------------+-------------------+----------------------+ | Fedora 40 (Clang) | PASS | PASS | PASS | SKIPPED | SKIPPED | SKIPPED | +---------------------+--------------------+------------------+-------------------+-------------------------+-------------------+----------------------+ | Fedora 41 | PASS | PASS | PASS | SKIPPED | SKIPPED | SKIPPED | +---------------------+--------------------+------------------+-------------------+-------------------------+-------------------+----------------------+ | Fedora 41 (Clang) | PASS | PASS | PASS | SKIPPED | SKIPPED | SKIPPED | +---------------------+--------------------+------------------+-------------------+-------------------------+-------------------+----------------------+ | openSUSE Leap 15 | PASS | WARN | SKIPPED | SKIPPED | SKIPPED | SKIPPED | +---------------------+--------------------+------------------+-------------------+-------------------------+-------------------+----------------------+ | Ubuntu 20.04 | PASS | SKIPPED | SKIPPED | SKIPPED | SKIPPED | SKIPPED | +---------------------+--------------------+------------------+-------------------+-------------------------+-------------------+----------------------+ | Ubuntu 24.04 | PASS | PASS | PASS | SKIPPED | SKIPPED | SKIPPED | +---------------------+--------------------+------------------+-------------------+-------------------------+-------------------+----------------------+ | RHEL8 | PASS | PASS | SKIPPED | SKIPPED | SKIPPED | SKIPPED | +---------------------+--------------------+------------------+-------------------+-------------------------+-------------------+----------------------+ | Alpine | PASS | PASS | SKIPPED | SKIPPED | SKIPPED | SKIPPED | +---------------------+--------------------+------------------+-------------------+-------------------------+-------------------+----------------------+ | FreeBSD 13.4 | PASS | SKIPPED | SKIPPED | SKIPPED | SKIPPED | SKIPPED | +---------------------+--------------------+------------------+-------------------+-------------------------+-------------------+----------------------+ | FreeBSD 14.2 | PASS | SKIPPED | SKIPPED | SKIPPED | SKIPPED | SKIPPED | +---------------------+--------------------+------------------+-------------------+-------------------------+-------------------+----------------------+ | RHEL9 | PASS | PASS | SKIPPED | SKIPPED | SKIPPED | SKIPPED | +---------------------+--------------------+------------------+-------------------+-------------------------+-------------------+----------------------+ | Ubuntu 22.04 | PASS | PASS | PASS | SKIPPED | SKIPPED | SKIPPED | +---------------------+--------------------+------------------+-------------------+-------------------------+-------------------+----------------------+ | Windows Server 2022 | SKIPPED | SKIPPED | SKIPPED | PASS | PASS | PASS | +---------------------+--------------------+------------------+-------------------+-------------------------+-------------------+----------------------+ ==== 20 line log output for openSUSE Leap 15 (dpdk_compile_ovs): ==== --- Failed to get log output --- ==== End log output ==== CentOS Stream 9 Kernel: Depends on container host Compiler: gcc 11.5.0 20240719 (Red Hat 11.5.0-2) Debian Bullseye Kernel: Depends on container host Compiler: gcc (Debian 10.2.1-6) 10.2.1 20210110 Debian 12 Kernel: Depends on container host Compiler: gcc (Debian 12.2.0-14) 12.2.0 Fedora 40 Kernel: Depends on container host Compiler: gcc 14.2.1 20240912 (Red Hat 14.2.1-3) Fedora 40 (Clang) Kernel: Depends on container host Compiler: clang 18.1.8 (Fedora 18.1.8-1.fc40) Fedora 41 Kernel: Depends on container host Compiler: gcc 14.2.1 20240912 (Red Hat 14.2.1-3) Fedora 41 (Clang) Kernel: Depends on container host Compiler: clang 19.1.5 (Fedora 19.1.5-1.fc41) openSUSE Leap 15 Kernel: Depends on container host Compiler: gcc (SUSE Linux) 7.5.0 Ubuntu 20.04 Kernel: Depends on container host Compiler: gcc (Ubuntu 9.4.0-1ubuntu1~20.04.2) 9.4.0 Ubuntu 24.04 Kernel: Depends on container host Compiler: gcc (Ubuntu 13.3.0-6ubuntu2~24.04) 13.3.0 RHEL8 Kernel: Depends on container host Compiler: gcc 8.5.0 20210514 (Red Hat 8.5.0-22) Alpine Kernel: Depends on container host Compiler: gcc (Alpine 14.2.0) 14.2.0 FreeBSD 13.4 Kernel: 13.4-RELEASE-p1 Compiler: clang 18.1.6 FreeBSD 14.2 Kernel: 14.2-RELEASE Compiler: clang 18.1.6 RHEL9 Kernel: Depends on container host Compiler: gcc 11.5.0 20240719 (Red Hat 11.5.0-2) Ubuntu 22.04 Kernel: Depends on container host Compiler: gcc (Ubuntu 11.4.0-1ubuntu1~22.04) 11.4.0 Windows Server 2022 Kernel: 10.0.20348.2031 Compiler: clang 15.0.7, gcc 14.1.0 (MinGW), and MSVC VS 19.39.33521 To view detailed results, visit: https://lab.dpdk.org/results/dashboard/patchsets/32224/ UNH-IOL DPDK Community Lab To manage your email subscriptions, visit: https://lab.dpdk.org/results/dashboard/preferences/subscriptions/