From: dpdklab@iol.unh.edu
To: Test Report <test-report@dpdk.org>
Cc: dpdk-test-reports@iol.unh.edu
Subject: |SUCCESS| pw151090-151091 [PATCH] [v9,2/2] net/af_xdp: Refactor af_x
Date: Fri, 07 Feb 2025 10:10:50 -0800 (PST) [thread overview]
Message-ID: <67a64caa.250a0220.1b5a2f.b26aSMTPIN_ADDED_MISSING@mx.google.com> (raw)
In-Reply-To: <20250207104552.1663519-3-ariel.otilibili@6wind.com>
Test-Label: iol-compile-amd64-testing
Test-Status: SUCCESS
http://dpdk.org/patch/151091
_Testing PASS_
Submitter: Ariel Otilibili <ariel.otilibili@6wind.com>
Date: Friday, February 07 2025 10:45:52
DPDK git baseline: Repo:dpdk
Branch: master
CommitID:e5ece9ae686535f29ae72c03fec26dc16ff7a925
151090-151091 --> testing pass
Upstream job id: Windows-Compile-DPDK-Native#26523
Test environment and result as below:
+---------------------+-------------------------+--------------------+-------------------+----------------------+
| Environment | dpdk_llvm_clang_compile | dpdk_meson_compile | dpdk_msvc_compile | dpdk_mingw64_compile |
+=====================+=========================+====================+===================+======================+
| Windows Server 2022 | PASS | SKIPPED | PASS | PASS |
+---------------------+-------------------------+--------------------+-------------------+----------------------+
| FreeBSD 13.4 | SKIPPED | PASS | SKIPPED | SKIPPED |
+---------------------+-------------------------+--------------------+-------------------+----------------------+
| FreeBSD 14.2 | SKIPPED | PASS | SKIPPED | SKIPPED |
+---------------------+-------------------------+--------------------+-------------------+----------------------+
Windows Server 2022
Kernel: 10.0.20348.2031
Compiler: clang 15.0.7, gcc 14.1.0 (MinGW), and MSVC VS 19.39.33521
FreeBSD 13.4
Kernel: 13.4-RELEASE-p1
Compiler: clang 18.1.6
FreeBSD 14.2
Kernel: 14.2-RELEASE
Compiler: clang 18.1.6
To view detailed results, visit:
https://lab.dpdk.org/results/dashboard/patchsets/32522/
UNH-IOL DPDK Community Lab
To manage your email subscriptions, visit:
https://lab.dpdk.org/results/dashboard/preferences/subscriptions/
next prev parent reply other threads:[~2025-02-07 18:10 UTC|newest]
Thread overview: 15+ messages / expand[flat|nested] mbox.gz Atom feed top
[not found] <20250207104552.1663519-3-ariel.otilibili@6wind.com>
2025-02-07 10:13 ` |SUCCESS| pw151090-151091 [PATCH v9 2/2] net/af_xdp: Refactor af_xdp_tx_zc qemudev
2025-02-07 10:18 ` qemudev
2025-02-07 10:46 ` |WARNING| pw151091 " checkpatch
2025-02-07 11:44 ` |SUCCESS| " 0-day Robot
2025-02-07 16:06 ` |SUCCESS| pw151090-151091 [PATCH] [v9,2/2] net/af_xdp: Refactor af_x dpdklab
2025-02-07 16:11 ` dpdklab
2025-02-07 16:19 ` dpdklab
2025-02-07 16:22 ` dpdklab
2025-02-07 16:32 ` dpdklab
2025-02-07 17:26 ` |PENDING| " dpdklab
2025-02-07 17:29 ` |SUCCESS| " dpdklab
2025-02-07 17:31 ` dpdklab
2025-02-07 17:33 ` |PENDING| " dpdklab
2025-02-07 18:10 ` dpdklab [this message]
2025-02-07 18:51 ` dpdklab
Reply instructions:
You may reply publicly to this message via plain-text email
using any one of the following methods:
* Save the following mbox file, import it into your mail client,
and reply-to-all from there: mbox
Avoid top-posting and favor interleaved quoting:
https://en.wikipedia.org/wiki/Posting_style#Interleaved_style
* Reply using the --to, --cc, and --in-reply-to
switches of git-send-email(1):
git send-email \
--in-reply-to=67a64caa.250a0220.1b5a2f.b26aSMTPIN_ADDED_MISSING@mx.google.com \
--to=dpdklab@iol.unh.edu \
--cc=dpdk-test-reports@iol.unh.edu \
--cc=test-report@dpdk.org \
/path/to/YOUR_REPLY
https://kernel.org/pub/software/scm/git/docs/git-send-email.html
* If your mail client supports setting the In-Reply-To header
via mailto: links, try the mailto: link
Be sure your reply has a Subject: header at the top and a blank line
before the message body.
This is a public inbox, see mirroring instructions
for how to clone and mirror all data and code used for this inbox;
as well as URLs for NNTP newsgroup(s).