From mboxrd@z Thu Jan 1 00:00:00 1970 Return-Path: Received: from mails.dpdk.org (mails.dpdk.org [217.70.189.124]) by inbox.dpdk.org (Postfix) with ESMTP id 90216461BE for ; Fri, 7 Feb 2025 19:10:53 +0100 (CET) Received: from mails.dpdk.org (localhost [127.0.0.1]) by mails.dpdk.org (Postfix) with ESMTP id 8BEBB42ED5; Fri, 7 Feb 2025 19:10:53 +0100 (CET) Received: from mail-yb1-f226.google.com (mail-yb1-f226.google.com [209.85.219.226]) by mails.dpdk.org (Postfix) with ESMTP id 2735342E90 for ; Fri, 7 Feb 2025 19:10:52 +0100 (CET) Received: by mail-yb1-f226.google.com with SMTP id 3f1490d57ef6-e5b271efc64so2045536276.0 for ; Fri, 07 Feb 2025 10:10:52 -0800 (PST) DKIM-Signature: v=1; a=rsa-sha256; c=relaxed/relaxed; d=iol.unh.edu; s=unh-iol; t=1738951851; x=1739556651; darn=dpdk.org; h=references:in-reply-to:cc:to:from:subject:message-id:date:from:to :cc:subject:date:message-id:reply-to; bh=g60ALd9X02Mg/Xu4NcfL7OvV9quPTdlzjLo4TP0il2I=; b=aa0js5sUoMtjK4b5y6tT8fTyk5a1fYwARctqxH4o2eSs9jZNmxGqJ8Zvf8R3twWRYs eB4dtFyuoDlBG9tY8ZHQdrQ/1w2TJqCncHyvt3lUbzdaL+cA+K6CFY96H98ZHK6kmpFC WqbA3RDKxpbo1E6+yR6WU8yEsM9iEU6tBY818= X-Google-DKIM-Signature: v=1; a=rsa-sha256; c=relaxed/relaxed; d=1e100.net; s=20230601; t=1738951851; x=1739556651; h=references:in-reply-to:cc:to:from:subject:message-id:date :x-gm-message-state:from:to:cc:subject:date:message-id:reply-to; bh=g60ALd9X02Mg/Xu4NcfL7OvV9quPTdlzjLo4TP0il2I=; b=bthEqyKcO2P5Fo1FIVIVC/Zp1etFvihbcuutWN1tE9/wHvW9FgrY6uuyuvLA7wu672 L/jsLam0YNwz+aq0dzWAVa/njG2CCXxq1F6sdLro/9Kj2ze6vmR9lJ6Vw9FUUwrC/nSh LvoAdaShICbdb20N/FVNcK0AkF2HyvRBn57hu4L5n2zwNtM0P1IvqWOb1bQro6L65/kk GUjs41nZgspz8FUjw5/hgKkvG3HnCyk9ocaHHVqFX+vcuv7p8+RKme8rHx5bgM1woICu zvG24/ttb61qsN31/3KpHaeXplntfYblpfsKfDGsFMfTon9/vIk1qcn6bknFcmFYi51w yYnQ== X-Gm-Message-State: AOJu0YxsKxP1ps62fl8pNxjgfk6tMc6nGbobpH5WuUDwywNz9ZzssM4F 1LkAuBRcy2JK+3nnpY+YEW8N2nIDlekNp8/2Kf7fGpi4FosFIMeZdcFii8NFZaAeUsS5mNfLFcM sHfAISPW8zmumKg/S+Kl41s3M/5I2+osA0wq2NUzj X-Gm-Gg: ASbGncvifFTLUcEuQPaKThBzSCr5GZtNqxxSNlRDcA9B1YEcqBKtpleMIYjPD45oIeF dPXqnRdnl3D4fV+S7Is3SfRthLhlfttPKAkfdwm7Cu9UctcpUOJAyEf11n19ZELoQE5IYJTnnkj 2T/KVmrR28HmWJmvHQqAoZ4P8Ov5Lln6B9R2/2Fliinr4moXwa+t8lxifS8RzQD+RM8abAn11Lk VpLWdfpfe79PzHrE9u1AsCpa+3AbSeZNT52DL5rTb4kkGBc2iw2eFBXNARgnS8uwf0W4MQAtN3F Ggda61U/v+/Tmmr5f18/Qe8tivLI2A== X-Google-Smtp-Source: AGHT+IE7zejAzHJ83gRZE6PCxwOwasWu6ZIWMvcR9a6izdTPwJqN8X29sOToBxI/BkPq2Bw8bBxbNZn63IUd X-Received: by 2002:a05:6902:2389:b0:e57:3c46:fc86 with SMTP id 3f1490d57ef6-e5b462b177cmr3616280276.48.1738951850043; Fri, 07 Feb 2025 10:10:50 -0800 (PST) Received: from postal.iol.unh.edu (postal.iol.unh.edu. [132.177.123.84]) by smtp-relay.gmail.com with ESMTPS id 3f1490d57ef6-e5b3a21e1desm209315276.12.2025.02.07.10.10.49 (version=TLS1_2 cipher=ECDHE-ECDSA-AES128-GCM-SHA256 bits=128/128); Fri, 07 Feb 2025 10:10:50 -0800 (PST) X-Relaying-Domain: iol.unh.edu Date: Fri, 07 Feb 2025 10:10:50 -0800 (PST) Message-ID: <67a64caa.250a0220.1b5a2f.b26aSMTPIN_ADDED_MISSING@mx.google.com> Received: from [172.21.0.9] (unknown [172.18.0.240]) by postal.iol.unh.edu (Postfix) with ESMTP id 917636052472; Fri, 7 Feb 2025 13:10:19 -0500 (EST) Subject: |SUCCESS| pw151090-151091 [PATCH] [v9,2/2] net/af_xdp: Refactor af_x From: dpdklab@iol.unh.edu To: Test Report Cc: dpdk-test-reports@iol.unh.edu In-Reply-To: <20250207104552.1663519-3-ariel.otilibili@6wind.com> References: <20250207104552.1663519-3-ariel.otilibili@6wind.com> Content-Type: text/plain X-BeenThere: test-report@dpdk.org X-Mailman-Version: 2.1.29 Precedence: list List-Id: automatic DPDK test reports List-Unsubscribe: , List-Archive: List-Post: List-Help: List-Subscribe: , Errors-To: test-report-bounces@dpdk.org Test-Label: iol-compile-amd64-testing Test-Status: SUCCESS http://dpdk.org/patch/151091 _Testing PASS_ Submitter: Ariel Otilibili Date: Friday, February 07 2025 10:45:52 DPDK git baseline: Repo:dpdk Branch: master CommitID:e5ece9ae686535f29ae72c03fec26dc16ff7a925 151090-151091 --> testing pass Upstream job id: Windows-Compile-DPDK-Native#26523 Test environment and result as below: +---------------------+-------------------------+--------------------+-------------------+----------------------+ | Environment | dpdk_llvm_clang_compile | dpdk_meson_compile | dpdk_msvc_compile | dpdk_mingw64_compile | +=====================+=========================+====================+===================+======================+ | Windows Server 2022 | PASS | SKIPPED | PASS | PASS | +---------------------+-------------------------+--------------------+-------------------+----------------------+ | FreeBSD 13.4 | SKIPPED | PASS | SKIPPED | SKIPPED | +---------------------+-------------------------+--------------------+-------------------+----------------------+ | FreeBSD 14.2 | SKIPPED | PASS | SKIPPED | SKIPPED | +---------------------+-------------------------+--------------------+-------------------+----------------------+ Windows Server 2022 Kernel: 10.0.20348.2031 Compiler: clang 15.0.7, gcc 14.1.0 (MinGW), and MSVC VS 19.39.33521 FreeBSD 13.4 Kernel: 13.4-RELEASE-p1 Compiler: clang 18.1.6 FreeBSD 14.2 Kernel: 14.2-RELEASE Compiler: clang 18.1.6 To view detailed results, visit: https://lab.dpdk.org/results/dashboard/patchsets/32522/ UNH-IOL DPDK Community Lab To manage your email subscriptions, visit: https://lab.dpdk.org/results/dashboard/preferences/subscriptions/