From mboxrd@z Thu Jan 1 00:00:00 1970 Return-Path: Received: from mails.dpdk.org (mails.dpdk.org [217.70.189.124]) by inbox.dpdk.org (Postfix) with ESMTP id C33EE461BE for ; Fri, 7 Feb 2025 19:11:01 +0100 (CET) Received: from mails.dpdk.org (localhost [127.0.0.1]) by mails.dpdk.org (Postfix) with ESMTP id BBCAC42ED5; Fri, 7 Feb 2025 19:11:01 +0100 (CET) Received: from mail-il1-f226.google.com (mail-il1-f226.google.com [209.85.166.226]) by mails.dpdk.org (Postfix) with ESMTP id D03BE42E90 for ; Fri, 7 Feb 2025 19:10:59 +0100 (CET) Received: by mail-il1-f226.google.com with SMTP id e9e14a558f8ab-3d0465a8d34so18043925ab.0 for ; Fri, 07 Feb 2025 10:10:59 -0800 (PST) DKIM-Signature: v=1; a=rsa-sha256; c=relaxed/relaxed; d=iol.unh.edu; s=unh-iol; t=1738951859; x=1739556659; darn=dpdk.org; h=references:in-reply-to:cc:to:from:subject:message-id:date:from:to :cc:subject:date:message-id:reply-to; bh=ptX8kDRAWXstVkCEyAGbZ7YydY9vdkKvBfun5iC7v0c=; b=c3eSCYzaCqNdBxqORliDYlsQrZmaY8YWRs4Hx5tNkVtu6+19DwDtDohWCgyurv3sfW fAxKVAlBNf/FC+6Edz53oD+u5W6OPTwADTPGZ+i0SV1EL1um/G8mKgAVMXb0Nd1Y0FYa CyUF0lxiRhN001F6V9vpPA8/No0uMCf+ibmh0= X-Google-DKIM-Signature: v=1; a=rsa-sha256; c=relaxed/relaxed; d=1e100.net; s=20230601; t=1738951859; x=1739556659; h=references:in-reply-to:cc:to:from:subject:message-id:date :x-gm-message-state:from:to:cc:subject:date:message-id:reply-to; bh=ptX8kDRAWXstVkCEyAGbZ7YydY9vdkKvBfun5iC7v0c=; b=fAvzO8o0w1pObs+Z8x1bgwkMZzTgGe0q1mad6Z0g0MWXemoFPeymzAQaoRwO1HBIrk n5oBZ99lJIjV7ZZq4vtS8f0Es+v03OQxx3uW3e5Z56veKij4RKUrI1sVov60qnMJFg48 3NOs+6d0PDlMQi+GDOvWlC5VwLgNgrwqNAmFMRLO/023E1H9AH8bguEUq7sbna1sEIE4 nDqNki0jTB1z4dsNkrQVH2Wkhwd9vSmM7O3Drz1afZqU/lD404bCqERKWlahg8P8Cdnj fZ9JHFlsqbk14e192U5IlCyU+/SHC+olhgDDGtXpu6Jzvvj1I4Q+cekU5dQwVO1U9r3P nwHw== X-Gm-Message-State: AOJu0Yy0cYzytDRcM/cj1ZB1/skPn4TJbIpOcQLrLNdGs8DW9wSzvumg sXPXfx/Phi/dUaM7GIWyB+FWEQ4HQoLTjdCwouhw0yPVAcbmyye4Sl4NB8F//qafi8kGqo0wyKZ H00kEs60UvzcWCeNwazMzQdu3D8bEgjpKAFOQe++r X-Gm-Gg: ASbGnctfFFZP5yDC1o/VdliQ6eAM5IWt5RzPeL8NVN4HgebnXYCU3fiCRdb55au2fgJ 3Y65KNm/DqQjmO1qTDfEhyecwxrRrfyVuSK/E7nmf0MML1pX/hg+MdpHDrEJUaGJlKEqC11a0MR tswsxo0wXYTqCaRQFbo6ZtwQy28Ats93WyyxRWz2T4WWfq5gPa86pEJm0h7ynON8l/LGELOG84e KtRNYpZH5T1WQWNUo+07nNoJtKQtSfI9ik2+sPuf6wVJNSTwmsKfgDcM+YtDkUmKG/t9i6MnilT poyUI/nVQARvAArFaZyjf2iGj9BW1w== X-Google-Smtp-Source: AGHT+IG9P9t/EX/RNmkK36jD5xT3toMVW4xYGvCzAtAaQE3iiDDKdNTZLKWd+rr2SPLM/2cbkmameTEAXfbp X-Received: by 2002:a05:6e02:1c83:b0:3ce:69ca:ef99 with SMTP id e9e14a558f8ab-3d13dd37ff7mr27447095ab.6.1738951859249; Fri, 07 Feb 2025 10:10:59 -0800 (PST) Received: from postal.iol.unh.edu (postal.iol.unh.edu. [132.177.123.84]) by smtp-relay.gmail.com with ESMTPS id 8926c6da1cb9f-4eccfad6a85sm240698173.71.2025.02.07.10.10.59 (version=TLS1_2 cipher=ECDHE-ECDSA-AES128-GCM-SHA256 bits=128/128); Fri, 07 Feb 2025 10:10:59 -0800 (PST) X-Relaying-Domain: iol.unh.edu Date: Fri, 07 Feb 2025 10:10:59 -0800 (PST) Message-ID: <67a64cb3.050a0220.2415b8.c41bSMTPIN_ADDED_MISSING@mx.google.com> Received: from [172.21.0.6] (unknown [172.18.0.240]) by postal.iol.unh.edu (Postfix) with ESMTP id C14E36052472; Fri, 7 Feb 2025 13:10:58 -0500 (EST) Subject: |WARNING| pw149505-149507 [PATCH] [v3,3/3] drivers/net: add diagnost From: dpdklab@iol.unh.edu To: Test Report Cc: dpdk-test-reports@iol.unh.edu In-Reply-To: <1735355910-1175-4-git-send-email-andremue@linux.microsoft.com> References: <1735355910-1175-4-git-send-email-andremue@linux.microsoft.com> Content-Type: text/plain X-BeenThere: test-report@dpdk.org X-Mailman-Version: 2.1.29 Precedence: list List-Id: automatic DPDK test reports List-Unsubscribe: , List-Archive: List-Post: List-Help: List-Subscribe: , Errors-To: test-report-bounces@dpdk.org Test-Label: iol-compile-amd64-testing Test-Status: WARNING http://dpdk.org/patch/149507 _Testing issues_ Submitter: Andre Muezerie Date: Saturday, December 28 2024 03:18:30 DPDK git baseline: Repo:dpdk Branch: master CommitID:fd51012de5369679e807be1d6a81d63ef15015ce 149505-149507 --> testing issues Test environment and result as below: +---------------------+--------------------+------------------+-------------------+-------------------------+-------------------+----------------------+ | Environment | dpdk_meson_compile | dpdk_compile_ovs | dpdk_compile_spdk | dpdk_llvm_clang_compile | dpdk_msvc_compile | dpdk_mingw64_compile | +=====================+====================+==================+===================+=========================+===================+======================+ | CentOS Stream 9 | PASS | PASS | PASS | SKIPPED | SKIPPED | SKIPPED | +---------------------+--------------------+------------------+-------------------+-------------------------+-------------------+----------------------+ | Fedora 40 (Clang) | PASS | PASS | PASS | SKIPPED | SKIPPED | SKIPPED | +---------------------+--------------------+------------------+-------------------+-------------------------+-------------------+----------------------+ | Debian 12 | PASS | PASS | PASS | SKIPPED | SKIPPED | SKIPPED | +---------------------+--------------------+------------------+-------------------+-------------------------+-------------------+----------------------+ | Fedora 40 | PASS | PASS | PASS | SKIPPED | SKIPPED | SKIPPED | +---------------------+--------------------+------------------+-------------------+-------------------------+-------------------+----------------------+ | Fedora 41 (Clang) | PASS | PASS | PASS | SKIPPED | SKIPPED | SKIPPED | +---------------------+--------------------+------------------+-------------------+-------------------------+-------------------+----------------------+ | openSUSE Leap 15 | PASS | WARN | SKIPPED | SKIPPED | SKIPPED | SKIPPED | +---------------------+--------------------+------------------+-------------------+-------------------------+-------------------+----------------------+ | RHEL8 | PASS | PASS | SKIPPED | SKIPPED | SKIPPED | SKIPPED | +---------------------+--------------------+------------------+-------------------+-------------------------+-------------------+----------------------+ | RHEL9 | PASS | PASS | SKIPPED | SKIPPED | SKIPPED | SKIPPED | +---------------------+--------------------+------------------+-------------------+-------------------------+-------------------+----------------------+ | Ubuntu 20.04 | PASS | SKIPPED | SKIPPED | SKIPPED | SKIPPED | SKIPPED | +---------------------+--------------------+------------------+-------------------+-------------------------+-------------------+----------------------+ | Ubuntu 22.04 | PASS | PASS | PASS | SKIPPED | SKIPPED | SKIPPED | +---------------------+--------------------+------------------+-------------------+-------------------------+-------------------+----------------------+ | Ubuntu 24.04 | PASS | PASS | PASS | SKIPPED | SKIPPED | SKIPPED | +---------------------+--------------------+------------------+-------------------+-------------------------+-------------------+----------------------+ | Alpine | PASS | PASS | SKIPPED | SKIPPED | SKIPPED | SKIPPED | +---------------------+--------------------+------------------+-------------------+-------------------------+-------------------+----------------------+ | FreeBSD 13.4 | PASS | SKIPPED | SKIPPED | SKIPPED | SKIPPED | SKIPPED | +---------------------+--------------------+------------------+-------------------+-------------------------+-------------------+----------------------+ | FreeBSD 14.2 | PASS | SKIPPED | SKIPPED | SKIPPED | SKIPPED | SKIPPED | +---------------------+--------------------+------------------+-------------------+-------------------------+-------------------+----------------------+ | Debian Bullseye | PASS | PASS | PASS | SKIPPED | SKIPPED | SKIPPED | +---------------------+--------------------+------------------+-------------------+-------------------------+-------------------+----------------------+ | Fedora 41 | PASS | PASS | PASS | SKIPPED | SKIPPED | SKIPPED | +---------------------+--------------------+------------------+-------------------+-------------------------+-------------------+----------------------+ | Windows Server 2022 | SKIPPED | SKIPPED | SKIPPED | PASS | PASS | PASS | +---------------------+--------------------+------------------+-------------------+-------------------------+-------------------+----------------------+ ==== 20 line log output for openSUSE Leap 15 (dpdk_compile_ovs): ==== --- Failed to get log output --- ==== End log output ==== CentOS Stream 9 Kernel: Depends on container host Compiler: gcc 11.5.0 20240719 (Red Hat 11.5.0-2) Fedora 40 (Clang) Kernel: Depends on container host Compiler: clang 18.1.8 (Fedora 18.1.8-1.fc40) Debian 12 Kernel: Depends on container host Compiler: gcc (Debian 12.2.0-14) 12.2.0 Fedora 40 Kernel: Depends on container host Compiler: gcc 14.2.1 20240912 (Red Hat 14.2.1-3) Fedora 41 (Clang) Kernel: Depends on container host Compiler: clang 19.1.5 (Fedora 19.1.5-1.fc41) openSUSE Leap 15 Kernel: Depends on container host Compiler: gcc (SUSE Linux) 7.5.0 RHEL8 Kernel: Depends on container host Compiler: gcc 8.5.0 20210514 (Red Hat 8.5.0-22) RHEL9 Kernel: Depends on container host Compiler: gcc 11.5.0 20240719 (Red Hat 11.5.0-2) Ubuntu 20.04 Kernel: Depends on container host Compiler: gcc (Ubuntu 9.4.0-1ubuntu1~20.04.2) 9.4.0 Ubuntu 22.04 Kernel: Depends on container host Compiler: gcc (Ubuntu 11.4.0-1ubuntu1~22.04) 11.4.0 Ubuntu 24.04 Kernel: Depends on container host Compiler: gcc (Ubuntu 13.3.0-6ubuntu2~24.04) 13.3.0 Alpine Kernel: Depends on container host Compiler: gcc (Alpine 14.2.0) 14.2.0 FreeBSD 13.4 Kernel: 13.4-RELEASE-p1 Compiler: clang 18.1.6 FreeBSD 14.2 Kernel: 14.2-RELEASE Compiler: clang 18.1.6 Debian Bullseye Kernel: Depends on container host Compiler: gcc (Debian 10.2.1-6) 10.2.1 20210110 Fedora 41 Kernel: Depends on container host Compiler: gcc 14.2.1 20240912 (Red Hat 14.2.1-3) Windows Server 2022 Kernel: 10.0.20348.2031 Compiler: clang 15.0.7, gcc 14.1.0 (MinGW), and MSVC VS 19.39.33521 To view detailed results, visit: https://lab.dpdk.org/results/dashboard/patchsets/32223/ UNH-IOL DPDK Community Lab To manage your email subscriptions, visit: https://lab.dpdk.org/results/dashboard/preferences/subscriptions/