From mboxrd@z Thu Jan 1 00:00:00 1970 Return-Path: Received: from mails.dpdk.org (mails.dpdk.org [217.70.189.124]) by inbox.dpdk.org (Postfix) with ESMTP id 0C15A461BE for ; Fri, 7 Feb 2025 19:11:29 +0100 (CET) Received: from mails.dpdk.org (localhost [127.0.0.1]) by mails.dpdk.org (Postfix) with ESMTP id 054CA42ED5; Fri, 7 Feb 2025 19:11:29 +0100 (CET) Received: from mail-pl1-f225.google.com (mail-pl1-f225.google.com [209.85.214.225]) by mails.dpdk.org (Postfix) with ESMTP id B2FDC42E90 for ; Fri, 7 Feb 2025 19:11:27 +0100 (CET) Received: by mail-pl1-f225.google.com with SMTP id d9443c01a7336-21670dce0a7so57253755ad.1 for ; Fri, 07 Feb 2025 10:11:27 -0800 (PST) DKIM-Signature: v=1; a=rsa-sha256; c=relaxed/relaxed; d=iol.unh.edu; s=unh-iol; t=1738951887; x=1739556687; darn=dpdk.org; h=references:in-reply-to:cc:to:from:subject:message-id:date:from:to :cc:subject:date:message-id:reply-to; bh=ycHq4mckLS9d6DFLWpZN3Spyl4XuMsshZe7wjpa7J1U=; b=WZIif5KnD9Vyo3/0Cl+lpHx/OKAieuRk6uzfWfo+Opvjplv6/r196f6n6UlCaS9TaU xreSqtYZrR8Kv84lY0VpayUxalWFwbZY/r0chorSHP+bIfUfrURvSMKRm2SyJh3R1uoM FWogKgU5irbd2znIE8MybxahsBoYuh1acUSHg= X-Google-DKIM-Signature: v=1; a=rsa-sha256; c=relaxed/relaxed; d=1e100.net; s=20230601; t=1738951887; x=1739556687; h=references:in-reply-to:cc:to:from:subject:message-id:date :x-gm-message-state:from:to:cc:subject:date:message-id:reply-to; bh=ycHq4mckLS9d6DFLWpZN3Spyl4XuMsshZe7wjpa7J1U=; b=izNEkbbbG/YRWRce9ajauh0FDeBHx3lb9xXObw3BBGFKDETLt+vGV84xwL6ak1Dstz 2C2BKwLtqTVA352ksDGQ9+UYsk7ZJ8huPml1ZTuD7hGtro+7L+OEVpwq1rH4A5iG0AEW OL7u/IVnIfdrw2XcxRGaQq3ms104tc0k5uXWB08HvuSG9vDiclfO0NoQLgC4YUwFB1gY tEBIiYWdjCdvaJ2h8VonVJ/QTDzUXvL6Dqy7aqTRLheLLfIz6DQphq7z8m724qCksEFg zOwHHK3PXVqRvweuH8d5u4lPk3iZTN9+emqpV+h7mubySi55ZWb3SyBNx8LIFxXfss4g Hi3Q== X-Gm-Message-State: AOJu0YzcQGzIAJQDtMVTRcvJONN4Fsl9T8hzAaxobyKZo3Rs4069pEIe wCVlE5JenJ6PfyQG0ZWrEY/mmTeHIBrhxsU+VaD3pgvJsXG7RPQs3GCKyIV1oJCXHdD3vBa1luQ WuBaL31b0Zg+x74tjgm3AvsAvnX0rl4mM7GFKHWMs X-Gm-Gg: ASbGncsFDhDwQdDl1py9LAcaqPm5sc1DuyYCpzUd7X1VOHXTpxxASb8weE50Cbmdep4 r3dJb9UAYJnDHTRNyUf0m9B4OkGZOReY7KPwW23hAWWvkMcO23SD6QG6eDAXNqW3e05KzItHrQK IxfP5nte581u20ZNOXCa++jcsw4YH/CLWiOKf8kWxb7sXbB1QacuWGoR68eWva/ytePZckl3vcs gk5bRwrqGWQg5LNIuPTMN/rXx9Ejv5ZUfG9V6UW1bhZ2ZXQslW/GMUMgi/7zeIgMxSJCgE03lDL eZ60PUuctHBClHRc1pEUcJY3uMRQlA== X-Google-Smtp-Source: AGHT+IH9ZConjyaqVtc/+3x5DjcrRL+uRRvg8wjcGBor5m7n2H92ujpDB1vIXu0LlzRbYSyR/c4VQop0hA8H X-Received: by 2002:a17:902:da87:b0:21f:3abc:b9e8 with SMTP id d9443c01a7336-21f4e7c6aa8mr58159085ad.43.1738951886918; Fri, 07 Feb 2025 10:11:26 -0800 (PST) Received: from postal.iol.unh.edu (postal.iol.unh.edu. [132.177.123.84]) by smtp-relay.gmail.com with ESMTPS id d9443c01a7336-21f3650cf47sm2092735ad.24.2025.02.07.10.11.26 (version=TLS1_2 cipher=ECDHE-ECDSA-AES128-GCM-SHA256 bits=128/128); Fri, 07 Feb 2025 10:11:26 -0800 (PST) X-Relaying-Domain: iol.unh.edu Date: Fri, 07 Feb 2025 10:11:26 -0800 (PST) Message-ID: <67a64cce.170a0220.1d2f1b.a80cSMTPIN_ADDED_MISSING@mx.google.com> Received: from [172.21.0.9] (unknown [172.18.0.240]) by postal.iol.unh.edu (Postfix) with ESMTP id F373B6052471; Fri, 7 Feb 2025 13:10:55 -0500 (EST) Subject: |WARNING| pw149504 [PATCH] [v2] drivers/net: use intrinsic to access From: dpdklab@iol.unh.edu To: Test Report Cc: dpdk-test-reports@iol.unh.edu In-Reply-To: <1735348983-19590-1-git-send-email-andremue@linux.microsoft.com> References: <1735348983-19590-1-git-send-email-andremue@linux.microsoft.com> Content-Type: text/plain X-BeenThere: test-report@dpdk.org X-Mailman-Version: 2.1.29 Precedence: list List-Id: automatic DPDK test reports List-Unsubscribe: , List-Archive: List-Post: List-Help: List-Subscribe: , Errors-To: test-report-bounces@dpdk.org Test-Label: iol-compile-amd64-testing Test-Status: WARNING http://dpdk.org/patch/149504 _Testing issues_ Submitter: Andre Muezerie Date: Saturday, December 28 2024 01:23:03 DPDK git baseline: Repo:dpdk Branch: master CommitID:fd51012de5369679e807be1d6a81d63ef15015ce 149504 --> testing issues Test environment and result as below: +---------------------+--------------------+------------------+-------------------+-------------------+-------------------------+----------------------+ | Environment | dpdk_meson_compile | dpdk_compile_ovs | dpdk_compile_spdk | dpdk_msvc_compile | dpdk_llvm_clang_compile | dpdk_mingw64_compile | +=====================+====================+==================+===================+===================+=========================+======================+ | CentOS Stream 9 | PASS | PASS | PASS | SKIPPED | SKIPPED | SKIPPED | +---------------------+--------------------+------------------+-------------------+-------------------+-------------------------+----------------------+ | Debian 12 | PASS | PASS | PASS | SKIPPED | SKIPPED | SKIPPED | +---------------------+--------------------+------------------+-------------------+-------------------+-------------------------+----------------------+ | Fedora 41 (Clang) | PASS | PASS | PASS | SKIPPED | SKIPPED | SKIPPED | +---------------------+--------------------+------------------+-------------------+-------------------+-------------------------+----------------------+ | openSUSE Leap 15 | PASS | WARN | SKIPPED | SKIPPED | SKIPPED | SKIPPED | +---------------------+--------------------+------------------+-------------------+-------------------+-------------------------+----------------------+ | Fedora 40 | PASS | PASS | PASS | SKIPPED | SKIPPED | SKIPPED | +---------------------+--------------------+------------------+-------------------+-------------------+-------------------------+----------------------+ | Fedora 40 (Clang) | PASS | PASS | PASS | SKIPPED | SKIPPED | SKIPPED | +---------------------+--------------------+------------------+-------------------+-------------------+-------------------------+----------------------+ | Fedora 41 | PASS | PASS | PASS | SKIPPED | SKIPPED | SKIPPED | +---------------------+--------------------+------------------+-------------------+-------------------+-------------------------+----------------------+ | RHEL8 | PASS | PASS | SKIPPED | SKIPPED | SKIPPED | SKIPPED | +---------------------+--------------------+------------------+-------------------+-------------------+-------------------------+----------------------+ | Ubuntu 20.04 | PASS | SKIPPED | SKIPPED | SKIPPED | SKIPPED | SKIPPED | +---------------------+--------------------+------------------+-------------------+-------------------+-------------------------+----------------------+ | RHEL9 | PASS | PASS | SKIPPED | SKIPPED | SKIPPED | SKIPPED | +---------------------+--------------------+------------------+-------------------+-------------------+-------------------------+----------------------+ | Ubuntu 22.04 | PASS | PASS | PASS | SKIPPED | SKIPPED | SKIPPED | +---------------------+--------------------+------------------+-------------------+-------------------+-------------------------+----------------------+ | Alpine | PASS | PASS | SKIPPED | SKIPPED | SKIPPED | SKIPPED | +---------------------+--------------------+------------------+-------------------+-------------------+-------------------------+----------------------+ | FreeBSD 13.4 | PASS | SKIPPED | SKIPPED | SKIPPED | SKIPPED | SKIPPED | +---------------------+--------------------+------------------+-------------------+-------------------+-------------------------+----------------------+ | FreeBSD 14.2 | PASS | SKIPPED | SKIPPED | SKIPPED | SKIPPED | SKIPPED | +---------------------+--------------------+------------------+-------------------+-------------------+-------------------------+----------------------+ | Debian Bullseye | PASS | PASS | PASS | SKIPPED | SKIPPED | SKIPPED | +---------------------+--------------------+------------------+-------------------+-------------------+-------------------------+----------------------+ | Ubuntu 24.04 | PASS | PASS | PASS | SKIPPED | SKIPPED | SKIPPED | +---------------------+--------------------+------------------+-------------------+-------------------+-------------------------+----------------------+ | Windows Server 2022 | SKIPPED | SKIPPED | SKIPPED | PASS | PASS | PASS | +---------------------+--------------------+------------------+-------------------+-------------------+-------------------------+----------------------+ ==== 20 line log output for openSUSE Leap 15 (dpdk_compile_ovs): ==== --- Failed to get log output --- ==== End log output ==== CentOS Stream 9 Kernel: Depends on container host Compiler: gcc 11.5.0 20240719 (Red Hat 11.5.0-2) Debian 12 Kernel: Depends on container host Compiler: gcc (Debian 12.2.0-14) 12.2.0 Fedora 41 (Clang) Kernel: Depends on container host Compiler: clang 19.1.5 (Fedora 19.1.5-1.fc41) openSUSE Leap 15 Kernel: Depends on container host Compiler: gcc (SUSE Linux) 7.5.0 Fedora 40 Kernel: Depends on container host Compiler: gcc 14.2.1 20240912 (Red Hat 14.2.1-3) Fedora 40 (Clang) Kernel: Depends on container host Compiler: clang 18.1.8 (Fedora 18.1.8-1.fc40) Fedora 41 Kernel: Depends on container host Compiler: gcc 14.2.1 20240912 (Red Hat 14.2.1-3) RHEL8 Kernel: Depends on container host Compiler: gcc 8.5.0 20210514 (Red Hat 8.5.0-22) Ubuntu 20.04 Kernel: Depends on container host Compiler: gcc (Ubuntu 9.4.0-1ubuntu1~20.04.2) 9.4.0 RHEL9 Kernel: Depends on container host Compiler: gcc 11.5.0 20240719 (Red Hat 11.5.0-2) Ubuntu 22.04 Kernel: Depends on container host Compiler: gcc (Ubuntu 11.4.0-1ubuntu1~22.04) 11.4.0 Alpine Kernel: Depends on container host Compiler: gcc (Alpine 14.2.0) 14.2.0 FreeBSD 13.4 Kernel: 13.4-RELEASE-p1 Compiler: clang 18.1.6 FreeBSD 14.2 Kernel: 14.2-RELEASE Compiler: clang 18.1.6 Debian Bullseye Kernel: Depends on container host Compiler: gcc (Debian 10.2.1-6) 10.2.1 20210110 Ubuntu 24.04 Kernel: Depends on container host Compiler: gcc (Ubuntu 13.3.0-6ubuntu2~24.04) 13.3.0 Windows Server 2022 Kernel: 10.0.20348.2031 Compiler: clang 15.0.7, gcc 14.1.0 (MinGW), and MSVC VS 19.39.33521 To view detailed results, visit: https://lab.dpdk.org/results/dashboard/patchsets/32222/ UNH-IOL DPDK Community Lab To manage your email subscriptions, visit: https://lab.dpdk.org/results/dashboard/preferences/subscriptions/