From mboxrd@z Thu Jan 1 00:00:00 1970 Return-Path: Received: from mails.dpdk.org (mails.dpdk.org [217.70.189.124]) by inbox.dpdk.org (Postfix) with ESMTP id 17109461BE for ; Fri, 7 Feb 2025 19:11:32 +0100 (CET) Received: from mails.dpdk.org (localhost [127.0.0.1]) by mails.dpdk.org (Postfix) with ESMTP id 1488642ED5; Fri, 7 Feb 2025 19:11:32 +0100 (CET) Received: from mail-yb1-f226.google.com (mail-yb1-f226.google.com [209.85.219.226]) by mails.dpdk.org (Postfix) with ESMTP id E6F7242E90 for ; Fri, 7 Feb 2025 19:11:30 +0100 (CET) Received: by mail-yb1-f226.google.com with SMTP id 3f1490d57ef6-e549b0f8d57so2148058276.3 for ; Fri, 07 Feb 2025 10:11:30 -0800 (PST) DKIM-Signature: v=1; a=rsa-sha256; c=relaxed/relaxed; d=iol.unh.edu; s=unh-iol; t=1738951890; x=1739556690; darn=dpdk.org; h=references:in-reply-to:cc:to:from:subject:message-id:date:from:to :cc:subject:date:message-id:reply-to; bh=2jWqiv5HRFWx7gAdZG8uBKWuB1/LVC5dmNNOtMLUTEo=; b=h15YhX7gg6dbCrH+L29Js8ObHlQH0TbHaVRolXO8TrymZyQUKh8FOniVekkX4+QvRo dzqWpmF+bCtZygEwgs5nDerM09CoPaUZcX961Ke3RVliIY05pVv4Et6eqnD8vyBuNkO/ ZmP9uTWMPhfe3Y0ewx7W5HRpA8Vdhs2eyd5w4= X-Google-DKIM-Signature: v=1; a=rsa-sha256; c=relaxed/relaxed; d=1e100.net; s=20230601; t=1738951890; x=1739556690; h=references:in-reply-to:cc:to:from:subject:message-id:date :x-gm-message-state:from:to:cc:subject:date:message-id:reply-to; bh=2jWqiv5HRFWx7gAdZG8uBKWuB1/LVC5dmNNOtMLUTEo=; b=G/6UqK5DcB2xeKNOSu/YsUKpcMHoJuqltyS65L0PRFWd03zVasROcUPv3lEcdgqGZS ZqIRFjHMXcazhQzBQM6GPtkohMkQmZIU2ypZWFGR1X0aFzhio5n8iEvpA5uFqavmG+Mi KuUXOjJrW1C9gVZE4yoNC79WdHPCwwbidTWHmZs9sD7K2JB8rqqSs4MVWdTyOR1SXchf fLahRuFOyv++r+04krFsprMM/uEcePsXSXrSaQwNAmSCNSUPtaiqR0/fLG7mh38ac5e8 gLpM9j3eQ+q6V9N8nVbTvKntvmm1aPQLqqizEwvh/k1Ahmm7XtcpAr9LaEAVgwAQ5Gzm aayQ== X-Gm-Message-State: AOJu0YxgHO91VjgjtKWuvfBQ5hZTzhuMZO/E6jzs1Juhq9yeVxEI4gy9 AVEXF2u1JfliwvanZ6Gzc6NbJVDJTdlZEpZbu4LmxublrKXx1fqU/XzAc0SX4KhFv/DE22ybijz EAgAtlrHRSNRdl+VieOUBOPAfLM4JY2a5O/tGFOVu X-Gm-Gg: ASbGnctHnyNtW4MlATJ0cePP1fnq2KTuD5f2m5BPpX5uQ63MFfDnlVs4DBM/RWpVoXh ZA7Bl8ifwq0ftCUQDDycz6nTL0znClTreXhqC1i7ab5axm8dR9UMkv9aGD6ykXrT2uZtJ0N4gVH 2fvoPzRDxqED+JcqWmeS04sMv9CFXkQ8QrN1phCo9zWQtiP1e54/yIP+6v+AONlnAqJN9KUSocs akc581ZX5O3vcRCqNM2/CWWQfDcsN4AAwpuX6BqctVoq7YSwD0BqFNllnG8+bRdzUG6Qpws2Ts9 fdea80BisbeXVXtNkL6QIMzdZe6OaA== X-Google-Smtp-Source: AGHT+IHOeOR4iNxqsFb1IRKWvfSiO1OhTUo4NxBK++YhjtEQm3C1CHpijxC58jBe2NRtWWPvX3AMK9p+msxv X-Received: by 2002:a05:6902:250b:b0:e3c:7c3f:253a with SMTP id 3f1490d57ef6-e5b4629287amr3394296276.36.1738951890268; Fri, 07 Feb 2025 10:11:30 -0800 (PST) Received: from postal.iol.unh.edu (postal.iol.unh.edu. [132.177.123.84]) by smtp-relay.gmail.com with ESMTPS id 3f1490d57ef6-e5b3a46d032sm227967276.30.2025.02.07.10.11.30 (version=TLS1_2 cipher=ECDHE-ECDSA-AES128-GCM-SHA256 bits=128/128); Fri, 07 Feb 2025 10:11:30 -0800 (PST) X-Relaying-Domain: iol.unh.edu Date: Fri, 07 Feb 2025 10:11:30 -0800 (PST) Message-ID: <67a64cd2.250a0220.19872.c1ffSMTPIN_ADDED_MISSING@mx.google.com> Received: from [172.21.0.6] (unknown [172.18.0.240]) by postal.iol.unh.edu (Postfix) with ESMTP id DE3D46052471; Fri, 7 Feb 2025 13:11:29 -0500 (EST) Subject: |WARNING| pw149499 [PATCH] lib/eventdev: use correct format string f From: dpdklab@iol.unh.edu To: Test Report Cc: dpdk-test-reports@iol.unh.edu In-Reply-To: <1735316285-16478-1-git-send-email-andremue@linux.microsoft.com> References: <1735316285-16478-1-git-send-email-andremue@linux.microsoft.com> Content-Type: text/plain X-BeenThere: test-report@dpdk.org X-Mailman-Version: 2.1.29 Precedence: list List-Id: automatic DPDK test reports List-Unsubscribe: , List-Archive: List-Post: List-Help: List-Subscribe: , Errors-To: test-report-bounces@dpdk.org Test-Label: iol-compile-amd64-testing Test-Status: WARNING http://dpdk.org/patch/149499 _Testing issues_ Submitter: Andre Muezerie Date: Friday, December 27 2024 16:18:05 DPDK git baseline: Repo:dpdk Branch: master CommitID:1b3bf1128d9bda5595861814792f74b8f57160c8 149499 --> testing issues Test environment and result as below: +---------------------+--------------------+------------------+-------------------+-------------------+-------------------------+----------------------+ | Environment | dpdk_meson_compile | dpdk_compile_ovs | dpdk_compile_spdk | dpdk_msvc_compile | dpdk_llvm_clang_compile | dpdk_mingw64_compile | +=====================+====================+==================+===================+===================+=========================+======================+ | CentOS Stream 9 | PASS | PASS | PASS | SKIPPED | SKIPPED | SKIPPED | +---------------------+--------------------+------------------+-------------------+-------------------+-------------------------+----------------------+ | Debian Bullseye | PASS | PASS | PASS | SKIPPED | SKIPPED | SKIPPED | +---------------------+--------------------+------------------+-------------------+-------------------+-------------------------+----------------------+ | Fedora 40 (Clang) | PASS | PASS | PASS | SKIPPED | SKIPPED | SKIPPED | +---------------------+--------------------+------------------+-------------------+-------------------+-------------------------+----------------------+ | Debian 12 | PASS | PASS | PASS | SKIPPED | SKIPPED | SKIPPED | +---------------------+--------------------+------------------+-------------------+-------------------+-------------------------+----------------------+ | Fedora 40 | PASS | PASS | PASS | SKIPPED | SKIPPED | SKIPPED | +---------------------+--------------------+------------------+-------------------+-------------------+-------------------------+----------------------+ | Fedora 41 (Clang) | PASS | PASS | PASS | SKIPPED | SKIPPED | SKIPPED | +---------------------+--------------------+------------------+-------------------+-------------------+-------------------------+----------------------+ | Fedora 41 | PASS | PASS | PASS | SKIPPED | SKIPPED | SKIPPED | +---------------------+--------------------+------------------+-------------------+-------------------+-------------------------+----------------------+ | RHEL8 | PASS | PASS | SKIPPED | SKIPPED | SKIPPED | SKIPPED | +---------------------+--------------------+------------------+-------------------+-------------------+-------------------------+----------------------+ | RHEL9 | PASS | PASS | SKIPPED | SKIPPED | SKIPPED | SKIPPED | +---------------------+--------------------+------------------+-------------------+-------------------+-------------------------+----------------------+ | Ubuntu 20.04 | PASS | SKIPPED | SKIPPED | SKIPPED | SKIPPED | SKIPPED | +---------------------+--------------------+------------------+-------------------+-------------------+-------------------------+----------------------+ | Ubuntu 22.04 | PASS | PASS | PASS | SKIPPED | SKIPPED | SKIPPED | +---------------------+--------------------+------------------+-------------------+-------------------+-------------------------+----------------------+ | Ubuntu 24.04 | PASS | PASS | PASS | SKIPPED | SKIPPED | SKIPPED | +---------------------+--------------------+------------------+-------------------+-------------------+-------------------------+----------------------+ | Alpine | PASS | PASS | SKIPPED | SKIPPED | SKIPPED | SKIPPED | +---------------------+--------------------+------------------+-------------------+-------------------+-------------------------+----------------------+ | FreeBSD 14.2 | PASS | SKIPPED | SKIPPED | SKIPPED | SKIPPED | SKIPPED | +---------------------+--------------------+------------------+-------------------+-------------------+-------------------------+----------------------+ | openSUSE Leap 15 | PASS | WARN | SKIPPED | SKIPPED | SKIPPED | SKIPPED | +---------------------+--------------------+------------------+-------------------+-------------------+-------------------------+----------------------+ | FreeBSD 13.4 | PASS | SKIPPED | SKIPPED | SKIPPED | SKIPPED | SKIPPED | +---------------------+--------------------+------------------+-------------------+-------------------+-------------------------+----------------------+ | Windows Server 2022 | SKIPPED | SKIPPED | SKIPPED | PASS | PASS | PASS | +---------------------+--------------------+------------------+-------------------+-------------------+-------------------------+----------------------+ ==== 20 line log output for openSUSE Leap 15 (dpdk_compile_ovs): ==== --- Failed to get log output --- ==== End log output ==== CentOS Stream 9 Kernel: Depends on container host Compiler: gcc 11.5.0 20240719 (Red Hat 11.5.0-2) Debian Bullseye Kernel: Depends on container host Compiler: gcc (Debian 10.2.1-6) 10.2.1 20210110 Fedora 40 (Clang) Kernel: Depends on container host Compiler: clang 18.1.8 (Fedora 18.1.8-1.fc40) Debian 12 Kernel: Depends on container host Compiler: gcc (Debian 12.2.0-14) 12.2.0 Fedora 40 Kernel: Depends on container host Compiler: gcc 14.2.1 20240912 (Red Hat 14.2.1-3) Fedora 41 (Clang) Kernel: Depends on container host Compiler: clang 19.1.5 (Fedora 19.1.5-1.fc41) Fedora 41 Kernel: Depends on container host Compiler: gcc 14.2.1 20240912 (Red Hat 14.2.1-3) RHEL8 Kernel: Depends on container host Compiler: gcc 8.5.0 20210514 (Red Hat 8.5.0-22) RHEL9 Kernel: Depends on container host Compiler: gcc 11.5.0 20240719 (Red Hat 11.5.0-2) Ubuntu 20.04 Kernel: Depends on container host Compiler: gcc (Ubuntu 9.4.0-1ubuntu1~20.04.2) 9.4.0 Ubuntu 22.04 Kernel: Depends on container host Compiler: gcc (Ubuntu 11.4.0-1ubuntu1~22.04) 11.4.0 Ubuntu 24.04 Kernel: Depends on container host Compiler: gcc (Ubuntu 13.3.0-6ubuntu2~24.04) 13.3.0 Alpine Kernel: Depends on container host Compiler: gcc (Alpine 14.2.0) 14.2.0 FreeBSD 14.2 Kernel: 14.2-RELEASE Compiler: clang 18.1.6 openSUSE Leap 15 Kernel: Depends on container host Compiler: gcc (SUSE Linux) 7.5.0 FreeBSD 13.4 Kernel: 13.4-RELEASE-p1 Compiler: clang 18.1.6 Windows Server 2022 Kernel: 10.0.20348.2031 Compiler: clang 15.0.7, gcc 14.1.0 (MinGW), and MSVC VS 19.39.33521 To view detailed results, visit: https://lab.dpdk.org/results/dashboard/patchsets/32219/ UNH-IOL DPDK Community Lab To manage your email subscriptions, visit: https://lab.dpdk.org/results/dashboard/preferences/subscriptions/