From mboxrd@z Thu Jan 1 00:00:00 1970 Return-Path: Received: from mails.dpdk.org (mails.dpdk.org [217.70.189.124]) by inbox.dpdk.org (Postfix) with ESMTP id BED9B461BE for ; Fri, 7 Feb 2025 19:11:38 +0100 (CET) Received: from mails.dpdk.org (localhost [127.0.0.1]) by mails.dpdk.org (Postfix) with ESMTP id BBAB042EDD; Fri, 7 Feb 2025 19:11:38 +0100 (CET) Received: from mail-yb1-f226.google.com (mail-yb1-f226.google.com [209.85.219.226]) by mails.dpdk.org (Postfix) with ESMTP id DAD5242E90 for ; Fri, 7 Feb 2025 19:11:35 +0100 (CET) Received: by mail-yb1-f226.google.com with SMTP id 3f1490d57ef6-e5b107c4346so1948195276.2 for ; Fri, 07 Feb 2025 10:11:35 -0800 (PST) DKIM-Signature: v=1; a=rsa-sha256; c=relaxed/relaxed; d=iol.unh.edu; s=unh-iol; t=1738951895; x=1739556695; darn=dpdk.org; h=references:in-reply-to:cc:to:from:subject:message-id:date:from:to :cc:subject:date:message-id:reply-to; bh=oSZCD4FdhvT+lutnGRbVvvcCC3qtJX376huqDqNQH74=; b=flEyjs0f0g5cN5BWkpF5ykt4dWEjSswlcCJAQRewat4HGwmr6qNs1YCl+iCC64nwTn BkBVhiG2W90jRPU6y7amvbZnjEofFAWGDRzrtSas5RFBIxFEF0od9w4Ekj1H3zam0AXT 5guzjOboV2Vtv4yTjlgKa3rVSCDPvFlk1v4LQ= X-Google-DKIM-Signature: v=1; a=rsa-sha256; c=relaxed/relaxed; d=1e100.net; s=20230601; t=1738951895; x=1739556695; h=references:in-reply-to:cc:to:from:subject:message-id:date :x-gm-message-state:from:to:cc:subject:date:message-id:reply-to; bh=oSZCD4FdhvT+lutnGRbVvvcCC3qtJX376huqDqNQH74=; b=oyp3BlM3IjjRrLzbjmP57Hy6HUyMVwiWWUNDMAzkoFi3dokveuRq6HlUouh8Onk3Bj MVikDTCs5cCamIo3yzb4lQMB56zR86oQawNdbd9CdzJwiO1537NFTiQm3qndDZRggWKx NGaqXhQ3PHZLHn5Pu8iAG+0zYzsp6rOzS9xPI3LbPHCzOl//F/I+T0VVv7be0AjCL9uw hzI1LRFKUTdvVU973gUTn1X5r1wxzqrz1Fwshz3Qiiw4w7zX/ifm215xoqFBguOfklwj JmGcV/7qxMUpCLKKmIx1E168gW+wInoklSbN8B43KbIquCRNqhMOTbLDEiLFilC28lNt 2+cA== X-Gm-Message-State: AOJu0YyXVWmUezASjdIZhK8FLRNzXRGI547rfyMFO5HiVvx/gUuFAnrB BjezDBvWzkhpunya0AiTgKCOuLjWyLlcxsOhF3jfwryJva8+EG/RR5j+LvE8KUBM5tOjoiw+r4i 1ZNCU1IW1HOQxnBeXd0nG7n5jvVL8TSXNSYE6qrbk X-Gm-Gg: ASbGncu9bbOtPjmRuTxBWvtOkLm68upeBPDVZRkWiO42lvQqfHcJkI43EJg+0zOh9qJ cwWFKH9IxzmlT2y2n8hqJuQQKeC+bRQj1dViYMYtFah27zCF1I3iHd1UR3Olkk+pRwD0aTfPfdA VR9QCSU5o7S2Z+mnLFILzBON76golUvLS7jMk6/0turNpYk/u36tCJud3gUi7gxgBOSm/WZnWcq F5GLmv3JZH/HlAniW8Vf0an0p9lHQI4y6zWrwY0TNGnM+Ua1Fbuw90LrBujx/eenvqE+vj1oPP+ ulErs3mlNpNID9caDTqV+aP4pcctuQ== X-Google-Smtp-Source: AGHT+IHPVSHmn+i/qEiIN17yCSNV2YEOCyF+ad8H0Ud+8N+KwcNlspCpckCOim5HkM4PHeAWWVjG9ritBo+S X-Received: by 2002:a05:6902:118c:b0:e5a:c837:a8c4 with SMTP id 3f1490d57ef6-e5b46178219mr3711750276.6.1738951895262; Fri, 07 Feb 2025 10:11:35 -0800 (PST) Received: from postal.iol.unh.edu (postal.iol.unh.edu. [132.177.123.84]) by smtp-relay.gmail.com with ESMTPS id 3f1490d57ef6-e5b3a241f94sm219039276.18.2025.02.07.10.11.35 (version=TLS1_2 cipher=ECDHE-ECDSA-AES128-GCM-SHA256 bits=128/128); Fri, 07 Feb 2025 10:11:35 -0800 (PST) X-Relaying-Domain: iol.unh.edu Date: Fri, 07 Feb 2025 10:11:35 -0800 (PST) Message-ID: <67a64cd7.250a0220.804ca.d156SMTPIN_ADDED_MISSING@mx.google.com> Received: from [172.21.0.9] (unknown [172.18.0.240]) by postal.iol.unh.edu (Postfix) with ESMTP id E52C06052471; Fri, 7 Feb 2025 13:11:34 -0500 (EST) Subject: |WARNING| pw149496-149498 [PATCH] [3/3] drivers/net: add diagnostics From: dpdklab@iol.unh.edu To: Test Report Cc: dpdk-test-reports@iol.unh.edu In-Reply-To: <1735263196-2809-4-git-send-email-andremue@linux.microsoft.com> References: <1735263196-2809-4-git-send-email-andremue@linux.microsoft.com> Content-Type: text/plain X-BeenThere: test-report@dpdk.org X-Mailman-Version: 2.1.29 Precedence: list List-Id: automatic DPDK test reports List-Unsubscribe: , List-Archive: List-Post: List-Help: List-Subscribe: , Errors-To: test-report-bounces@dpdk.org Test-Label: iol-compile-amd64-testing Test-Status: WARNING http://dpdk.org/patch/149498 _Testing issues_ Submitter: Andre Muezerie Date: Friday, December 27 2024 01:33:16 DPDK git baseline: Repo:dpdk Branch: master CommitID:fd51012de5369679e807be1d6a81d63ef15015ce 149496-149498 --> testing issues Test environment and result as below: +---------------------+--------------------+------------------+-------------------+-------------------+-------------------------+----------------------+ | Environment | dpdk_meson_compile | dpdk_compile_ovs | dpdk_compile_spdk | dpdk_msvc_compile | dpdk_llvm_clang_compile | dpdk_mingw64_compile | +=====================+====================+==================+===================+===================+=========================+======================+ | CentOS Stream 9 | PASS | PASS | PASS | SKIPPED | SKIPPED | SKIPPED | +---------------------+--------------------+------------------+-------------------+-------------------+-------------------------+----------------------+ | Debian Bullseye | PASS | PASS | PASS | SKIPPED | SKIPPED | SKIPPED | +---------------------+--------------------+------------------+-------------------+-------------------+-------------------------+----------------------+ | Debian 12 | PASS | PASS | PASS | SKIPPED | SKIPPED | SKIPPED | +---------------------+--------------------+------------------+-------------------+-------------------+-------------------------+----------------------+ | Fedora 41 (Clang) | PASS | PASS | PASS | SKIPPED | SKIPPED | SKIPPED | +---------------------+--------------------+------------------+-------------------+-------------------+-------------------------+----------------------+ | Fedora 40 (Clang) | PASS | PASS | PASS | SKIPPED | SKIPPED | SKIPPED | +---------------------+--------------------+------------------+-------------------+-------------------+-------------------------+----------------------+ | Fedora 40 | PASS | PASS | PASS | SKIPPED | SKIPPED | SKIPPED | +---------------------+--------------------+------------------+-------------------+-------------------+-------------------------+----------------------+ | Fedora 41 | PASS | PASS | PASS | SKIPPED | SKIPPED | SKIPPED | +---------------------+--------------------+------------------+-------------------+-------------------+-------------------------+----------------------+ | RHEL8 | PASS | PASS | SKIPPED | SKIPPED | SKIPPED | SKIPPED | +---------------------+--------------------+------------------+-------------------+-------------------+-------------------------+----------------------+ | Ubuntu 22.04 | PASS | PASS | PASS | SKIPPED | SKIPPED | SKIPPED | +---------------------+--------------------+------------------+-------------------+-------------------+-------------------------+----------------------+ | RHEL9 | PASS | PASS | SKIPPED | SKIPPED | SKIPPED | SKIPPED | +---------------------+--------------------+------------------+-------------------+-------------------+-------------------------+----------------------+ | openSUSE Leap 15 | PASS | WARN | SKIPPED | SKIPPED | SKIPPED | SKIPPED | +---------------------+--------------------+------------------+-------------------+-------------------+-------------------------+----------------------+ | Alpine | PASS | PASS | SKIPPED | SKIPPED | SKIPPED | SKIPPED | +---------------------+--------------------+------------------+-------------------+-------------------+-------------------------+----------------------+ | Ubuntu 24.04 | PASS | PASS | PASS | SKIPPED | SKIPPED | SKIPPED | +---------------------+--------------------+------------------+-------------------+-------------------+-------------------------+----------------------+ | FreeBSD 13.4 | PASS | SKIPPED | SKIPPED | SKIPPED | SKIPPED | SKIPPED | +---------------------+--------------------+------------------+-------------------+-------------------+-------------------------+----------------------+ | FreeBSD 14.2 | PASS | SKIPPED | SKIPPED | SKIPPED | SKIPPED | SKIPPED | +---------------------+--------------------+------------------+-------------------+-------------------+-------------------------+----------------------+ | Ubuntu 20.04 | PASS | SKIPPED | SKIPPED | SKIPPED | SKIPPED | SKIPPED | +---------------------+--------------------+------------------+-------------------+-------------------+-------------------------+----------------------+ | Windows Server 2022 | SKIPPED | SKIPPED | SKIPPED | PASS | PASS | PASS | +---------------------+--------------------+------------------+-------------------+-------------------+-------------------------+----------------------+ ==== 20 line log output for openSUSE Leap 15 (dpdk_compile_ovs): ==== --- Failed to get log output --- ==== End log output ==== CentOS Stream 9 Kernel: Depends on container host Compiler: gcc 11.5.0 20240719 (Red Hat 11.5.0-2) Debian Bullseye Kernel: Depends on container host Compiler: gcc (Debian 10.2.1-6) 10.2.1 20210110 Debian 12 Kernel: Depends on container host Compiler: gcc (Debian 12.2.0-14) 12.2.0 Fedora 41 (Clang) Kernel: Depends on container host Compiler: clang 19.1.5 (Fedora 19.1.5-1.fc41) Fedora 40 (Clang) Kernel: Depends on container host Compiler: clang 18.1.8 (Fedora 18.1.8-1.fc40) Fedora 40 Kernel: Depends on container host Compiler: gcc 14.2.1 20240912 (Red Hat 14.2.1-3) Fedora 41 Kernel: Depends on container host Compiler: gcc 14.2.1 20240912 (Red Hat 14.2.1-3) RHEL8 Kernel: Depends on container host Compiler: gcc 8.5.0 20210514 (Red Hat 8.5.0-22) Ubuntu 22.04 Kernel: Depends on container host Compiler: gcc (Ubuntu 11.4.0-1ubuntu1~22.04) 11.4.0 RHEL9 Kernel: Depends on container host Compiler: gcc 11.5.0 20240719 (Red Hat 11.5.0-2) openSUSE Leap 15 Kernel: Depends on container host Compiler: gcc (SUSE Linux) 7.5.0 Alpine Kernel: Depends on container host Compiler: gcc (Alpine 14.2.0) 14.2.0 Ubuntu 24.04 Kernel: Depends on container host Compiler: gcc (Ubuntu 13.3.0-6ubuntu2~24.04) 13.3.0 FreeBSD 13.4 Kernel: 13.4-RELEASE-p1 Compiler: clang 18.1.6 FreeBSD 14.2 Kernel: 14.2-RELEASE Compiler: clang 18.1.6 Ubuntu 20.04 Kernel: Depends on container host Compiler: gcc (Ubuntu 9.4.0-1ubuntu1~20.04.2) 9.4.0 Windows Server 2022 Kernel: 10.0.20348.2031 Compiler: clang 15.0.7, gcc 14.1.0 (MinGW), and MSVC VS 19.39.33521 To view detailed results, visit: https://lab.dpdk.org/results/dashboard/patchsets/32218/ UNH-IOL DPDK Community Lab To manage your email subscriptions, visit: https://lab.dpdk.org/results/dashboard/preferences/subscriptions/